BEGIN:VCALENDAR
VERSION:2.0
PRODID:researchseminars.org
CALSCALE:GREGORIAN
X-WR-CALNAME:researchseminars.org
BEGIN:VEVENT
SUMMARY:Elena Pinetti (University of Turin & Sorbonne University)
DTSTART:20201202T192000Z
DTEND:20201202T194000Z
DTSTAMP:20260423T024507Z
UID:3rdSADMW/33
DESCRIPTION:Title: <a href="https://researchseminars.org/talk/3rdSADMW/33/
 ">INTEGRAL X-ray subGeV</a>\nby Elena Pinetti (University of Turin & Sorbo
 nne University) as part of 3rd ICTP-SAIFR South American Dark Matter Works
 hop\n\nAbstract: TBA\n
LOCATION:https://researchseminars.org/talk/3rdSADMW/33/
END:VEVENT
END:VCALENDAR
