BEGIN:VCALENDAR
VERSION:2.0
PRODID:researchseminars.org
CALSCALE:GREGORIAN
X-WR-CALNAME:researchseminars.org
BEGIN:VEVENT
SUMMARY:Anastasia Sokolenko (Austrian Academy of Sciences\, HEPHY)
DTSTART:20201202T190000Z
DTEND:20201202T192000Z
DTSTAMP:20260423T024514Z
UID:3rdSADMW/32
DESCRIPTION:Title: <a href="https://researchseminars.org/talk/3rdSADMW/32/
 ">Dark Particles in the IGM</a>\nby Anastasia Sokolenko (Austrian Academy 
 of Sciences\, HEPHY) as part of 3rd ICTP-SAIFR South American Dark Matter 
 Workshop\n\nAbstract: TBA\n
LOCATION:https://researchseminars.org/talk/3rdSADMW/32/
END:VEVENT
END:VCALENDAR
