BEGIN:VCALENDAR
VERSION:2.0
PRODID:researchseminars.org
CALSCALE:GREGORIAN
X-WR-CALNAME:researchseminars.org
BEGIN:VEVENT
SUMMARY:Arianna di Cintio (Universidad de la laguna- IAC)
DTSTART:20201202T162500Z
DTEND:20201202T164500Z
DTSTAMP:20260423T005742Z
UID:3rdSADMW/25
DESCRIPTION:Title: <a href="https://researchseminars.org/talk/3rdSADMW/25/
 ">Ultra Diffuse Galaxies</a>\nby Arianna di Cintio (Universidad de la lagu
 na- IAC) as part of 3rd ICTP-SAIFR South American Dark Matter Workshop\n\n
 Abstract: TBA\n
LOCATION:https://researchseminars.org/talk/3rdSADMW/25/
END:VEVENT
END:VCALENDAR
