BEGIN:VCALENDAR
VERSION:2.0
PRODID:researchseminars.org
CALSCALE:GREGORIAN
X-WR-CALNAME:researchseminars.org
BEGIN:VEVENT
SUMMARY:Don Zagier
DTSTART:20210628T140000Z
DTEND:20210628T160000Z
DTSTAMP:20260423T024610Z
UID:3mfld/15
DESCRIPTION:Title: <a href="https://researchseminars.org/talk/3mfld/15/">F
 rom 3-manifold invariants to number theory</a>\nby Don Zagier as part of F
 rom 3-manifold invariants to number theory\n\nAbstract: TBA\n
LOCATION:https://researchseminars.org/talk/3mfld/15/
END:VEVENT
END:VCALENDAR
