BEGIN:VCALENDAR
VERSION:2.0
PRODID:researchseminars.org
CALSCALE:GREGORIAN
X-WR-CALNAME:researchseminars.org
BEGIN:VEVENT
SUMMARY:Don Zagier
DTSTART:20210625T120000Z
DTEND:20210625T140000Z
DTSTAMP:20260423T005654Z
UID:3mfld/14
DESCRIPTION:Title: <a href="https://researchseminars.org/talk/3mfld/14/">F
 rom 3-manifold invariants to number theory</a>\nby Don Zagier as part of F
 rom 3-manifold invariants to number theory\n\nAbstract: TBA\n
LOCATION:https://researchseminars.org/talk/3mfld/14/
END:VEVENT
END:VCALENDAR
