BEGIN:VCALENDAR
VERSION:2.0
PRODID:researchseminars.org
CALSCALE:GREGORIAN
X-WR-CALNAME:researchseminars.org
BEGIN:VEVENT
SUMMARY:Monique Laurent (CWI Amsterdam and Tilburg University)
DTSTART:20200721T150000Z
DTEND:20200721T160000Z
DTSTAMP:20260423T021126Z
UID:2TART/22
DESCRIPTION:Title: <a href="https://researchseminars.org/talk/2TART/22/">C
 onvergence Analysis of Approximation Hierarchies for Polynomial Optimizati
 on</a>\nby Monique Laurent (CWI Amsterdam and Tilburg University) as part 
 of The Online Operator Theory and Related Topics Series\n\nAbstract: TBA\n
LOCATION:https://researchseminars.org/talk/2TART/22/
END:VEVENT
END:VCALENDAR
