BEGIN:VCALENDAR
VERSION:2.0
PRODID:researchseminars.org
CALSCALE:GREGORIAN
X-WR-CALNAME:researchseminars.org
BEGIN:VEVENT
SUMMARY:Alan Sola (University of Stockholm)
DTSTART:20200511T150000Z
DTEND:20200511T160000Z
DTSTAMP:20260423T035051Z
UID:2TART/1
DESCRIPTION:Title: <a href="https://researchseminars.org/talk/2TART/1/">On
 e-dimensional scaling limits in a Laplacian random growth model</a>\nby Al
 an Sola (University of Stockholm) as part of The Online Operator Theory an
 d Related Topics Series\n\nAbstract: TBA\n
LOCATION:https://researchseminars.org/talk/2TART/1/
END:VEVENT
END:VCALENDAR
