BEGIN:VCALENDAR
VERSION:2.0
PRODID:researchseminars.org
CALSCALE:GREGORIAN
X-WR-CALNAME:researchseminars.org
BEGIN:VEVENT
SUMMARY:Curtis McMullen (Harvard University)
DTSTART:20201109T193000Z
DTEND:20201109T202000Z
DTSTAMP:20260422T220759Z
UID:20w5206/2
DESCRIPTION:Title: <a href="https://researchseminars.org/talk/20w5206/2/">
 Billiards and the arithmetic of non-arithmetic groups</a>\nby Curtis McMul
 len (Harvard University) as part of BIRS workshop: Algebraic Dynamics and 
 its Connections to Difference and Differential Equations\n\nAbstract: TBA\
 n
LOCATION:https://researchseminars.org/talk/20w5206/2/
END:VEVENT
END:VCALENDAR
