BEGIN:VCALENDAR
VERSION:2.0
PRODID:researchseminars.org
CALSCALE:GREGORIAN
X-WR-CALNAME:researchseminars.org
BEGIN:VEVENT
SUMMARY:Maciej Zdanowicz (Lausanne)
DTSTART:20200712T134500Z
DTEND:20200712T151500Z
DTSTAMP:20260423T021754Z
UID:148/6
DESCRIPTION:Title: <a href="https://researchseminars.org/talk/148/6/">Geom
 etry of weakly ordinary varieties with trivial canonical class</a>\nby Mac
 iej Zdanowicz (Lausanne) as part of ZOOMerFEST: Young Algebraic Geometers\
 n\nAbstract: TBA\n
LOCATION:https://researchseminars.org/talk/148/6/
END:VEVENT
END:VCALENDAR
