BEGIN:VCALENDAR
VERSION:2.0
PRODID:researchseminars.org
CALSCALE:GREGORIAN
X-WR-CALNAME:researchseminars.org
BEGIN:VEVENT
SUMMARY:Wenjie Ma (Laval University)
DTSTART:20210318T020000Z
DTEND:20210318T030000Z
DTSTAMP:20260422T213049Z
UID:ymsc_ads_seminars/1
DESCRIPTION:Title: <a href="https://researchseminars.org/talk/ymsc_ads_sem
 inars/1/">Higher-point scalar conformal blocks</a>\nby Wenjie Ma (Laval Un
 iversity) as part of YMSC AdS Seminars\n\nAbstract: TBA\n
LOCATION:https://researchseminars.org/talk/ymsc_ads_seminars/1/
END:VEVENT
BEGIN:VEVENT
SUMMARY:Dongmin Gang (Asia Pacific Center for Theoretical Physics (APCTP))
DTSTART:20210318T053000Z
DTEND:20210318T063000Z
DTSTAMP:20260422T213049Z
UID:ymsc_ads_seminars/2
DESCRIPTION:Title: <a href="https://researchseminars.org/talk/ymsc_ads_sem
 inars/2/">Non-unitary TQFTs from 3D N=4 rank 0 SCFTs</a>\nby Dongmin Gang 
 (Asia Pacific Center for Theoretical Physics (APCTP)) as part of YMSC AdS 
 Seminars\n\nAbstract: TBA\n
LOCATION:https://researchseminars.org/talk/ymsc_ads_seminars/2/
END:VEVENT
BEGIN:VEVENT
SUMMARY:Eduardo Casali (UC Davis)
DTSTART:20210311T020000Z
DTEND:20210311T030000Z
DTSTAMP:20260422T213049Z
UID:ymsc_ads_seminars/3
DESCRIPTION:Title: <a href="https://researchseminars.org/talk/ymsc_ads_sem
 inars/3/">Baby Universes and Worldline Field Theories</a>\nby Eduardo Casa
 li (UC Davis) as part of YMSC AdS Seminars\n\nAbstract: TBA\n
LOCATION:https://researchseminars.org/talk/ymsc_ads_seminars/3/
END:VEVENT
BEGIN:VEVENT
SUMMARY:Richard Eager
DTSTART:20210325T053000Z
DTEND:20210325T063000Z
DTSTAMP:20260422T213049Z
UID:ymsc_ads_seminars/4
DESCRIPTION:Title: <a href="https://researchseminars.org/talk/ymsc_ads_sem
 inars/4/">Chiral Algebras and the Pure Spinor Superstring</a>\nby Richard 
 Eager as part of YMSC AdS Seminars\n\nAbstract: TBA\n
LOCATION:https://researchseminars.org/talk/ymsc_ads_seminars/4/
END:VEVENT
BEGIN:VEVENT
SUMMARY:Shlomo S. Razamat (Technion)
DTSTART:20210401T020000Z
DTEND:20210401T030000Z
DTSTAMP:20260422T213049Z
UID:ymsc_ads_seminars/5
DESCRIPTION:Title: <a href="https://researchseminars.org/talk/ymsc_ads_sem
 inars/5/">Three roads to the van Diejen model\, and beyond ...</a>\nby Shl
 omo S. Razamat (Technion) as part of YMSC AdS Seminars\n\nAbstract: TBA\n
LOCATION:https://researchseminars.org/talk/ymsc_ads_seminars/5/
END:VEVENT
BEGIN:VEVENT
SUMMARY:Hong Lu (Tianjin University)
DTSTART:20210408T053000Z
DTEND:20210408T063000Z
DTSTAMP:20260422T213049Z
UID:ymsc_ads_seminars/7
DESCRIPTION:Title: <a href="https://researchseminars.org/talk/ymsc_ads_sem
 inars/7/">The KK-AdS/Ricci-flat Kerr Correspondence</a>\nby Hong Lu (Tianj
 in University) as part of YMSC AdS Seminars\n\nLecture held in NingZhai W1
 1\, Tsinghua University.\nAbstract: TBA\n
LOCATION:https://researchseminars.org/talk/ymsc_ads_seminars/7/
END:VEVENT
BEGIN:VEVENT
SUMMARY:Janet Hung (Fudan University)
DTSTART:20210422T053000Z
DTEND:20210422T063000Z
DTSTAMP:20260422T213049Z
UID:ymsc_ads_seminars/8
DESCRIPTION:Title: <a href="https://researchseminars.org/talk/ymsc_ads_sem
 inars/8/">p-adic tensor networks as a Wilson line network revisited</a>\nb
 y Janet Hung (Fudan University) as part of YMSC AdS Seminars\n\nAbstract: 
 TBA\n
LOCATION:https://researchseminars.org/talk/ymsc_ads_seminars/8/
END:VEVENT
BEGIN:VEVENT
SUMMARY:Elli Pomoni (DESY)
DTSTART:20210506T080000Z
DTEND:20210506T090000Z
DTSTAMP:20260422T213049Z
UID:ymsc_ads_seminars/9
DESCRIPTION:Title: <a href="https://researchseminars.org/talk/ymsc_ads_sem
 inars/9/">Type-B Anomalies on the Higgs Branch</a>\nby Elli Pomoni (DESY) 
 as part of YMSC AdS Seminars\n\nAbstract: TBA\n
LOCATION:https://researchseminars.org/talk/ymsc_ads_seminars/9/
END:VEVENT
BEGIN:VEVENT
SUMMARY:Cheng Peng (UCAS\, Beijing)
DTSTART:20210527T053000Z
DTEND:20210527T063000Z
DTSTAMP:20260422T213049Z
UID:ymsc_ads_seminars/10
DESCRIPTION:Title: <a href="https://researchseminars.org/talk/ymsc_ads_sem
 inars/10/">(CANCELLED)</a>\nby Cheng Peng (UCAS\, Beijing) as part of YMSC
  AdS Seminars\n\nLecture held in 近春园西楼三楼报告厅\, Conferen
 ce Hall\, Floor 3\, JinChunYuan West Building..\nAbstract: TBA\n
LOCATION:https://researchseminars.org/talk/ymsc_ads_seminars/10/
END:VEVENT
BEGIN:VEVENT
SUMMARY:Sibasish Banerjee (University of Cologne)
DTSTART:20210520T080000Z
DTEND:20210520T090000Z
DTSTAMP:20260422T213049Z
UID:ymsc_ads_seminars/11
DESCRIPTION:Title: <a href="https://researchseminars.org/talk/ymsc_ads_sem
 inars/11/">Indefinite theta series and mock modular forms</a>\nby Sibasish
  Banerjee (University of Cologne) as part of YMSC AdS Seminars\n\nAbstract
 : TBA\n
LOCATION:https://researchseminars.org/talk/ymsc_ads_seminars/11/
END:VEVENT
BEGIN:VEVENT
SUMMARY:Jieqiang Wu (MIT)
DTSTART:20210603T053000Z
DTEND:20210603T063000Z
DTSTAMP:20260422T213049Z
UID:ymsc_ads_seminars/12
DESCRIPTION:Title: <a href="https://researchseminars.org/talk/ymsc_ads_sem
 inars/12/">Algebra of diffeomorphism invariant observables in Jackiw-Teite
 lboim gravity</a>\nby Jieqiang Wu (MIT) as part of YMSC AdS Seminars\n\nAb
 stract: TBA\n
LOCATION:https://researchseminars.org/talk/ymsc_ads_seminars/12/
END:VEVENT
END:VCALENDAR
