BEGIN:VCALENDAR
VERSION:2.0
PRODID:researchseminars.org
CALSCALE:GREGORIAN
X-WR-CALNAME:researchseminars.org
BEGIN:VEVENT
SUMMARY:Gal Kronenberg (University of Oxford)
DTSTART:20200430T180000Z
DTEND:20200430T190000Z
DTSTAMP:20260422T230720Z
UID:women-in-combinatorics/1
DESCRIPTION:Title: <a href="https://researchseminars.org/talk/women-in-com
 binatorics/1/">Extremal problems of long cycles in random graphs</a>\nby G
 al Kronenberg (University of Oxford) as part of Women in Combinatorics\n\n
 Abstract: TBA\n
LOCATION:https://researchseminars.org/talk/women-in-combinatorics/1/
END:VEVENT
END:VCALENDAR
