BEGIN:VCALENDAR
VERSION:2.0
PRODID:researchseminars.org
CALSCALE:GREGORIAN
X-WR-CALNAME:researchseminars.org
BEGIN:VEVENT
SUMMARY:Massimo Passera (University of Padova)
DTSTART:20211108T150000Z
DTEND:20211108T153000Z
DTSTAMP:20260422T212938Z
UID:silafae-xii-21/1
DESCRIPTION:Title: <a href="https://researchseminars.org/talk/silafae-xii-
 21/1/">Muon g-2 and Δα connection</a>\nby Massimo Passera (University of
  Padova) as part of SILAFAE XII¾\n\nAbstract: TBA\n
LOCATION:https://researchseminars.org/talk/silafae-xii-21/1/
END:VEVENT
BEGIN:VEVENT
SUMMARY:Nicolás Bernal (Antonio Nariño University)
DTSTART:20211108T154500Z
DTEND:20211108T161500Z
DTSTAMP:20260422T212938Z
UID:silafae-xii-21/2
DESCRIPTION:Title: <a href="https://researchseminars.org/talk/silafae-xii-
 21/2/">Dark Matter in the Time of Primordial Black Holes</a>\nby Nicolás 
 Bernal (Antonio Nariño University) as part of SILAFAE XII¾\n\nAbstract: 
 TBA\n
LOCATION:https://researchseminars.org/talk/silafae-xii-21/2/
END:VEVENT
BEGIN:VEVENT
SUMMARY:Enrico Bertuzzo (USP)
DTSTART:20211108T163000Z
DTEND:20211108T170000Z
DTSTAMP:20260422T212938Z
UID:silafae-xii-21/3
DESCRIPTION:Title: <a href="https://researchseminars.org/talk/silafae-xii-
 21/3/">Relaxion physics</a>\nby Enrico Bertuzzo (USP) as part of SILAFAE X
 II¾\n\nAbstract: TBA\n
LOCATION:https://researchseminars.org/talk/silafae-xii-21/3/
END:VEVENT
BEGIN:VEVENT
SUMMARY:Michelangelo Mangano (CERN)
DTSTART:20211108T190000Z
DTEND:20211108T193000Z
DTSTAMP:20260422T212938Z
UID:silafae-xii-21/4
DESCRIPTION:Title: <a href="https://researchseminars.org/talk/silafae-xii-
 21/4/">Physics at Future Circular Colliders</a>\nby Michelangelo Mangano (
 CERN) as part of SILAFAE XII¾\n\nAbstract: TBA\n
LOCATION:https://researchseminars.org/talk/silafae-xii-21/4/
END:VEVENT
BEGIN:VEVENT
SUMMARY:Marcela Carena (University of Chicago)
DTSTART:20211108T194500Z
DTEND:20211108T201500Z
DTSTAMP:20260422T212938Z
UID:silafae-xii-21/5
DESCRIPTION:Title: <a href="https://researchseminars.org/talk/silafae-xii-
 21/5/">Dark Matter Effects on the Early Universe and Muon g-2</a>\nby Marc
 ela Carena (University of Chicago) as part of SILAFAE XII¾\n\nAbstract: T
 BA\n
LOCATION:https://researchseminars.org/talk/silafae-xii-21/5/
END:VEVENT
BEGIN:VEVENT
SUMMARY:Diego Restreppo (Universidad de Antioquia)
DTSTART:20211108T203000Z
DTEND:20211108T204500Z
DTSTAMP:20260422T212938Z
UID:silafae-xii-21/6
DESCRIPTION:Title: <a href="https://researchseminars.org/talk/silafae-xii-
 21/6/">Effective Dirac neutrino masses</a>\nby Diego Restreppo (Universida
 d de Antioquia) as part of SILAFAE XII¾\n\nAbstract: TBA\n
LOCATION:https://researchseminars.org/talk/silafae-xii-21/6/
END:VEVENT
BEGIN:VEVENT
SUMMARY:Maria Eugenia Cabrera (Universidad de San Carlos de Guatemala)
DTSTART:20211108T204500Z
DTEND:20211108T210000Z
DTSTAMP:20260422T212938Z
UID:silafae-xii-21/7
DESCRIPTION:Title: <a href="https://researchseminars.org/talk/silafae-xii-
 21/7/">2HDM singlet portal to dark matter</a>\nby Maria Eugenia Cabrera (U
 niversidad de San Carlos de Guatemala) as part of SILAFAE XII¾\n\nAbstrac
 t: TBA\n
LOCATION:https://researchseminars.org/talk/silafae-xii-21/7/
END:VEVENT
BEGIN:VEVENT
SUMMARY:Ulisses Barres (CBPF)
DTSTART:20211109T150000Z
DTEND:20211109T153000Z
DTSTAMP:20260422T212938Z
UID:silafae-xii-21/8
DESCRIPTION:Title: <a href="https://researchseminars.org/talk/silafae-xii-
 21/8/">The Southern Wide Field Gamma Ray Observatory (SWGO)</a>\nby Ulisse
 s Barres (CBPF) as part of SILAFAE XII¾\n\nAbstract: TBA\n
LOCATION:https://researchseminars.org/talk/silafae-xii-21/8/
END:VEVENT
BEGIN:VEVENT
SUMMARY:Claudio Dib (Universidad Tecnica Federico Santa Maria)
DTSTART:20211109T154500Z
DTEND:20211109T161500Z
DTSTAMP:20260422T212938Z
UID:silafae-xii-21/9
DESCRIPTION:Title: <a href="https://researchseminars.org/talk/silafae-xii-
 21/9/">Updates on the ANDES project</a>\nby Claudio Dib (Universidad Tecni
 ca Federico Santa Maria) as part of SILAFAE XII¾\n\nAbstract: TBA\n
LOCATION:https://researchseminars.org/talk/silafae-xii-21/9/
END:VEVENT
BEGIN:VEVENT
SUMMARY:Carla Bonifazi (UFRJ and ICAS)
DTSTART:20211109T163000Z
DTEND:20211109T170000Z
DTSTAMP:20260422T212938Z
UID:silafae-xii-21/10
DESCRIPTION:Title: <a href="https://researchseminars.org/talk/silafae-xii-
 21/10/">Detecting coherent elastic neutrino-nucleus scattering</a>\nby Car
 la Bonifazi (UFRJ and ICAS) as part of SILAFAE XII¾\n\nAbstract: TBA\n
LOCATION:https://researchseminars.org/talk/silafae-xii-21/10/
END:VEVENT
BEGIN:VEVENT
SUMMARY:Federico Sánchez (CONICET)
DTSTART:20211109T190000Z
DTEND:20211109T193000Z
DTSTAMP:20260422T212938Z
UID:silafae-xii-21/11
DESCRIPTION:Title: <a href="https://researchseminars.org/talk/silafae-xii-
 21/11/">The Pierre Auger Observatory: results and perspectives</a>\nby Fed
 erico Sánchez (CONICET) as part of SILAFAE XII¾\n\nAbstract: TBA\n
LOCATION:https://researchseminars.org/talk/silafae-xii-21/11/
END:VEVENT
BEGIN:VEVENT
SUMMARY:Ettore Segreto (UNICAMP)
DTSTART:20211109T194500Z
DTEND:20211109T201500Z
DTSTAMP:20260422T212938Z
UID:silafae-xii-21/12
DESCRIPTION:Title: <a href="https://researchseminars.org/talk/silafae-xii-
 21/12/">DUNE Experiment</a>\nby Ettore Segreto (UNICAMP) as part of SILAFA
 E XII¾\n\nAbstract: TBA\n
LOCATION:https://researchseminars.org/talk/silafae-xii-21/12/
END:VEVENT
BEGIN:VEVENT
SUMMARY:André de Gouvêa (Northwestern University)
DTSTART:20211109T203000Z
DTEND:20211109T210000Z
DTSTAMP:20260422T212938Z
UID:silafae-xii-21/13
DESCRIPTION:Title: <a href="https://researchseminars.org/talk/silafae-xii-
 21/13/">DUNE Experiment</a>\nby André de Gouvêa (Northwestern University
 ) as part of SILAFAE XII¾\n\nAbstract: TBA\n
LOCATION:https://researchseminars.org/talk/silafae-xii-21/13/
END:VEVENT
BEGIN:VEVENT
SUMMARY:Camila Machado (DESY)
DTSTART:20211110T150000Z
DTEND:20211110T153000Z
DTSTAMP:20260422T212938Z
UID:silafae-xii-21/14
DESCRIPTION:Title: <a href="https://researchseminars.org/talk/silafae-xii-
 21/14/">On-shell amplitudes for effective theories</a>\nby Camila Machado 
 (DESY) as part of SILAFAE XII¾\n\nAbstract: TBA\n
LOCATION:https://researchseminars.org/talk/silafae-xii-21/14/
END:VEVENT
BEGIN:VEVENT
SUMMARY:Nayara Fonseca (ICTP-Trieste)
DTSTART:20211110T154500Z
DTEND:20211110T161500Z
DTSTAMP:20260422T212938Z
UID:silafae-xii-21/15
DESCRIPTION:Title: <a href="https://researchseminars.org/talk/silafae-xii-
 21/15/">Theory of Deep Learning and Physics</a>\nby Nayara Fonseca (ICTP-T
 rieste) as part of SILAFAE XII¾\n\nAbstract: TBA\n
LOCATION:https://researchseminars.org/talk/silafae-xii-21/15/
END:VEVENT
BEGIN:VEVENT
SUMMARY:Enrico Nardi (INFN Frascati National Laboratories)
DTSTART:20211110T163000Z
DTEND:20211110T170000Z
DTSTAMP:20260422T212938Z
UID:silafae-xii-21/16
DESCRIPTION:Title: <a href="https://researchseminars.org/talk/silafae-xii-
 21/16/">The axion: phenomenological implications and open theoretical prob
 lems</a>\nby Enrico Nardi (INFN Frascati National Laboratories) as part of
  SILAFAE XII¾\n\nAbstract: TBA\n
LOCATION:https://researchseminars.org/talk/silafae-xii-21/16/
END:VEVENT
BEGIN:VEVENT
SUMMARY:Joel Jones-Perez (Pontificia Universidad Catolica del Peru)
DTSTART:20211110T190000Z
DTEND:20211110T191500Z
DTSTAMP:20260422T212938Z
UID:silafae-xii-21/17
DESCRIPTION:Title: <a href="https://researchseminars.org/talk/silafae-xii-
 21/17/">Measuring sleptons at the ILC</a>\nby Joel Jones-Perez (Pontificia
  Universidad Catolica del Peru) as part of SILAFAE XII¾\n\nAbstract: TBA\
 n
LOCATION:https://researchseminars.org/talk/silafae-xii-21/17/
END:VEVENT
BEGIN:VEVENT
SUMMARY:André Lessa (CCNH)
DTSTART:20211110T191500Z
DTEND:20211110T193000Z
DTSTAMP:20260422T212938Z
UID:silafae-xii-21/18
DESCRIPTION:Title: <a href="https://researchseminars.org/talk/silafae-xii-
 21/18/">Learning the Next Standard Model from LHC data</a>\nby André Less
 a (CCNH) as part of SILAFAE XII¾\n\nAbstract: TBA\n
LOCATION:https://researchseminars.org/talk/silafae-xii-21/18/
END:VEVENT
BEGIN:VEVENT
SUMMARY:Daniel Tapia Takaki (University of Kansas)
DTSTART:20211110T194500Z
DTEND:20211110T200000Z
DTSTAMP:20260422T212938Z
UID:silafae-xii-21/19
DESCRIPTION:Title: <a href="https://researchseminars.org/talk/silafae-xii-
 21/19/">The Inter-American Network of Networks of QCD challenges</a>\nby D
 aniel Tapia Takaki (University of Kansas) as part of SILAFAE XII¾\n\nAbst
 ract: TBA\n
LOCATION:https://researchseminars.org/talk/silafae-xii-21/19/
END:VEVENT
BEGIN:VEVENT
SUMMARY:Iván Sidelnik (Instituto Balseiro)
DTSTART:20211110T200000Z
DTEND:20211110T201500Z
DTSTAMP:20260422T212938Z
UID:silafae-xii-21/20
DESCRIPTION:Title: <a href="https://researchseminars.org/talk/silafae-xii-
 21/20/">LAGO: the Latin American Giant Observatory\, current status\, proj
 ects and future perspectives</a>\nby Iván Sidelnik (Instituto Balseiro) a
 s part of SILAFAE XII¾\n\nAbstract: TBA\n
LOCATION:https://researchseminars.org/talk/silafae-xii-21/20/
END:VEVENT
BEGIN:VEVENT
SUMMARY:Álvaro G. dos Santos Neto (Universidade Federal do Triângulo Min
 eiro)
DTSTART:20211111T150000Z
DTEND:20211111T153000Z
DTSTAMP:20260422T212938Z
UID:silafae-xii-21/21
DESCRIPTION:Title: <a href="https://researchseminars.org/talk/silafae-xii-
 21/21/">LHCb latest results and new perspectives</a>\nby Álvaro G. dos Sa
 ntos Neto (Universidade Federal do Triângulo Mineiro) as part of SILAFAE 
 XII¾\n\nAbstract: TBA\n
LOCATION:https://researchseminars.org/talk/silafae-xii-21/21/
END:VEVENT
BEGIN:VEVENT
SUMMARY:Marta Losada (NYU & Abu Dhabi Univ.)
DTSTART:20211111T154500Z
DTEND:20211111T161500Z
DTSTAMP:20260422T212938Z
UID:silafae-xii-21/22
DESCRIPTION:Title: <a href="https://researchseminars.org/talk/silafae-xii-
 21/22/">Constraining Baryogenesis in the Standard Model EFT with dim 6 ter
 ms using LHC Higgs physics and EDMs</a>\nby Marta Losada (NYU & Abu Dhabi 
 Univ.) as part of SILAFAE XII¾\n\nAbstract: TBA\n
LOCATION:https://researchseminars.org/talk/silafae-xii-21/22/
END:VEVENT
BEGIN:VEVENT
SUMMARY:Javier Solano (U. Nacional de Ingeniería)
DTSTART:20211111T163000Z
DTEND:20211111T164500Z
DTSTAMP:20260422T212938Z
UID:silafae-xii-21/23
DESCRIPTION:Title: <a href="https://researchseminars.org/talk/silafae-xii-
 21/23/">LA-CoNGA physics: an open science education collaboration between 
 Latin America and Europe for High Energy Physics</a>\nby Javier Solano (U.
  Nacional de Ingeniería) as part of SILAFAE XII¾\n\nAbstract: TBA\n
LOCATION:https://researchseminars.org/talk/silafae-xii-21/23/
END:VEVENT
BEGIN:VEVENT
SUMMARY:Arturo Sánchez (LAPP / CNRS)
DTSTART:20211111T164500Z
DTEND:20211111T170000Z
DTSTAMP:20260422T212938Z
UID:silafae-xii-21/24
DESCRIPTION:Title: <a href="https://researchseminars.org/talk/silafae-xii-
 21/24/">Current trends in distributed Open Sciences in HEP</a>\nby Arturo 
 Sánchez (LAPP / CNRS) as part of SILAFAE XII¾\n\nAbstract: TBA\n
LOCATION:https://researchseminars.org/talk/silafae-xii-21/24/
END:VEVENT
BEGIN:VEVENT
SUMMARY:Graziano Venanzoni (INFN- Pisa)
DTSTART:20211111T190000Z
DTEND:20211111T193000Z
DTSTAMP:20260422T212938Z
UID:silafae-xii-21/25
DESCRIPTION:Title: <a href="https://researchseminars.org/talk/silafae-xii-
 21/25/">First results from the Muon g-2 Experiment at Fermilab</a>\nby Gra
 ziano Venanzoni (INFN- Pisa) as part of SILAFAE XII¾\n\nAbstract: TBA\n
LOCATION:https://researchseminars.org/talk/silafae-xii-21/25/
END:VEVENT
BEGIN:VEVENT
SUMMARY:Hugo Camacho (ICTP-SAIFR/IFT-UNESP)
DTSTART:20211111T194500Z
DTEND:20211111T201500Z
DTSTAMP:20260422T212938Z
UID:silafae-xii-21/26
DESCRIPTION:Title: <a href="https://researchseminars.org/talk/silafae-xii-
 21/26/">Cosmological results from the first three years of observations of
  the Dark Energy Survey</a>\nby Hugo Camacho (ICTP-SAIFR/IFT-UNESP) as par
 t of SILAFAE XII¾\n\nAbstract: TBA\n
LOCATION:https://researchseminars.org/talk/silafae-xii-21/26/
END:VEVENT
BEGIN:VEVENT
SUMMARY:Cristiane Jahnke (UNICAMP)
DTSTART:20211111T150000Z
DTEND:20211111T153000Z
DTSTAMP:20260422T212938Z
UID:silafae-xii-21/27
DESCRIPTION:Title: <a href="https://researchseminars.org/talk/silafae-xii-
 21/27/">Highlights and perspectives from the ALICE experiment</a>\nby Cris
 tiane Jahnke (UNICAMP) as part of SILAFAE XII¾\n\nAbstract: TBA\n
LOCATION:https://researchseminars.org/talk/silafae-xii-21/27/
END:VEVENT
BEGIN:VEVENT
SUMMARY:Andres Guillermo Delannoy Sotomayor (University of Tennessee)
DTSTART:20211112T154500Z
DTEND:20211112T161500Z
DTSTAMP:20260422T212938Z
UID:silafae-xii-21/28
DESCRIPTION:Title: <a href="https://researchseminars.org/talk/silafae-xii-
 21/28/">CMS updates</a>\nby Andres Guillermo Delannoy Sotomayor (Universit
 y of Tennessee) as part of SILAFAE XII¾\n\nAbstract: TBA\n
LOCATION:https://researchseminars.org/talk/silafae-xii-21/28/
END:VEVENT
BEGIN:VEVENT
SUMMARY:Song-Ming Wang (Academia Sinica-Taipei)
DTSTART:20211112T163000Z
DTEND:20211112T170000Z
DTSTAMP:20260422T212938Z
UID:silafae-xii-21/29
DESCRIPTION:Title: <a href="https://researchseminars.org/talk/silafae-xii-
 21/29/">ATLAS: recent results and future perspectives</a>\nby Song-Ming Wa
 ng (Academia Sinica-Taipei) as part of SILAFAE XII¾\n\nAbstract: TBA\n
LOCATION:https://researchseminars.org/talk/silafae-xii-21/29/
END:VEVENT
BEGIN:VEVENT
SUMMARY:Matías Zaldarriaga (Institute for Advanced Studies – Princeton)
DTSTART:20211112T190000Z
DTEND:20211112T193000Z
DTSTAMP:20260422T212938Z
UID:silafae-xii-21/30
DESCRIPTION:by Matías Zaldarriaga (Institute for Advanced Studies – Pri
 nceton) as part of SILAFAE XII¾\n\nAbstract: TBA\n
LOCATION:https://researchseminars.org/talk/silafae-xii-21/30/
END:VEVENT
BEGIN:VEVENT
SUMMARY:Cora Dvorkin (Harvard University)
DTSTART:20211112T194500Z
DTEND:20211112T201500Z
DTSTAMP:20260422T212938Z
UID:silafae-xii-21/31
DESCRIPTION:Title: <a href="https://researchseminars.org/talk/silafae-xii-
 21/31/">Unlocking Dark Matter Physics out of Astrophysical Data Sets</a>\n
 by Cora Dvorkin (Harvard University) as part of SILAFAE XII¾\n\nAbstract:
  TBA\n
LOCATION:https://researchseminars.org/talk/silafae-xii-21/31/
END:VEVENT
BEGIN:VEVENT
SUMMARY:Angela Olinto (University of Chicago)
DTSTART:20211112T203000Z
DTEND:20211112T210000Z
DTSTAMP:20260422T212938Z
UID:silafae-xii-21/32
DESCRIPTION:Title: <a href="https://researchseminars.org/talk/silafae-xii-
 21/32/">Space Observatories for Ultrahigh Energy Astroparticles</a>\nby An
 gela Olinto (University of Chicago) as part of SILAFAE XII¾\n\nAbstract: 
 TBA\n
LOCATION:https://researchseminars.org/talk/silafae-xii-21/32/
END:VEVENT
END:VCALENDAR
