BEGIN:VCALENDAR
VERSION:2.0
PRODID:researchseminars.org
CALSCALE:GREGORIAN
X-WR-CALNAME:researchseminars.org
BEGIN:VEVENT
SUMMARY:Michael Weinstein (Columbia University)
DTSTART:20200914T163000Z
DTEND:20200914T173000Z
DTSTAMP:20260422T212751Z
UID:nwcs2020/1
DESCRIPTION:Title: <a href="https://researchseminars.org/talk/nwcs2020/1/"
 >Dynamics of waves in continuum honeycomb structures</a>\nby Michael Weins
 tein (Columbia University) as part of Nonlinear Waves and Coherent Structu
 res Webinar Series\n\nAbstract: TBA\n
LOCATION:https://researchseminars.org/talk/nwcs2020/1/
END:VEVENT
BEGIN:VEVENT
SUMMARY:Bjorn Sandstede (Brown University)
DTSTART:20200928T163000Z
DTEND:20200928T173000Z
DTSTAMP:20260422T212751Z
UID:nwcs2020/2
DESCRIPTION:Title: <a href="https://researchseminars.org/talk/nwcs2020/2/"
 >Dynamics of spiral waves</a>\nby Bjorn Sandstede (Brown University) as pa
 rt of Nonlinear Waves and Coherent Structures Webinar Series\n\nAbstract: 
 TBA\n
LOCATION:https://researchseminars.org/talk/nwcs2020/2/
END:VEVENT
BEGIN:VEVENT
SUMMARY:Mark Ablowitz (University of Colorado at Boulder)
DTSTART:20201012T163000Z
DTEND:20201012T173000Z
DTSTAMP:20260422T212751Z
UID:nwcs2020/3
DESCRIPTION:Title: <a href="https://researchseminars.org/talk/nwcs2020/3/"
 >Nonlinear Waves\, Topological Insulators\, Integrability</a>\nby Mark Abl
 owitz (University of Colorado at Boulder) as part of Nonlinear Waves and C
 oherent Structures Webinar Series\n\nAbstract: TBA\n
LOCATION:https://researchseminars.org/talk/nwcs2020/3/
END:VEVENT
BEGIN:VEVENT
SUMMARY:Thanasis Fokas (Cambridge University)
DTSTART:20201026T163000Z
DTEND:20201026T173000Z
DTSTAMP:20260422T212751Z
UID:nwcs2020/4
DESCRIPTION:Title: <a href="https://researchseminars.org/talk/nwcs2020/4/"
 >The Unified Transform: from the Wiener-Hopf technique to the solution of 
 the x-periodic problem for nonlinear integrable PDEs</a>\nby Thanasis Foka
 s (Cambridge University) as part of Nonlinear Waves and Coherent Structure
 s Webinar Series\n\nAbstract: TBA\n
LOCATION:https://researchseminars.org/talk/nwcs2020/4/
END:VEVENT
BEGIN:VEVENT
SUMMARY:Beatrice Pelloni (Heriot Watt University)
DTSTART:20201109T173000Z
DTEND:20201109T183000Z
DTSTAMP:20260422T212751Z
UID:nwcs2020/5
DESCRIPTION:Title: <a href="https://researchseminars.org/talk/nwcs2020/5/"
 >The phenomenon of dispersive revivals</a>\nby Beatrice Pelloni (Heriot Wa
 tt University) as part of Nonlinear Waves and Coherent Structures Webinar 
 Series\n\nAbstract: TBA\n
LOCATION:https://researchseminars.org/talk/nwcs2020/5/
END:VEVENT
BEGIN:VEVENT
SUMMARY:Dmitry Pelinovsky (McMaster University)
DTSTART:20201123T173000Z
DTEND:20201123T183000Z
DTSTAMP:20260422T212751Z
UID:nwcs2020/6
DESCRIPTION:Title: <a href="https://researchseminars.org/talk/nwcs2020/6/"
 >Periodic travelling waves in nonlinear wave equations: modulation instabi
 lity and rogue waves</a>\nby Dmitry Pelinovsky (McMaster University) as pa
 rt of Nonlinear Waves and Coherent Structures Webinar Series\n\nAbstract: 
 TBA\n
LOCATION:https://researchseminars.org/talk/nwcs2020/6/
END:VEVENT
BEGIN:VEVENT
SUMMARY:Barbara Prinari (SUNY Buffalo)
DTSTART:20201207T173000Z
DTEND:20201207T183000Z
DTSTAMP:20260422T212751Z
UID:nwcs2020/7
DESCRIPTION:Title: <a href="https://researchseminars.org/talk/nwcs2020/7/"
 >Inverse scattering transform\, solitons and rogue wave solutions of certa
 in matrix nonlinear Schrodinger equations</a>\nby Barbara Prinari (SUNY Bu
 ffalo) as part of Nonlinear Waves and Coherent Structures Webinar Series\n
 \nAbstract: TBA\n
LOCATION:https://researchseminars.org/talk/nwcs2020/7/
END:VEVENT
BEGIN:VEVENT
SUMMARY:Gino Biondini (SUNY Buffalo)
DTSTART:20210329T163000Z
DTEND:20210329T173000Z
DTSTAMP:20260422T212751Z
UID:nwcs2020/8
DESCRIPTION:Title: <a href="https://researchseminars.org/talk/nwcs2020/8/"
 >Time evolution problems for (2+1)-dimensional evolution equations: Whitha
 m modulation theory and its applications</a>\nby Gino Biondini (SUNY Buffa
 lo) as part of Nonlinear Waves and Coherent Structures Webinar Series\n\nA
 bstract: TBA\n
LOCATION:https://researchseminars.org/talk/nwcs2020/8/
END:VEVENT
BEGIN:VEVENT
SUMMARY:Eugene Wayne (Boston University)
DTSTART:20210118T173000Z
DTEND:20210118T183000Z
DTSTAMP:20260422T212751Z
UID:nwcs2020/9
DESCRIPTION:Title: <a href="https://researchseminars.org/talk/nwcs2020/9/"
 >Breathers as metastable states for weakly damped lattices of Hamiltonian 
 oscillators</a>\nby Eugene Wayne (Boston University) as part of Nonlinear 
 Waves and Coherent Structures Webinar Series\n\nAbstract: TBA\n
LOCATION:https://researchseminars.org/talk/nwcs2020/9/
END:VEVENT
BEGIN:VEVENT
SUMMARY:Anna Vainchtein (University of Pittsburgh)
DTSTART:20210201T173000Z
DTEND:20210201T183000Z
DTSTAMP:20260422T212751Z
UID:nwcs2020/10
DESCRIPTION:Title: <a href="https://researchseminars.org/talk/nwcs2020/10/
 ">Traveling waves in a driven Frenkel-Kontorova lattice</a>\nby Anna Vainc
 htein (University of Pittsburgh) as part of Nonlinear Waves and Coherent S
 tructures Webinar Series\n\nAbstract: TBA\n
LOCATION:https://researchseminars.org/talk/nwcs2020/10/
END:VEVENT
BEGIN:VEVENT
SUMMARY:Edgar Knobloch (UC Berkeley)
DTSTART:20210215T173000Z
DTEND:20210215T183000Z
DTSTAMP:20260422T212751Z
UID:nwcs2020/11
DESCRIPTION:Title: <a href="https://researchseminars.org/talk/nwcs2020/11/
 ">Geostrophic turbulence and the formation of large scale structure</a>\nb
 y Edgar Knobloch (UC Berkeley) as part of Nonlinear Waves and Coherent Str
 uctures Webinar Series\n\nAbstract: TBA\n
LOCATION:https://researchseminars.org/talk/nwcs2020/11/
END:VEVENT
BEGIN:VEVENT
SUMMARY:Catherine Sulem (University of Toronto)
DTSTART:20210301T173000Z
DTEND:20210301T183000Z
DTSTAMP:20260422T212751Z
UID:nwcs2020/12
DESCRIPTION:Title: <a href="https://researchseminars.org/talk/nwcs2020/12/
 ">Normal form transformations and Dysthe's equation for the nonlinear modu
 lation of deep-water gravity waves</a>\nby Catherine Sulem (University of 
 Toronto) as part of Nonlinear Waves and Coherent Structures Webinar Series
 \n\nAbstract: TBA\n
LOCATION:https://researchseminars.org/talk/nwcs2020/12/
END:VEVENT
BEGIN:VEVENT
SUMMARY:Peter Miller (University of Michigan)
DTSTART:20210315T163000Z
DTEND:20210315T173000Z
DTSTAMP:20260422T212751Z
UID:nwcs2020/13
DESCRIPTION:Title: <a href="https://researchseminars.org/talk/nwcs2020/13/
 ">Universal Wave Breaking in the Semiclassical Sine-Gordon Equation</a>\nb
 y Peter Miller (University of Michigan) as part of Nonlinear Waves and Coh
 erent Structures Webinar Series\n\nAbstract: TBA\n
LOCATION:https://researchseminars.org/talk/nwcs2020/13/
END:VEVENT
BEGIN:VEVENT
SUMMARY:Keith Promislow (Michigan State University)
DTSTART:20210914T163000Z
DTEND:20210914T173000Z
DTSTAMP:20260422T212751Z
UID:nwcs2020/14
DESCRIPTION:Title: <a href="https://researchseminars.org/talk/nwcs2020/14/
 ">Entropy\, Packing\, and Patterns</a>\nby Keith Promislow (Michigan State
  University) as part of Nonlinear Waves and Coherent Structures Webinar Se
 ries\n\nAbstract: TBA\n
LOCATION:https://researchseminars.org/talk/nwcs2020/14/
END:VEVENT
BEGIN:VEVENT
SUMMARY:Michael Ward (University of British Columbia)
DTSTART:20210928T163000Z
DTEND:20210928T173000Z
DTSTAMP:20260422T212751Z
UID:nwcs2020/15
DESCRIPTION:Title: <a href="https://researchseminars.org/talk/nwcs2020/15/
 ">Topics in Localized Pattern Formation for Reaction-Diffusion Systems in 
 3-D</a>\nby Michael Ward (University of British Columbia) as part of Nonli
 near Waves and Coherent Structures Webinar Series\n\nAbstract: TBA\n
LOCATION:https://researchseminars.org/talk/nwcs2020/15/
END:VEVENT
BEGIN:VEVENT
SUMMARY:Jens Rademacher (University of Bremen)
DTSTART:20211012T163000Z
DTEND:20211012T173000Z
DTSTAMP:20260422T212751Z
UID:nwcs2020/16
DESCRIPTION:Title: <a href="https://researchseminars.org/talk/nwcs2020/16/
 ">Dynamics of some strongly interacting localised non-linear waves</a>\nby
  Jens Rademacher (University of Bremen) as part of Nonlinear Waves and Coh
 erent Structures Webinar Series\n\nAbstract: TBA\n
LOCATION:https://researchseminars.org/talk/nwcs2020/16/
END:VEVENT
BEGIN:VEVENT
SUMMARY:Joceline Lega (University of Arizona)
DTSTART:20211026T163000Z
DTEND:20211026T173000Z
DTSTAMP:20260422T212751Z
UID:nwcs2020/17
DESCRIPTION:Title: <a href="https://researchseminars.org/talk/nwcs2020/17/
 ">A dynamical systems view of special solutions to the discrete Painlevé 
 1 equation</a>\nby Joceline Lega (University of Arizona) as part of Nonlin
 ear Waves and Coherent Structures Webinar Series\n\nAbstract: TBA\n
LOCATION:https://researchseminars.org/talk/nwcs2020/17/
END:VEVENT
BEGIN:VEVENT
SUMMARY:CANCELLED (University of Illinois at Urbana-Champaign)
DTSTART:20211109T173000Z
DTEND:20211109T183000Z
DTSTAMP:20260422T212751Z
UID:nwcs2020/18
DESCRIPTION:by CANCELLED (University of Illinois at Urbana-Champaign) as p
 art of Nonlinear Waves and Coherent Structures Webinar Series\n\nAbstract:
  TBA\n
LOCATION:https://researchseminars.org/talk/nwcs2020/18/
END:VEVENT
BEGIN:VEVENT
SUMMARY:Sergej Flach (Center for Theoretical Physics of Complex Systems\, 
 Institute for Basic Science Daejeon)
DTSTART:20211123T173000Z
DTEND:20211123T183000Z
DTSTAMP:20260422T212751Z
UID:nwcs2020/19
DESCRIPTION:Title: <a href="https://researchseminars.org/talk/nwcs2020/19/
 ">Lyapunov spectrum scaling for many-body dynamics close to integrability<
 /a>\nby Sergej Flach (Center for Theoretical Physics of Complex Systems\, 
 Institute for Basic Science Daejeon) as part of Nonlinear Waves and Cohere
 nt Structures Webinar Series\n\nAbstract: TBA\n
LOCATION:https://researchseminars.org/talk/nwcs2020/19/
END:VEVENT
BEGIN:VEVENT
SUMMARY:Vera Mikyoung Hur
DTSTART:20211207T173000Z
DTEND:20211207T183000Z
DTSTAMP:20260422T212751Z
UID:nwcs2020/20
DESCRIPTION:Title: <a href="https://researchseminars.org/talk/nwcs2020/20/
 ">Stable undular bores</a>\nby Vera Mikyoung Hur as part of Nonlinear Wave
 s and Coherent Structures Webinar Series\n\nAbstract: TBA\n
LOCATION:https://researchseminars.org/talk/nwcs2020/20/
END:VEVENT
BEGIN:VEVENT
SUMMARY:Jianke Yang (University of Vermont)
DTSTART:20220111T173000Z
DTEND:20220111T183000Z
DTSTAMP:20260422T212751Z
UID:nwcs2020/22
DESCRIPTION:Title: <a href="https://researchseminars.org/talk/nwcs2020/22/
 ">Pattern Formation in KP-I Lumps</a>\nby Jianke Yang (University of Vermo
 nt) as part of Nonlinear Waves and Coherent Structures Webinar Series\n\nA
 bstract: TBA\n
LOCATION:https://researchseminars.org/talk/nwcs2020/22/
END:VEVENT
BEGIN:VEVENT
SUMMARY:Alexander Mielke (Humboldt-Universität zu Berlin)
DTSTART:20220125T173000Z
DTEND:20220125T183000Z
DTSTAMP:20260422T212751Z
UID:nwcs2020/23
DESCRIPTION:Title: <a href="https://researchseminars.org/talk/nwcs2020/23/
 ">On the longtime behavior of solutions to a coupled degenerate parabolic 
 system motivated by thermodynamics</a>\nby Alexander Mielke (Humboldt-Univ
 ersität zu Berlin) as part of Nonlinear Waves and Coherent Structures Web
 inar Series\n\nAbstract: TBA\n
LOCATION:https://researchseminars.org/talk/nwcs2020/23/
END:VEVENT
BEGIN:VEVENT
SUMMARY:Arjen Doelman (Leiden University)
DTSTART:20220208T173000Z
DTEND:20220208T183000Z
DTSTAMP:20260422T212751Z
UID:nwcs2020/24
DESCRIPTION:Title: <a href="https://researchseminars.org/talk/nwcs2020/24/
 ">Spatial Ecology & Singularly Perturbed Reaction-Diffusion Equation</a>\n
 by Arjen Doelman (Leiden University) as part of Nonlinear Waves and Cohere
 nt Structures Webinar Series\n\nAbstract: TBA\n
LOCATION:https://researchseminars.org/talk/nwcs2020/24/
END:VEVENT
BEGIN:VEVENT
SUMMARY:Wolf-Juergen Beyn (University of Bielefeld)
DTSTART:20220222T173000Z
DTEND:20220222T183000Z
DTSTAMP:20260422T212751Z
UID:nwcs2020/25
DESCRIPTION:Title: <a href="https://researchseminars.org/talk/nwcs2020/25/
 ">Stability and  computation of traveling oscillating fronts in complex Gi
 nzburg-Landau equations</a>\nby Wolf-Juergen Beyn (University of Bielefeld
 ) as part of Nonlinear Waves and Coherent Structures Webinar Series\n\nAbs
 tract: TBA\n
LOCATION:https://researchseminars.org/talk/nwcs2020/25/
END:VEVENT
BEGIN:VEVENT
SUMMARY:Philip Rosenau (Tel Aviv University)
DTSTART:20220322T163000Z
DTEND:20220322T173000Z
DTSTAMP:20260422T212751Z
UID:nwcs2020/26
DESCRIPTION:Title: <a href="https://researchseminars.org/talk/nwcs2020/26/
 ">On multi-dimensional compact solitary patterns</a>\nby Philip Rosenau (T
 el Aviv University) as part of Nonlinear Waves and Coherent Structures Web
 inar Series\n\nAbstract: TBA\n
LOCATION:https://researchseminars.org/talk/nwcs2020/26/
END:VEVENT
BEGIN:VEVENT
SUMMARY:Hermen Jan Hupkes (University of Leiden)
DTSTART:20220405T163000Z
DTEND:20220405T173000Z
DTSTAMP:20260422T212751Z
UID:nwcs2020/27
DESCRIPTION:Title: <a href="https://researchseminars.org/talk/nwcs2020/27/
 ">Waves in Inhomogeneous Media</a>\nby Hermen Jan Hupkes (University of Le
 iden) as part of Nonlinear Waves and Coherent Structures Webinar Series\n\
 nAbstract: TBA\n
LOCATION:https://researchseminars.org/talk/nwcs2020/27/
END:VEVENT
BEGIN:VEVENT
SUMMARY:Matthew Johnson (University of Kansas)
DTSTART:20220419T163000Z
DTEND:20220419T173000Z
DTSTAMP:20260422T212751Z
UID:nwcs2020/28
DESCRIPTION:Title: <a href="https://researchseminars.org/talk/nwcs2020/28/
 ">Stability of periodic Lugiato-Lefever Waves</a>\nby Matthew Johnson (Uni
 versity of Kansas) as part of Nonlinear Waves and Coherent Structures Webi
 nar Series\n\nAbstract: TBA\n
LOCATION:https://researchseminars.org/talk/nwcs2020/28/
END:VEVENT
BEGIN:VEVENT
SUMMARY:TBA
DTSTART:20220503T163000Z
DTEND:20220503T173000Z
DTSTAMP:20260422T212751Z
UID:nwcs2020/29
DESCRIPTION:by TBA as part of Nonlinear Waves and Coherent Structures Webi
 nar Series\n\nAbstract: TBA\n
LOCATION:https://researchseminars.org/talk/nwcs2020/29/
END:VEVENT
BEGIN:VEVENT
SUMMARY:Constance Schober (University of Central Florida)
DTSTART:20220517T163000Z
DTEND:20220517T173000Z
DTSTAMP:20260422T212751Z
UID:nwcs2020/30
DESCRIPTION:Title: <a href="https://researchseminars.org/talk/nwcs2020/30/
 ">Nonlinear damped spatially periodic breathers and the emergence of solit
 on-like rogue waves</a>\nby Constance Schober (University of Central Flori
 da) as part of Nonlinear Waves and Coherent Structures Webinar Series\n\nA
 bstract: TBA\n
LOCATION:https://researchseminars.org/talk/nwcs2020/30/
END:VEVENT
BEGIN:VEVENT
SUMMARY:Natalia Berloff (University of Cambridge)
DTSTART:20220531T163000Z
DTEND:20220531T173000Z
DTSTAMP:20260422T212751Z
UID:nwcs2020/31
DESCRIPTION:Title: <a href="https://researchseminars.org/talk/nwcs2020/31/
 ">Unconventional computing with liquid light</a>\nby Natalia Berloff (Univ
 ersity of Cambridge) as part of Nonlinear Waves and Coherent Structures We
 binar Series\n\nAbstract: TBA\n
LOCATION:https://researchseminars.org/talk/nwcs2020/31/
END:VEVENT
BEGIN:VEVENT
SUMMARY:Nathan Kutz (University of Washington)
DTSTART:20220614T163000Z
DTEND:20220614T173000Z
DTSTAMP:20260422T212751Z
UID:nwcs2020/32
DESCRIPTION:Title: <a href="https://researchseminars.org/talk/nwcs2020/32/
 ">The Future of Governing Equations</a>\nby Nathan Kutz (University of Was
 hington) as part of Nonlinear Waves and Coherent Structures Webinar Series
 \n\nAbstract: TBA\n
LOCATION:https://researchseminars.org/talk/nwcs2020/32/
END:VEVENT
BEGIN:VEVENT
SUMMARY:Robert Pego (Carnegie Mellon University)
DTSTART:20220914T160000Z
DTEND:20220914T170000Z
DTSTAMP:20260422T212751Z
UID:nwcs2020/33
DESCRIPTION:Title: <a href="https://researchseminars.org/talk/nwcs2020/33/
 ">Nonlinear waves and photon loss in the Kompaneets model of Compton scatt
 ering</a>\nby Robert Pego (Carnegie Mellon University) as part of Nonlinea
 r Waves and Coherent Structures Webinar Series\n\n\nAbstract\nThe Kompanee
 ts equation is fundamental for explaining the  Sunyaev-Zeldovich effect\, 
 which involves deformation of the cosmic  microwave background energy spec
 trum due to Compton scattering of photons  by electrons.  We establish L1 
 convergence to Bose-Einstein equilibria in  large time and prove several r
 esults on the existence and behavior of a  `condensate' of photons at the 
 zero-energy boundary.  The Kompaneets  equation is a scalar conservation l
 aw with a degenerate parabolic nature  that permits a loss of photons in f
 inite time due to shock formation at  zero energy.  Solutions satisfy entr
 opy decay\, an Oleinik one-sided slope  bound\, and L1 contraction and com
 parison principles.\n
LOCATION:https://researchseminars.org/talk/nwcs2020/33/
END:VEVENT
BEGIN:VEVENT
SUMMARY:Mark Hoefer (University of Colorado\, Boulder)
DTSTART:20221012T160000Z
DTEND:20221012T170000Z
DTSTAMP:20260422T212751Z
UID:nwcs2020/34
DESCRIPTION:Title: <a href="https://researchseminars.org/talk/nwcs2020/34/
 ">Breathers as the nonlinear superposition of solitary and cnoidal-like wa
 ves</a>\nby Mark Hoefer (University of Colorado\, Boulder) as part of Nonl
 inear Waves and Coherent Structures Webinar Series\n\nAbstract: TBA\n
LOCATION:https://researchseminars.org/talk/nwcs2020/34/
END:VEVENT
BEGIN:VEVENT
SUMMARY:Kevin Zumbrun (Indiana University Bloomington)
DTSTART:20221109T170000Z
DTEND:20221109T180000Z
DTSTAMP:20260422T212751Z
UID:nwcs2020/35
DESCRIPTION:Title: <a href="https://researchseminars.org/talk/nwcs2020/35/
 ">Large-amplitude modulation of periodic traveling waves</a>\nby Kevin Zum
 brun (Indiana University Bloomington) as part of Nonlinear Waves and Coher
 ent Structures Webinar Series\n\nAbstract: TBA\n
LOCATION:https://researchseminars.org/talk/nwcs2020/35/
END:VEVENT
BEGIN:VEVENT
SUMMARY:Mariana Haragus (Université de Franche-Comté)
DTSTART:20221214T170000Z
DTEND:20221214T180000Z
DTSTAMP:20260422T212751Z
UID:nwcs2020/36
DESCRIPTION:Title: <a href="https://researchseminars.org/talk/nwcs2020/36/
 ">Transverse dynamics of line periodic water waves</a>\nby Mariana Haragus
  (Université de Franche-Comté) as part of Nonlinear Waves and Coherent S
 tructures Webinar Series\n\nAbstract: TBA\n
LOCATION:https://researchseminars.org/talk/nwcs2020/36/
END:VEVENT
BEGIN:VEVENT
SUMMARY:Peter Constantin (Princeton University)
DTSTART:20230111T170000Z
DTEND:20230111T180000Z
DTSTAMP:20260422T212751Z
UID:nwcs2020/37
DESCRIPTION:Title: <a href="https://researchseminars.org/talk/nwcs2020/37/
 ">On the Nernst-Planck-Navier-Stokes System</a>\nby Peter Constantin (Prin
 ceton University) as part of Nonlinear Waves and Coherent Structures Webin
 ar Series\n\nAbstract: TBA\n
LOCATION:https://researchseminars.org/talk/nwcs2020/37/
END:VEVENT
BEGIN:VEVENT
SUMMARY:David Ambrose (Drexel University)
DTSTART:20230208T170000Z
DTEND:20230208T180000Z
DTSTAMP:20260422T212751Z
UID:nwcs2020/38
DESCRIPTION:Title: <a href="https://researchseminars.org/talk/nwcs2020/38/
 ">Dependence on the domain in parabolic dynamics</a>\nby David Ambrose (Dr
 exel University) as part of Nonlinear Waves and Coherent Structures Webina
 r Series\n\nAbstract: TBA\n
LOCATION:https://researchseminars.org/talk/nwcs2020/38/
END:VEVENT
BEGIN:VEVENT
SUMMARY:Peter Bates (Michigan State University)
DTSTART:20230308T170000Z
DTEND:20230308T180000Z
DTSTAMP:20260422T212751Z
UID:nwcs2020/39
DESCRIPTION:Title: <a href="https://researchseminars.org/talk/nwcs2020/39/
 ">Existence and Persistence of Invariant Manifolds for PDE's and SPDE's</a
 >\nby Peter Bates (Michigan State University) as part of Nonlinear Waves a
 nd Coherent Structures Webinar Series\n\nAbstract: TBA\n
LOCATION:https://researchseminars.org/talk/nwcs2020/39/
END:VEVENT
BEGIN:VEVENT
SUMMARY:Nancy Rodriguez (University of Colorado Boulder)
DTSTART:20230412T160000Z
DTEND:20230412T170000Z
DTSTAMP:20260422T212751Z
UID:nwcs2020/40
DESCRIPTION:Title: <a href="https://researchseminars.org/talk/nwcs2020/40/
 ">On local and non-local diffusion-advection-reaction models for animal mo
 vement</a>\nby Nancy Rodriguez (University of Colorado Boulder) as part of
  Nonlinear Waves and Coherent Structures Webinar Series\n\nAbstract: TBA\n
LOCATION:https://researchseminars.org/talk/nwcs2020/40/
END:VEVENT
BEGIN:VEVENT
SUMMARY:Paris Perdikaris (University of Pennsylvania)
DTSTART:20230510T160000Z
DTEND:20230510T170000Z
DTSTAMP:20260422T212751Z
UID:nwcs2020/41
DESCRIPTION:Title: <a href="https://researchseminars.org/talk/nwcs2020/41/
 ">Resolution-invariant Generative Models for Functional Data</a>\nby Paris
  Perdikaris (University of Pennsylvania) as part of Nonlinear Waves and Co
 herent Structures Webinar Series\n\nAbstract: TBA\n
LOCATION:https://researchseminars.org/talk/nwcs2020/41/
END:VEVENT
BEGIN:VEVENT
SUMMARY:Bernard Deconinck (University of Washington)
DTSTART:20230613T160000Z
DTEND:20230613T170000Z
DTSTAMP:20260422T212751Z
UID:nwcs2020/42
DESCRIPTION:Title: <a href="https://researchseminars.org/talk/nwcs2020/42/
 ">The instabilities of Stokes Waves</a>\nby Bernard Deconinck (University 
 of Washington) as part of Nonlinear Waves and Coherent Structures Webinar 
 Series\n\nAbstract: TBA\n
LOCATION:https://researchseminars.org/talk/nwcs2020/42/
END:VEVENT
BEGIN:VEVENT
SUMMARY:Thomas Bridges (University of Surrey)
DTSTART:20231002T160000Z
DTEND:20231002T170000Z
DTSTAMP:20260422T212751Z
UID:nwcs2020/43
DESCRIPTION:Title: <a href="https://researchseminars.org/talk/nwcs2020/43/
 ">Travelling wave solutions connecting distinct periodic orbits in Hamilto
 nian PDEs</a>\nby Thomas Bridges (University of Surrey) as part of Nonline
 ar Waves and Coherent Structures Webinar Series\n\nAbstract: TBA\n
LOCATION:https://researchseminars.org/talk/nwcs2020/43/
END:VEVENT
BEGIN:VEVENT
SUMMARY:Gennady El (Northumbria University)
DTSTART:20231106T170000Z
DTEND:20231106T180000Z
DTSTAMP:20260422T212751Z
UID:nwcs2020/44
DESCRIPTION:Title: <a href="https://researchseminars.org/talk/nwcs2020/44/
 ">Emergent hydrodynamics of soliton gases in nonlinear dispersive waves</a
 >\nby Gennady El (Northumbria University) as part of Nonlinear Waves and C
 oherent Structures Webinar Series\n\n\nAbstract\nSoliton gases represent l
 arge random ensembles of interacting solitons that display non-trivial eme
 rgent\, macroscopic\, behaviours ultimately determined by the properties o
 f the elementary two-soliton collisions. Originally introduced by V. Zakha
 rov in 1971 the concept of soliton gas has recently attracted significant 
 interest from both mathematics and physics communities. The large-scale ev
 olution of non-equilibrium dense soliton gases in integrable dispersive sy
 stems is described by a nonlinear integro-differential kinetic equation fo
 r the density of states in the spectral (Lax) phase space. In my talk\, I 
 will outline the main ideas of the spectral theory of soliton gases and it
 s applications to a range of fundamental dispersive hydrodynamic phenomena
 : from modulational instability to dispersive shock waves.\n
LOCATION:https://researchseminars.org/talk/nwcs2020/44/
END:VEVENT
BEGIN:VEVENT
SUMMARY:Laurette Tuckerman (Sorbonne Université)
DTSTART:20231204T170000Z
DTEND:20231204T180000Z
DTSTAMP:20260422T212751Z
UID:nwcs2020/45
DESCRIPTION:Title: <a href="https://researchseminars.org/talk/nwcs2020/45/
 ">Exotic patterns of Faraday waves</a>\nby Laurette Tuckerman (Sorbonne Un
 iversité) as part of Nonlinear Waves and Coherent Structures Webinar Seri
 es\n\nAbstract: TBA\n
LOCATION:https://researchseminars.org/talk/nwcs2020/45/
END:VEVENT
BEGIN:VEVENT
SUMMARY:Paul Milewski (Penn State)
DTSTART:20240108T170000Z
DTEND:20240108T180000Z
DTSTAMP:20260422T212751Z
UID:nwcs2020/46
DESCRIPTION:Title: <a href="https://researchseminars.org/talk/nwcs2020/46/
 ">Resonant free-surface water waves in cylinders</a>\nby Paul Milewski (Pe
 nn State) as part of Nonlinear Waves and Coherent Structures Webinar Serie
 s\n\nAbstract: TBA\n
LOCATION:https://researchseminars.org/talk/nwcs2020/46/
END:VEVENT
BEGIN:VEVENT
SUMMARY:Triantaphyllos R Akylas (MIT)
DTSTART:20240205T170000Z
DTEND:20240205T180000Z
DTSTAMP:20260422T212751Z
UID:nwcs2020/47
DESCRIPTION:by Triantaphyllos R Akylas (MIT) as part of Nonlinear Waves an
 d Coherent Structures Webinar Series\n\nAbstract: TBA\n
LOCATION:https://researchseminars.org/talk/nwcs2020/47/
END:VEVENT
END:VCALENDAR
