BEGIN:VCALENDAR
VERSION:2.0
PRODID:researchseminars.org
CALSCALE:GREGORIAN
X-WR-CALNAME:researchseminars.org
BEGIN:VEVENT
SUMMARY:Felix Schlenk (Neuchatel)
DTSTART:20201207T133000Z
DTEND:20201207T144500Z
DTSTAMP:20260422T225843Z
UID:micro-conf-LagTop/1
DESCRIPTION:Title: <a href="https://researchseminars.org/talk/micro-conf-L
 agTop/1/">How to distinguish Lagrangian tori</a>\nby Felix Schlenk (Neucha
 tel) as part of Micro-conference on monotone Lagrangians.\n\nAbstract: TBA
 \n
LOCATION:https://researchseminars.org/talk/micro-conf-LagTop/1/
END:VEVENT
BEGIN:VEVENT
SUMMARY:Renato Viana (UFRJ\, Rio)
DTSTART:20201207T150000Z
DTEND:20201207T161500Z
DTSTAMP:20260422T225843Z
UID:micro-conf-LagTop/2
DESCRIPTION:Title: <a href="https://researchseminars.org/talk/micro-conf-L
 agTop/2/">Monotone Lagrangian tori in Del Pezzo surfaces</a>\nby Renato Vi
 ana (UFRJ\, Rio) as part of Micro-conference on monotone Lagrangians.\n\n\
 nAbstract\nWe will introduce the concept of almost toric fibrations develo
 ped by Symington\, given an specific example in the projective plane\, whe
 re we can see how to interpolate from the monotone Clifford torus to the m
 onotone Chekanov torus. We will discuss the wall-crossing phenomena. Then 
 we will show how infinitely many monotone Lagrangian tori arise as fibres 
 of ATF and how the Maslov index 2 holomorphic disks they bound can disting
 uish them.\n
LOCATION:https://researchseminars.org/talk/micro-conf-LagTop/2/
END:VEVENT
BEGIN:VEVENT
SUMMARY:Jonny Evans (Lancaster)
DTSTART:20201208T133000Z
DTEND:20201208T144500Z
DTSTAMP:20260422T225843Z
UID:micro-conf-LagTop/3
DESCRIPTION:Title: <a href="https://researchseminars.org/talk/micro-conf-L
 agTop/3/">What to do when you first meet a Lagrangian submanifold</a>\nby 
 Jonny Evans (Lancaster) as part of Micro-conference on monotone Lagrangian
 s.\n\nAbstract: TBA\n
LOCATION:https://researchseminars.org/talk/micro-conf-LagTop/3/
END:VEVENT
END:VCALENDAR
