BEGIN:VCALENDAR
VERSION:2.0
PRODID:researchseminars.org
CALSCALE:GREGORIAN
X-WR-CALNAME:researchseminars.org
BEGIN:VEVENT
SUMMARY:Dong-han Yeom (Pusan National University)
DTSTART:20210106T050000Z
DTEND:20210106T063000Z
DTSTAMP:20260422T213011Z
UID:apctpwinter2021/1
DESCRIPTION:Title: <a href="https://researchseminars.org/talk/apctpwinter2
 021/1/">Information loss paradox fifty years later 1</a>\nby Dong-han Yeom
  (Pusan National University) as part of 25th APCTP Winter School on Fundam
 ental Physics\n\nAbstract: TBA\n
LOCATION:https://researchseminars.org/talk/apctpwinter2021/1/
END:VEVENT
BEGIN:VEVENT
SUMMARY:Axel Kleinschmidt (MPI\, AEI Potsdam)
DTSTART:20210106T073000Z
DTEND:20210106T090000Z
DTSTAMP:20260422T213011Z
UID:apctpwinter2021/2
DESCRIPTION:Title: <a href="https://researchseminars.org/talk/apctpwinter2
 021/2/">Perturbative string theory 1</a>\nby Axel Kleinschmidt (MPI\, AEI 
 Potsdam) as part of 25th APCTP Winter School on Fundamental Physics\n\nAbs
 tract: TBA\n
LOCATION:https://researchseminars.org/talk/apctpwinter2021/2/
END:VEVENT
BEGIN:VEVENT
SUMMARY:Dong-han Yeom (Pusan National University)
DTSTART:20210107T050000Z
DTEND:20210107T063000Z
DTSTAMP:20260422T213011Z
UID:apctpwinter2021/3
DESCRIPTION:Title: <a href="https://researchseminars.org/talk/apctpwinter2
 021/3/">Information loss paradox fifty years later 2</a>\nby Dong-han Yeom
  (Pusan National University) as part of 25th APCTP Winter School on Fundam
 ental Physics\n\nAbstract: TBA\n
LOCATION:https://researchseminars.org/talk/apctpwinter2021/3/
END:VEVENT
BEGIN:VEVENT
SUMMARY:Axel Kleinschmidt (MPI\, AEI Potsdam)
DTSTART:20210107T073000Z
DTEND:20210107T090000Z
DTSTAMP:20260422T213011Z
UID:apctpwinter2021/4
DESCRIPTION:Title: <a href="https://researchseminars.org/talk/apctpwinter2
 021/4/">Perturbative string theory 2</a>\nby Axel Kleinschmidt (MPI\, AEI 
 Potsdam) as part of 25th APCTP Winter School on Fundamental Physics\n\nAbs
 tract: TBA\n
LOCATION:https://researchseminars.org/talk/apctpwinter2021/4/
END:VEVENT
BEGIN:VEVENT
SUMMARY:Raghu Mahajan (Stanford University)
DTSTART:20210108T010000Z
DTEND:20210108T023000Z
DTSTAMP:20260422T213011Z
UID:apctpwinter2021/5
DESCRIPTION:Title: <a href="https://researchseminars.org/talk/apctpwinter2
 021/5/">Recent progress in information loss paradox 1</a>\nby Raghu Mahaja
 n (Stanford University) as part of 25th APCTP Winter School on Fundamental
  Physics\n\nAbstract: TBA\n
LOCATION:https://researchseminars.org/talk/apctpwinter2021/5/
END:VEVENT
BEGIN:VEVENT
SUMMARY:Dong-han Yeom (Pusan National University)
DTSTART:20210108T050000Z
DTEND:20210108T063000Z
DTSTAMP:20260422T213011Z
UID:apctpwinter2021/6
DESCRIPTION:Title: <a href="https://researchseminars.org/talk/apctpwinter2
 021/6/">Information loss paradox fifty years later 3</a>\nby Dong-han Yeom
  (Pusan National University) as part of 25th APCTP Winter School on Fundam
 ental Physics\n\nAbstract: TBA\n
LOCATION:https://researchseminars.org/talk/apctpwinter2021/6/
END:VEVENT
BEGIN:VEVENT
SUMMARY:Axel Kleinschmidt (MPI\, AEI Potsdam)
DTSTART:20210108T073000Z
DTEND:20210108T090000Z
DTSTAMP:20260422T213011Z
UID:apctpwinter2021/7
DESCRIPTION:Title: <a href="https://researchseminars.org/talk/apctpwinter2
 021/7/">Perturbative string theory 3</a>\nby Axel Kleinschmidt (MPI\, AEI 
 Potsdam) as part of 25th APCTP Winter School on Fundamental Physics\n\nAbs
 tract: TBA\n
LOCATION:https://researchseminars.org/talk/apctpwinter2021/7/
END:VEVENT
BEGIN:VEVENT
SUMMARY:Raghu Mahajan (Stanford University)
DTSTART:20210111T010000Z
DTEND:20210111T023000Z
DTSTAMP:20260422T213011Z
UID:apctpwinter2021/8
DESCRIPTION:Title: <a href="https://researchseminars.org/talk/apctpwinter2
 021/8/">Recent progress in information loss paradox 2</a>\nby Raghu Mahaja
 n (Stanford University) as part of 25th APCTP Winter School on Fundamental
  Physics\n\nAbstract: TBA\n
LOCATION:https://researchseminars.org/talk/apctpwinter2021/8/
END:VEVENT
BEGIN:VEVENT
SUMMARY:Dong-han Yeom (Pusan National University)
DTSTART:20210111T050000Z
DTEND:20210111T063000Z
DTSTAMP:20260422T213011Z
UID:apctpwinter2021/9
DESCRIPTION:Title: <a href="https://researchseminars.org/talk/apctpwinter2
 021/9/">Information loss paradox fifty years later4</a>\nby Dong-han Yeom 
 (Pusan National University) as part of 25th APCTP Winter School on Fundame
 ntal Physics\n\nAbstract: TBA\n
LOCATION:https://researchseminars.org/talk/apctpwinter2021/9/
END:VEVENT
BEGIN:VEVENT
SUMMARY:Axel Kleinschmidt (MPI\, AEI Potsdam)
DTSTART:20210111T073000Z
DTEND:20210111T090000Z
DTSTAMP:20260422T213011Z
UID:apctpwinter2021/10
DESCRIPTION:Title: <a href="https://researchseminars.org/talk/apctpwinter2
 021/10/">Perturbative string theory 4</a>\nby Axel Kleinschmidt (MPI\, AEI
  Potsdam) as part of 25th APCTP Winter School on Fundamental Physics\n\nAb
 stract: TBA\n
LOCATION:https://researchseminars.org/talk/apctpwinter2021/10/
END:VEVENT
BEGIN:VEVENT
SUMMARY:Raghu Mahajan (Stanford University)
DTSTART:20210112T010000Z
DTEND:20210112T023000Z
DTSTAMP:20260422T213011Z
UID:apctpwinter2021/11
DESCRIPTION:Title: <a href="https://researchseminars.org/talk/apctpwinter2
 021/11/">Recent progress in information loss paradox 3</a>\nby Raghu Mahaj
 an (Stanford University) as part of 25th APCTP Winter School on Fundamenta
 l Physics\n\nAbstract: TBA\n
LOCATION:https://researchseminars.org/talk/apctpwinter2021/11/
END:VEVENT
BEGIN:VEVENT
SUMMARY:Dong-han Yeom (Pusan National University)
DTSTART:20210112T050000Z
DTEND:20210112T063000Z
DTSTAMP:20260422T213011Z
UID:apctpwinter2021/12
DESCRIPTION:Title: <a href="https://researchseminars.org/talk/apctpwinter2
 021/12/">Information loss paradox fifty years later 5</a>\nby Dong-han Yeo
 m (Pusan National University) as part of 25th APCTP Winter School on Funda
 mental Physics\n\nAbstract: TBA\n
LOCATION:https://researchseminars.org/talk/apctpwinter2021/12/
END:VEVENT
BEGIN:VEVENT
SUMMARY:Axel Kleinschmidt (MPI\, AEI Potsdam)
DTSTART:20210112T073000Z
DTEND:20210112T090000Z
DTSTAMP:20260422T213011Z
UID:apctpwinter2021/13
DESCRIPTION:Title: <a href="https://researchseminars.org/talk/apctpwinter2
 021/13/">Perturbative string theory 5</a>\nby Axel Kleinschmidt (MPI\, AEI
  Potsdam) as part of 25th APCTP Winter School on Fundamental Physics\n\nAb
 stract: TBA\n
LOCATION:https://researchseminars.org/talk/apctpwinter2021/13/
END:VEVENT
BEGIN:VEVENT
SUMMARY:Raghu Mahajan (Stanford University)
DTSTART:20210113T010000Z
DTEND:20210113T023000Z
DTSTAMP:20260422T213011Z
UID:apctpwinter2021/14
DESCRIPTION:Title: <a href="https://researchseminars.org/talk/apctpwinter2
 021/14/">Recent progress in information loss paradox 4</a>\nby Raghu Mahaj
 an (Stanford University) as part of 25th APCTP Winter School on Fundamenta
 l Physics\n\nAbstract: TBA\n
LOCATION:https://researchseminars.org/talk/apctpwinter2021/14/
END:VEVENT
BEGIN:VEVENT
SUMMARY:Dong-han Yeom (Pusan National University)
DTSTART:20210113T050000Z
DTEND:20210113T063000Z
DTSTAMP:20260422T213011Z
UID:apctpwinter2021/15
DESCRIPTION:Title: <a href="https://researchseminars.org/talk/apctpwinter2
 021/15/">Information loss paradox fifty years later 6</a>\nby Dong-han Yeo
 m (Pusan National University) as part of 25th APCTP Winter School on Funda
 mental Physics\n\nAbstract: TBA\n
LOCATION:https://researchseminars.org/talk/apctpwinter2021/15/
END:VEVENT
BEGIN:VEVENT
SUMMARY:Axel Kleinschmidt (MPI\, AEI Potsdam)
DTSTART:20210113T073000Z
DTEND:20210113T090000Z
DTSTAMP:20260422T213011Z
UID:apctpwinter2021/16
DESCRIPTION:Title: <a href="https://researchseminars.org/talk/apctpwinter2
 021/16/">Perturbative string theory 6</a>\nby Axel Kleinschmidt (MPI\, AEI
  Potsdam) as part of 25th APCTP Winter School on Fundamental Physics\n\nAb
 stract: TBA\n
LOCATION:https://researchseminars.org/talk/apctpwinter2021/16/
END:VEVENT
END:VCALENDAR
