BEGIN:VCALENDAR
VERSION:2.0
PRODID:researchseminars.org
CALSCALE:GREGORIAN
X-WR-CALNAME:researchseminars.org
BEGIN:VEVENT
SUMMARY:David Kazhdan (Hebrew University of Jerusalem)
DTSTART:20200511T120000Z
DTEND:20200511T130000Z
DTSTAMP:20260422T212752Z
UID:Weizmann/1
DESCRIPTION:Title: <a href="https://researchseminars.org/talk/Weizmann/1/"
 >Hecke operators and the Langlands correspondence for curves over local fi
 elds</a>\nby David Kazhdan (Hebrew University of Jerusalem) as part of Con
 ference on representation theory and algebraic analysis\n\nAbstract: TBA\n
 \nZoom password is 11052020.\n
LOCATION:https://researchseminars.org/talk/Weizmann/1/
END:VEVENT
BEGIN:VEVENT
SUMMARY:Alexander Braverman (University of Toronto)
DTSTART:20200511T131500Z
DTEND:20200511T141500Z
DTSTAMP:20260422T212752Z
UID:Weizmann/2
DESCRIPTION:Title: <a href="https://researchseminars.org/talk/Weizmann/2/"
 >Generalizing local geometric class field theory</a>\nby Alexander Braverm
 an (University of Toronto) as part of Conference on representation theory 
 and algebraic analysis\n\nAbstract: TBA\n\nZoom password is 11052020.\n
LOCATION:https://researchseminars.org/talk/Weizmann/2/
END:VEVENT
BEGIN:VEVENT
SUMMARY:Dennis Gaitsgory (Harvard)
DTSTART:20200511T143000Z
DTEND:20200511T153000Z
DTSTAMP:20260422T212752Z
UID:Weizmann/3
DESCRIPTION:Title: <a href="https://researchseminars.org/talk/Weizmann/3/"
 >Geometric 2nd adjointness via nearby cycles\, a report on the work of Lin
  Chen</a>\nby Dennis Gaitsgory (Harvard) as part of Conference on represen
 tation theory and algebraic analysis\n\nAbstract: TBA\n\nZoom password is 
 11052020.\n
LOCATION:https://researchseminars.org/talk/Weizmann/3/
END:VEVENT
BEGIN:VEVENT
SUMMARY:Michael Finkelberg (Higher School of Economics\, Moscow)
DTSTART:20200512T131500Z
DTEND:20200512T141500Z
DTSTAMP:20260422T212752Z
UID:Weizmann/5
DESCRIPTION:Title: <a href="https://researchseminars.org/talk/Weizmann/5/"
 >Elliptic zastava</a>\nby Michael Finkelberg (Higher School of Economics\,
  Moscow) as part of Conference on representation theory and algebraic anal
 ysis\n\nAbstract: TBA\n\nZoom password is 12052020\n
LOCATION:https://researchseminars.org/talk/Weizmann/5/
END:VEVENT
BEGIN:VEVENT
SUMMARY:Erez Lapid (Weizmann Institute of Science)
DTSTART:20200513T120000Z
DTEND:20200513T130000Z
DTSTAMP:20260422T212752Z
UID:Weizmann/7
DESCRIPTION:Title: <a href="https://researchseminars.org/talk/Weizmann/7/"
 >Results and conjectures about parabolic induction for the general linear 
 group over a p-adic field</a>\nby Erez Lapid (Weizmann Institute of Scienc
 e) as part of Conference on representation theory and algebraic analysis\n
 \nAbstract: TBA\n\nZoom password is 13052020\n
LOCATION:https://researchseminars.org/talk/Weizmann/7/
END:VEVENT
BEGIN:VEVENT
SUMMARY:Yiannis Sakellaridis (Johns Hopkins University)
DTSTART:20200513T131500Z
DTEND:20200513T141500Z
DTSTAMP:20260422T212752Z
UID:Weizmann/8
DESCRIPTION:Title: <a href="https://researchseminars.org/talk/Weizmann/8/"
 >Periods and $L$-functions</a>\nby Yiannis Sakellaridis (Johns Hopkins Uni
 versity) as part of Conference on representation theory and algebraic anal
 ysis\n\nAbstract: TBA\n\nZoom password is 13052020\n
LOCATION:https://researchseminars.org/talk/Weizmann/8/
END:VEVENT
BEGIN:VEVENT
SUMMARY:Akshay Venkatesh (IAS)
DTSTART:20200513T143000Z
DTEND:20200513T153000Z
DTSTAMP:20260422T212752Z
UID:Weizmann/9
DESCRIPTION:Title: <a href="https://researchseminars.org/talk/Weizmann/9/"
 >Infinite sums of $L$-functions</a>\nby Akshay Venkatesh (IAS) as part of 
 Conference on representation theory and algebraic analysis\n\nAbstract: TB
 A\n\nZoom password is 13052020\n
LOCATION:https://researchseminars.org/talk/Weizmann/9/
END:VEVENT
BEGIN:VEVENT
SUMMARY:Avraham Aizenbud (Weizmann Institute of Science)
DTSTART:20200514T120000Z
DTEND:20200514T130000Z
DTSTAMP:20260422T212752Z
UID:Weizmann/10
DESCRIPTION:Title: <a href="https://researchseminars.org/talk/Weizmann/10/
 ">Point-wise surjective presentations of stacks\, or why I am not afraid o
 f (infinity) stacks anymore?</a>\nby Avraham Aizenbud (Weizmann Institute 
 of Science) as part of Conference on representation theory and algebraic a
 nalysis\n\nAbstract: TBA\n\nZoom password is 14052020\n
LOCATION:https://researchseminars.org/talk/Weizmann/10/
END:VEVENT
BEGIN:VEVENT
SUMMARY:Alexander Yom Din (Hebrew University of Jerusalem)
DTSTART:20200512T120000Z
DTEND:20200512T130000Z
DTSTAMP:20260422T212752Z
UID:Weizmann/15
DESCRIPTION:Title: <a href="https://researchseminars.org/talk/Weizmann/15/
 ">A Paley-Wiener theorem for spherical p-adic spaces and Bernstein morphis
 ms</a>\nby Alexander Yom Din (Hebrew University of Jerusalem) as part of C
 onference on representation theory and algebraic analysis\n\nAbstract: TBA
 \n\nZoom password is 12052020\n
LOCATION:https://researchseminars.org/talk/Weizmann/15/
END:VEVENT
BEGIN:VEVENT
SUMMARY:Roman Bezrukavnikov (MIT)
DTSTART:20200512T143000Z
DTEND:20200512T153000Z
DTSTAMP:20260422T212752Z
UID:Weizmann/17
DESCRIPTION:Title: <a href="https://researchseminars.org/talk/Weizmann/17/
 ">Unipotent characters and $\\ell$-adic sheaves</a>\nby Roman Bezrukavniko
 v (MIT) as part of Conference on representation theory and algebraic analy
 sis\n\nAbstract: TBA\n\nZoom password is 12052020\n
LOCATION:https://researchseminars.org/talk/Weizmann/17/
END:VEVENT
BEGIN:VEVENT
SUMMARY:Vladimir Berkovich (Weizmann Institute of Science)
DTSTART:20200514T131500Z
DTEND:20200514T141500Z
DTSTAMP:20260422T212752Z
UID:Weizmann/22
DESCRIPTION:Title: <a href="https://researchseminars.org/talk/Weizmann/22/
 ">Hodge theory for non-archimedean analytic spaces</a>\nby Vladimir Berkov
 ich (Weizmann Institute of Science) as part of Conference on representatio
 n theory and algebraic analysis\n\nAbstract: TBA\n\nZoom password is 14052
 020\n
LOCATION:https://researchseminars.org/talk/Weizmann/22/
END:VEVENT
BEGIN:VEVENT
SUMMARY:Peter Sarnak (Princeton University)
DTSTART:20200514T143000Z
DTEND:20200514T153000Z
DTSTAMP:20260422T212752Z
UID:Weizmann/23
DESCRIPTION:Title: <a href="https://researchseminars.org/talk/Weizmann/23/
 ">Gap sets for the spectra of cubic graphs</a>\nby Peter Sarnak (Princeton
  University) as part of Conference on representation theory and algebraic 
 analysis\n\nAbstract: TBA\n\nZoom password is 14052020\n
LOCATION:https://researchseminars.org/talk/Weizmann/23/
END:VEVENT
END:VCALENDAR
