BEGIN:VCALENDAR
VERSION:2.0
PRODID:researchseminars.org
CALSCALE:GREGORIAN
X-WR-CALNAME:researchseminars.org
BEGIN:VEVENT
SUMMARY:Adrian Padellaro (Queen Mary\, University of London)
DTSTART:20230906T073000Z
DTEND:20230906T083000Z
DTSTAMP:20260422T212557Z
UID:UNISTMathPhys/1
DESCRIPTION:Title: <a href="https://researchseminars.org/talk/UNISTMathPhy
 s/1/">Integral character combinations from 2D TQFTs</a>\nby Adrian Padella
 ro (Queen Mary\, University of London) as part of UNIST Mathematical Physi
 cs Seminar\n\n\nAbstract\nThe study of integrality properties of character
 s of finite groups has a long history in mathematics. In this seminar we w
 ill explore this topic in the setting of two-dimensional topological quant
 um field theories (2D TQFTs). Dijkgraaf-Witten theories\, or G-TQFTs\, are
  2D TQFTs based on a finite group G. They were recently used to derive int
 egrality properties of sums over irreducible representations of G\, along 
 columns of the character table of G. We will review the construction of in
 tegral partial sums of normalized characters using G-TQFTs and present som
 e refinements of these results. Given these integral partial sums of colum
 n type\, it is natural to ask if similar integral partial sums of row type
  exist. Motivated by this\, we introduce a new family of TQFTs\, called R(
 G)-TQFTs\, based on fusion of irreducible representations of G. Applying t
 he same construction\, we can prove integrality results for sums over conj
 ugacy classes\, along rows of the character table of G.\n\nhttps://unist-k
 r.zoom.us/meeting/register/tZApdeirpjktG9P1t59WdD_QoL3k-bFZurnZ\n
LOCATION:https://researchseminars.org/talk/UNISTMathPhys/1/
END:VEVENT
BEGIN:VEVENT
SUMMARY:Amihay Hanany (Imperial College London)
DTSTART:20231004T070000Z
DTEND:20231004T083000Z
DTSTAMP:20260422T212557Z
UID:UNISTMathPhys/2
DESCRIPTION:Title: <a href="https://researchseminars.org/talk/UNISTMathPhy
 s/2/">Lecture 1 - Computational Methods for Symplectic Singularities</a>\n
 by Amihay Hanany (Imperial College London) as part of UNIST Mathematical P
 hysics Seminar\n\n\nAbstract\nRegister here: https://sites.google.com/view
 /unisthananylectures2023/\n\nRegister here: https://sites.google.com/view/
 unisthananylectures2023/\n
LOCATION:https://researchseminars.org/talk/UNISTMathPhys/2/
END:VEVENT
BEGIN:VEVENT
SUMMARY:Amihay Hanany (Imperial College London)
DTSTART:20231006T050000Z
DTEND:20231006T063000Z
DTSTAMP:20260422T212557Z
UID:UNISTMathPhys/3
DESCRIPTION:Title: <a href="https://researchseminars.org/talk/UNISTMathPhy
 s/3/">Lecture 3 - Computational Methods for Symplectic Singularities</a>\n
 by Amihay Hanany (Imperial College London) as part of UNIST Mathematical P
 hysics Seminar\n\n\nAbstract\nRegister here: https://sites.google.com/view
 /unisthananylectures2023/\n\nRegister here: https://sites.google.com/view/
 unisthananylectures2023/\n
LOCATION:https://researchseminars.org/talk/UNISTMathPhys/3/
END:VEVENT
BEGIN:VEVENT
SUMMARY:Amihay Hanany (Imperial College London)
DTSTART:20231006T070000Z
DTEND:20231006T083000Z
DTSTAMP:20260422T212557Z
UID:UNISTMathPhys/4
DESCRIPTION:Title: <a href="https://researchseminars.org/talk/UNISTMathPhy
 s/4/">Lecture 4 - Computational Methods for Symplectic Singularities</a>\n
 by Amihay Hanany (Imperial College London) as part of UNIST Mathematical P
 hysics Seminar\n\n\nAbstract\nRegister here: https://sites.google.com/view
 /unisthananylectures2023/\n\nRegister here: https://sites.google.com/view/
 unisthananylectures2023/\n
LOCATION:https://researchseminars.org/talk/UNISTMathPhys/4/
END:VEVENT
BEGIN:VEVENT
SUMMARY:Amihay Hanany (Imperial College London)
DTSTART:20231006T010000Z
DTEND:20231006T023000Z
DTSTAMP:20260422T212557Z
UID:UNISTMathPhys/5
DESCRIPTION:Title: <a href="https://researchseminars.org/talk/UNISTMathPhy
 s/5/">Lecture 2 - Computational Methods for Symplectic Singularities</a>\n
 by Amihay Hanany (Imperial College London) as part of UNIST Mathematical P
 hysics Seminar\n\n\nAbstract\nRegister here: https://sites.google.com/view
 /unisthananylectures2023/\n\nRegister here: https://sites.google.com/view/
 unisthananylectures2023/\n
LOCATION:https://researchseminars.org/talk/UNISTMathPhys/5/
END:VEVENT
BEGIN:VEVENT
SUMMARY:Amihay Hanany (Imperial College London)
DTSTART:20231011T070000Z
DTEND:20231011T083000Z
DTSTAMP:20260422T212557Z
UID:UNISTMathPhys/6
DESCRIPTION:Title: <a href="https://researchseminars.org/talk/UNISTMathPhy
 s/6/">Lecture 5 - Computational Methods for Symplectic Singularities</a>\n
 by Amihay Hanany (Imperial College London) as part of UNIST Mathematical P
 hysics Seminar\n\n\nAbstract\nRegister here: https://sites.google.com/view
 /unisthananylectures2023/\n\nRegister here: https://sites.google.com/view/
 unisthananylectures2023/\n
LOCATION:https://researchseminars.org/talk/UNISTMathPhys/6/
END:VEVENT
BEGIN:VEVENT
SUMMARY:Sanjaye Ramgoolam (Queen Mary University of London)
DTSTART:20240125T070000Z
DTEND:20240125T080000Z
DTSTAMP:20260422T212557Z
UID:UNISTMathPhys/7
DESCRIPTION:Title: <a href="https://researchseminars.org/talk/UNISTMathPhy
 s/7/">String Theory and Group-Theoretic Algorithms</a>\nby Sanjaye Ramgool
 am (Queen Mary University of London) as part of UNIST Mathematical Physics
  Seminar\n\nLecture held in UNIST 108\, 320.\nAbstract: TBA\n
LOCATION:https://researchseminars.org/talk/UNISTMathPhys/7/
END:VEVENT
END:VCALENDAR
