BEGIN:VCALENDAR
VERSION:2.0
PRODID:researchseminars.org
CALSCALE:GREGORIAN
X-WR-CALNAME:researchseminars.org
BEGIN:VEVENT
SUMMARY:Alexey Golovnev
DTSTART:20210618T110000Z
DTEND:20210618T115000Z
DTSTAMP:20260422T212932Z
UID:Teleworse2021/1
DESCRIPTION:Title: <a href="https://researchseminars.org/talk/Teleworse202
 1/1/">Covariant and pure tetrad approaches to modified teleparallel gravit
 y</a>\nby Alexey Golovnev as part of Workshop-Seminar: Covariance in Telep
 arallel Gravity\n\nAbstract: TBA\n
LOCATION:https://researchseminars.org/talk/Teleworse2021/1/
END:VEVENT
BEGIN:VEVENT
SUMMARY:Emmanuel Saridakis
DTSTART:20210618T120000Z
DTEND:20210618T122500Z
DTSTAMP:20260422T212932Z
UID:Teleworse2021/2
DESCRIPTION:Title: <a href="https://researchseminars.org/talk/Teleworse202
 1/2/">Spherically symmetric solutions in covariant and pure tetrad formula
 tion of f(T) gravity - I</a>\nby Emmanuel Saridakis as part of Workshop-Se
 minar: Covariance in Teleparallel Gravity\n\nAbstract: TBA\n
LOCATION:https://researchseminars.org/talk/Teleworse2021/2/
END:VEVENT
BEGIN:VEVENT
SUMMARY:Xin Ren
DTSTART:20210618T122500Z
DTEND:20210618T125000Z
DTSTAMP:20260422T212932Z
UID:Teleworse2021/3
DESCRIPTION:Title: <a href="https://researchseminars.org/talk/Teleworse202
 1/3/">Spherically symmetric solutions in covariant and pure tetrad formula
 tion of f(T) gravity - II</a>\nby Xin Ren as part of Workshop-Seminar: Cov
 ariance in Teleparallel Gravity\n\nAbstract: TBA\n
LOCATION:https://researchseminars.org/talk/Teleworse2021/3/
END:VEVENT
BEGIN:VEVENT
SUMMARY:Martin Krssak
DTSTART:20210618T130000Z
DTEND:20210618T135000Z
DTSTAMP:20260422T212932Z
UID:Teleworse2021/4
DESCRIPTION:Title: <a href="https://researchseminars.org/talk/Teleworse202
 1/4/">Covariance of teleparallel theories and gravitational energy-momentu
 m</a>\nby Martin Krssak as part of Workshop-Seminar: Covariance in Telepar
 allel Gravity\n\nAbstract: TBA\n
LOCATION:https://researchseminars.org/talk/Teleworse2021/4/
END:VEVENT
BEGIN:VEVENT
SUMMARY:Jose Beltran-Jimenez
DTSTART:20210618T140000Z
DTEND:20210618T145000Z
DTSTAMP:20260422T212932Z
UID:Teleworse2021/5
DESCRIPTION:Title: <a href="https://researchseminars.org/talk/Teleworse202
 1/5/">Strong coupling in teleparallel theories</a>\nby Jose Beltran-Jimene
 z as part of Workshop-Seminar: Covariance in Teleparallel Gravity\n\nAbstr
 act: TBA\n
LOCATION:https://researchseminars.org/talk/Teleworse2021/5/
END:VEVENT
BEGIN:VEVENT
SUMMARY:James Nester
DTSTART:20210621T090000Z
DTEND:20210621T095000Z
DTSTAMP:20260422T212932Z
UID:Teleworse2021/6
DESCRIPTION:Title: <a href="https://researchseminars.org/talk/Teleworse202
 1/6/">Local symmetries and physical degrees of freedom in f(T) gravity: a 
 Dirac Hamiltonian constraint analysis</a>\nby James Nester as part of Work
 shop-Seminar: Covariance in Teleparallel Gravity\n\nAbstract: TBA\n
LOCATION:https://researchseminars.org/talk/Teleworse2021/6/
END:VEVENT
BEGIN:VEVENT
SUMMARY:Maria-Jose Guzman
DTSTART:20210621T100000Z
DTEND:20210621T105000Z
DTSTAMP:20260422T212932Z
UID:Teleworse2021/7
DESCRIPTION:Title: <a href="https://researchseminars.org/talk/Teleworse202
 1/7/">Primary constraints in covariant teleparallel gravity</a>\nby Maria-
 Jose Guzman as part of Workshop-Seminar: Covariance in Teleparallel Gravit
 y\n\nAbstract: TBA\n
LOCATION:https://researchseminars.org/talk/Teleworse2021/7/
END:VEVENT
BEGIN:VEVENT
SUMMARY:Manuel Hohmann
DTSTART:20210621T110000Z
DTEND:20210621T112500Z
DTSTAMP:20260422T212932Z
UID:Teleworse2021/8
DESCRIPTION:Title: <a href="https://researchseminars.org/talk/Teleworse202
 1/8/">A geometric view on gauge transformations and Lorentz invariance</a>
 \nby Manuel Hohmann as part of Workshop-Seminar: Covariance in Teleparalle
 l Gravity\n\nAbstract: TBA\n
LOCATION:https://researchseminars.org/talk/Teleworse2021/8/
END:VEVENT
BEGIN:VEVENT
SUMMARY:Christian Pfeifer
DTSTART:20210621T112500Z
DTEND:20210621T115000Z
DTSTAMP:20260422T212932Z
UID:Teleworse2021/9
DESCRIPTION:Title: <a href="https://researchseminars.org/talk/Teleworse202
 1/9/">Weitzenböck geometry</a>\nby Christian Pfeifer as part of Workshop-
 Seminar: Covariance in Teleparallel Gravity\n\nAbstract: TBA\n
LOCATION:https://researchseminars.org/talk/Teleworse2021/9/
END:VEVENT
BEGIN:VEVENT
SUMMARY:Discussion
DTSTART:20210621T120000Z
DTEND:20210621T125000Z
DTSTAMP:20260422T212932Z
UID:Teleworse2021/10
DESCRIPTION:Title: <a href="https://researchseminars.org/talk/Teleworse202
 1/10/">Conclusions</a>\nby Discussion as part of Workshop-Seminar: Covaria
 nce in Teleparallel Gravity\n\nAbstract: TBA\n
LOCATION:https://researchseminars.org/talk/Teleworse2021/10/
END:VEVENT
END:VCALENDAR
