BEGIN:VCALENDAR
VERSION:2.0
PRODID:researchseminars.org
CALSCALE:GREGORIAN
X-WR-CALNAME:researchseminars.org
BEGIN:VEVENT
SUMMARY:Xinyu Zhang (DESY)
DTSTART:20220215T080000Z
DTEND:20220215T090000Z
DTSTAMP:20260422T225656Z
UID:Sem22/1
DESCRIPTION:Title: <a href="https://researchseminars.org/talk/Sem22/1/">Te
 trahedron Instantons</a>\nby Xinyu Zhang (DESY) as part of SEU Yau Center 
 Theoretical Physics Seminars 2022\n\nAbstract: TBA\n
LOCATION:https://researchseminars.org/talk/Sem22/1/
END:VEVENT
BEGIN:VEVENT
SUMMARY:Ye Yuan (Zhejiang)
DTSTART:20220315T060000Z
DTEND:20220315T070000Z
DTSTAMP:20260422T225656Z
UID:Sem22/2
DESCRIPTION:Title: <a href="https://researchseminars.org/talk/Sem22/2/">Gr
 aviton Scattering in AdS at Two Loops</a>\nby Ye Yuan (Zhejiang) as part o
 f SEU Yau Center Theoretical Physics Seminars 2022\n\nAbstract: TBA\n
LOCATION:https://researchseminars.org/talk/Sem22/2/
END:VEVENT
BEGIN:VEVENT
SUMMARY:Lei Yang (KITS)
DTSTART:20220322T080000Z
DTEND:20220322T090000Z
DTSTAMP:20260422T225656Z
UID:Sem22/3
DESCRIPTION:Title: <a href="https://researchseminars.org/talk/Sem22/3/">Sp
 in matrix theory as non-relativistic limit of N=4 SYM</a>\nby Lei Yang (KI
 TS) as part of SEU Yau Center Theoretical Physics Seminars 2022\n\nAbstrac
 t: TBA\n
LOCATION:https://researchseminars.org/talk/Sem22/3/
END:VEVENT
BEGIN:VEVENT
SUMMARY:Michele del Zotto (Uppsala)
DTSTART:20220329T080000Z
DTEND:20220329T090000Z
DTSTAMP:20260422T225656Z
UID:Sem22/4
DESCRIPTION:Title: <a href="https://researchseminars.org/talk/Sem22/4/">2-
 group symmetries from M-theory</a>\nby Michele del Zotto (Uppsala) as part
  of SEU Yau Center Theoretical Physics Seminars 2022\n\nAbstract: TBA\n
LOCATION:https://researchseminars.org/talk/Sem22/4/
END:VEVENT
BEGIN:VEVENT
SUMMARY:Mauricio Romo (Tsinghua)
DTSTART:20220405T080000Z
DTEND:20220405T090000Z
DTSTAMP:20260422T225656Z
UID:Sem22/5
DESCRIPTION:Title: <a href="https://researchseminars.org/talk/Sem22/5/">Ne
 tworks and BPS Counting: A-branes view point</a>\nby Mauricio Romo (Tsingh
 ua) as part of SEU Yau Center Theoretical Physics Seminars 2022\n\nAbstrac
 t: TBA\n
LOCATION:https://researchseminars.org/talk/Sem22/5/
END:VEVENT
BEGIN:VEVENT
SUMMARY:Shu Lin (Sun Yat-sen)
DTSTART:20220412T080000Z
DTEND:20220412T090000Z
DTSTAMP:20260422T225656Z
UID:Sem22/6
DESCRIPTION:Title: <a href="https://researchseminars.org/talk/Sem22/6/">An
 omalous transports in quark-gluon plasma at strong and weak coupling</a>\n
 by Shu Lin (Sun Yat-sen) as part of SEU Yau Center Theoretical Physics Sem
 inars 2022\n\nAbstract: TBA\n
LOCATION:https://researchseminars.org/talk/Sem22/6/
END:VEVENT
BEGIN:VEVENT
SUMMARY:Vladmir Kazakov (ENS Paris)
DTSTART:20220426T080000Z
DTEND:20220426T090000Z
DTSTAMP:20260422T225656Z
UID:Sem22/7
DESCRIPTION:Title: <a href="https://researchseminars.org/talk/Sem22/7/">Bo
 otstrap for matrix models and lattice Yang-Mills theory at large N</a>\nby
  Vladmir Kazakov (ENS Paris) as part of SEU Yau Center Theoretical Physics
  Seminars 2022\n\nAbstract: TBA\n
LOCATION:https://researchseminars.org/talk/Sem22/7/
END:VEVENT
BEGIN:VEVENT
SUMMARY:Francesco Benini (SISSA\, Trieste)
DTSTART:20220420T080000Z
DTEND:20220420T090000Z
DTSTAMP:20260422T225656Z
UID:Sem22/8
DESCRIPTION:Title: <a href="https://researchseminars.org/talk/Sem22/8/">Su
 perconformal Index and Gravitational Path Integral</a>\nby Francesco Benin
 i (SISSA\, Trieste) as part of SEU Yau Center Theoretical Physics Seminars
  2022\n\nAbstract: TBA\n
LOCATION:https://researchseminars.org/talk/Sem22/8/
END:VEVENT
BEGIN:VEVENT
SUMMARY:Vincent Caudrelier (University of Leeds)
DTSTART:20220510T073000Z
DTEND:20220510T083000Z
DTSTAMP:20260422T225656Z
UID:Sem22/9
DESCRIPTION:Title: <a href="https://researchseminars.org/talk/Sem22/9/">Cl
 assical Yang-Baxter equation\, Lagrangian multiforms and ultralocal integr
 able hierarchies</a>\nby Vincent Caudrelier (University of Leeds) as part 
 of SEU Yau Center Theoretical Physics Seminars 2022\n\nAbstract: TBA\n
LOCATION:https://researchseminars.org/talk/Sem22/9/
END:VEVENT
BEGIN:VEVENT
SUMMARY:Geng Hao (Harvard)
DTSTART:20220517T020000Z
DTEND:20220517T030000Z
DTSTAMP:20260422T225656Z
UID:Sem22/10
DESCRIPTION:Title: <a href="https://researchseminars.org/talk/Sem22/10/">T
 he island in brane world</a>\nby Geng Hao (Harvard) as part of SEU Yau Cen
 ter Theoretical Physics Seminars 2022\n\nAbstract: TBA\n
LOCATION:https://researchseminars.org/talk/Sem22/10/
END:VEVENT
BEGIN:VEVENT
SUMMARY:Luis Apolo (University of Amsterdam)
DTSTART:20220524T080000Z
DTEND:20220524T090000Z
DTSTAMP:20260422T225656Z
UID:Sem22/11
DESCRIPTION:Title: <a href="https://researchseminars.org/talk/Sem22/11/">S
 trings on AdS3\, TsT transformations\, and irrelevant deformation</a>\nby 
 Luis Apolo (University of Amsterdam) as part of SEU Yau Center Theoretical
  Physics Seminars 2022\n\nAbstract: TBA\n
LOCATION:https://researchseminars.org/talk/Sem22/11/
END:VEVENT
BEGIN:VEVENT
SUMMARY:Yang Zhou (Fudan)
DTSTART:20220531T080000Z
DTEND:20220531T090000Z
DTSTAMP:20260422T225656Z
UID:Sem22/12
DESCRIPTION:Title: <a href="https://researchseminars.org/talk/Sem22/12/">P
 artial Reduction and Black Hole Information</a>\nby Yang Zhou (Fudan) as p
 art of SEU Yau Center Theoretical Physics Seminars 2022\n\nAbstract: TBA\n
LOCATION:https://researchseminars.org/talk/Sem22/12/
END:VEVENT
BEGIN:VEVENT
SUMMARY:Shota Komatsu (CERN)
DTSTART:20220607T080000Z
DTEND:20220607T090000Z
DTSTAMP:20260422T225656Z
UID:Sem22/13
DESCRIPTION:Title: <a href="https://researchseminars.org/talk/Sem22/13/">C
 rosscap States in Integrable Field Theories and Spin Chains</a>\nby Shota 
 Komatsu (CERN) as part of SEU Yau Center Theoretical Physics Seminars 2022
 \n\nAbstract: TBA\n
LOCATION:https://researchseminars.org/talk/Sem22/13/
END:VEVENT
BEGIN:VEVENT
SUMMARY:Sameer Murthy (King's College London)
DTSTART:20220628T080000Z
DTEND:20220628T090000Z
DTSTAMP:20260422T225656Z
UID:Sem22/15
DESCRIPTION:Title: <a href="https://researchseminars.org/talk/Sem22/15/">U
 nitary matrix models\, free fermion ensembles\, and the giant graviton exp
 ansion</a>\nby Sameer Murthy (King's College London) as part of SEU Yau Ce
 nter Theoretical Physics Seminars 2022\n\nAbstract: TBA\n
LOCATION:https://researchseminars.org/talk/Sem22/15/
END:VEVENT
BEGIN:VEVENT
SUMMARY:Heeyeon Kim (Rutgers)
DTSTART:20220614T010000Z
DTEND:20220614T020000Z
DTSTAMP:20260422T225656Z
UID:Sem22/16
DESCRIPTION:Title: <a href="https://researchseminars.org/talk/Sem22/16/">3
 d supersymmetric gauge theories on a Riemann surface</a>\nby Heeyeon Kim (
 Rutgers) as part of SEU Yau Center Theoretical Physics Seminars 2022\n\nAb
 stract: TBA\n
LOCATION:https://researchseminars.org/talk/Sem22/16/
END:VEVENT
BEGIN:VEVENT
SUMMARY:Balázs Pozsgay (Eötvös Loránd University)
DTSTART:20220906T080000Z
DTEND:20220906T090000Z
DTSTAMP:20260422T225656Z
UID:Sem22/17
DESCRIPTION:Title: <a href="https://researchseminars.org/talk/Sem22/17/">D
 ual unitary circuits: Exactly solvable cellular automata in 1+1 D</a>\nby 
 Balázs Pozsgay (Eötvös Loránd University) as part of SEU Yau Center Th
 eoretical Physics Seminars 2022\n\nAbstract: TBA\n
LOCATION:https://researchseminars.org/talk/Sem22/17/
END:VEVENT
BEGIN:VEVENT
SUMMARY:Ivan Kostov (Saclay)
DTSTART:20220913T080000Z
DTEND:20220913T090000Z
DTSTAMP:20260422T225656Z
UID:Sem22/18
DESCRIPTION:Title: <a href="https://researchseminars.org/talk/Sem22/18/">T
 wo-dimensional massive integrable models on a torus</a>\nby Ivan Kostov (S
 aclay) as part of SEU Yau Center Theoretical Physics Seminars 2022\n\nAbst
 ract: TBA\n
LOCATION:https://researchseminars.org/talk/Sem22/18/
END:VEVENT
BEGIN:VEVENT
SUMMARY:Deliang Zhong (Tel Aviv University)
DTSTART:20220920T080000Z
DTEND:20220920T090000Z
DTSTAMP:20260422T225656Z
UID:Sem22/19
DESCRIPTION:Title: <a href="https://researchseminars.org/talk/Sem22/19/">L
 ine Operators in Chern-Simons-Matter Theories and Bosonization in Three Di
 mensions</a>\nby Deliang Zhong (Tel Aviv University) as part of SEU Yau Ce
 nter Theoretical Physics Seminars 2022\n\nAbstract: TBA\n
LOCATION:https://researchseminars.org/talk/Sem22/19/
END:VEVENT
BEGIN:VEVENT
SUMMARY:Zhijin Li (Yale)
DTSTART:20220927T080000Z
DTEND:20220927T090000Z
DTSTAMP:20260422T225656Z
UID:Sem22/20
DESCRIPTION:Title: <a href="https://researchseminars.org/talk/Sem22/20/">C
 racking the critical flavor number of QED3 with conformal bootstrap</a>\nb
 y Zhijin Li (Yale) as part of SEU Yau Center Theoretical Physics Seminars 
 2022\n\nAbstract: TBA\n
LOCATION:https://researchseminars.org/talk/Sem22/20/
END:VEVENT
BEGIN:VEVENT
SUMMARY:R﻿o﻿b﻿e﻿r﻿t﻿o﻿ ﻿T﻿a﻿t﻿e﻿o (Università di 
 Torino)
DTSTART:20221011T080000Z
DTEND:20221011T090000Z
DTSTAMP:20260422T225656Z
UID:Sem22/21
DESCRIPTION:Title: <a href="https://researchseminars.org/talk/Sem22/21/">T
 Tbar-like deformations in generic dimensions</a>\nby R﻿o﻿b﻿e﻿r﻿t
 ﻿o﻿ ﻿T﻿a﻿t﻿e﻿o (Università di Torino) as part of SEU Yau Ce
 nter Theoretical Physics Seminars 2022\n\nAbstract: TBA\n
LOCATION:https://researchseminars.org/talk/Sem22/21/
END:VEVENT
BEGIN:VEVENT
SUMMARY:Mathew Bullimore (Durham)
DTSTART:20221018T080000Z
DTEND:20221018T090000Z
DTSTAMP:20260422T225656Z
UID:Sem22/22
DESCRIPTION:Title: <a href="https://researchseminars.org/talk/Sem22/22/">G
 eneralised symmetries and moduli stacks</a>\nby Mathew Bullimore (Durham) 
 as part of SEU Yau Center Theoretical Physics Seminars 2022\n\nAbstract: T
 BA\n
LOCATION:https://researchseminars.org/talk/Sem22/22/
END:VEVENT
BEGIN:VEVENT
SUMMARY:Alexandre﻿ ﻿B﻿e﻿l﻿i﻿n (CERN & University of Geneva)
DTSTART:20221025T080000Z
DTEND:20221025T090000Z
DTSTAMP:20260422T225656Z
UID:Sem22/23
DESCRIPTION:Title: <a href="https://researchseminars.org/talk/Sem22/23/">C
 oherent states\, initial data and localizing information in quantum gravit
 y</a>\nby Alexandre﻿ ﻿B﻿e﻿l﻿i﻿n (CERN & University of Geneva) 
 as part of SEU Yau Center Theoretical Physics Seminars 2022\n\nAbstract: T
 BA\n
LOCATION:https://researchseminars.org/talk/Sem22/23/
END:VEVENT
BEGIN:VEVENT
SUMMARY:D﻿a﻿v﻿i﻿d﻿ ﻿T﻿u﻿r﻿t﻿o﻿n (University of S﻿
 ﻿o﻿u﻿t﻿h﻿a﻿m﻿p﻿t﻿o﻿n)
DTSTART:20221108T080000Z
DTEND:20221108T090000Z
DTSTAMP:20260422T225656Z
UID:Sem22/25
DESCRIPTION:Title: <a href="https://researchseminars.org/talk/Sem22/25/">S
 hockwaves in black hole microstate geometries</a>\nby D﻿a﻿v﻿i﻿d﻿
  ﻿T﻿u﻿r﻿t﻿o﻿n (University of S﻿﻿o﻿u﻿t﻿h﻿a﻿m﻿p
 ﻿t﻿o﻿n) as part of SEU Yau Center Theoretical Physics Seminars 2022\
 n\nAbstract: TBA\n
LOCATION:https://researchseminars.org/talk/Sem22/25/
END:VEVENT
BEGIN:VEVENT
SUMMARY:Pujian Mao (Tianjin University)
DTSTART:20221115T080000Z
DTEND:20221115T090000Z
DTSTAMP:20260422T225656Z
UID:Sem22/26
DESCRIPTION:Title: <a href="https://researchseminars.org/talk/Sem22/26/">V
 ariations of soft theorems</a>\nby Pujian Mao (Tianjin University) as part
  of SEU Yau Center Theoretical Physics Seminars 2022\n\nAbstract: TBA\n
LOCATION:https://researchseminars.org/talk/Sem22/26/
END:VEVENT
BEGIN:VEVENT
SUMMARY:S﻿l﻿a﻿v﻿a﻿ ﻿R﻿y﻿c﻿h﻿k﻿o﻿v (IHES & ENS-Pari
 s)
DTSTART:20221206T080000Z
DTEND:20221206T090000Z
DTSTAMP:20260422T225656Z
UID:Sem22/27
DESCRIPTION:Title: <a href="https://researchseminars.org/talk/Sem22/27/">F
 ield Ising Model and Parisi-Sourlas Supersymmetry</a>\nby S﻿l﻿a﻿v﻿
 a﻿ ﻿R﻿y﻿c﻿h﻿k﻿o﻿v (IHES & ENS-Paris) as part of SEU Yau Ce
 nter Theoretical Physics Seminars 2022\n\nAbstract: TBA\n
LOCATION:https://researchseminars.org/talk/Sem22/27/
END:VEVENT
BEGIN:VEVENT
SUMMARY:Zahra Zahraee (McGill)
DTSTART:20221028T120000Z
DTEND:20221028T130000Z
DTSTAMP:20260422T225656Z
UID:Sem22/29
DESCRIPTION:Title: <a href="https://researchseminars.org/talk/Sem22/29/">B
 ootstrapping N=4 sYM correlators using integrability</a>\nby Zahra Zahraee
  (McGill) as part of SEU Yau Center Theoretical Physics Seminars 2022\n\nA
 bstract: TBA\n
LOCATION:https://researchseminars.org/talk/Sem22/29/
END:VEVENT
BEGIN:VEVENT
SUMMARY:Murad Alim (Hamburg)
DTSTART:20221122T080000Z
DTEND:20221122T090000Z
DTSTAMP:20260422T225656Z
UID:Sem22/30
DESCRIPTION:Title: <a href="https://researchseminars.org/talk/Sem22/30/">N
 on-perturbative quantum geometry\, resurgence and BPS structures</a>\nby M
 urad Alim (Hamburg) as part of SEU Yau Center Theoretical Physics Seminars
  2022\n\nAbstract: TBA\n
LOCATION:https://researchseminars.org/talk/Sem22/30/
END:VEVENT
BEGIN:VEVENT
SUMMARY:Marco Fazzi (INFN\, Milano-Bicocca))
DTSTART:20221129T080000Z
DTEND:20221129T090000Z
DTSTAMP:20260422T225656Z
UID:Sem22/31
DESCRIPTION:by Marco Fazzi (INFN\, Milano-Bicocca)) as part of SEU Yau Cen
 ter Theoretical Physics Seminars 2022\n\nAbstract: TBA\n
LOCATION:https://researchseminars.org/talk/Sem22/31/
END:VEVENT
BEGIN:VEVENT
SUMMARY:A﻿l﻿b﻿a﻿ ﻿G﻿r﻿a﻿s﻿s﻿i (CERN & University of Ge
 neva)
DTSTART:20221102T090000Z
DTEND:20221102T100000Z
DTSTAMP:20260422T225656Z
UID:Sem22/33
DESCRIPTION:Title: <a href="https://researchseminars.org/talk/Sem22/33/">H
 olographic thermal correlators from supersymmetric instantons</a>\nby A﻿
 l﻿b﻿a﻿ ﻿G﻿r﻿a﻿s﻿s﻿i (CERN & University of Geneva) as par
 t of SEU Yau Center Theoretical Physics Seminars 2022\n\nAbstract: TBA\n
LOCATION:https://researchseminars.org/talk/Sem22/33/
END:VEVENT
BEGIN:VEVENT
SUMMARY:Tamas Gombor (Eötvös Loránd University)
DTSTART:20221220T080000Z
DTEND:20221220T090000Z
DTSTAMP:20260422T225656Z
UID:Sem22/35
DESCRIPTION:Title: <a href="https://researchseminars.org/talk/Sem22/35/">W
 rapping corrections for long range spin chains</a>\nby Tamas Gombor (Eötv
 ös Loránd University) as part of SEU Yau Center Theoretical Physics Semi
 nars 2022\n\nAbstract: TBA\n
LOCATION:https://researchseminars.org/talk/Sem22/35/
END:VEVENT
BEGIN:VEVENT
SUMMARY:Mykola Dedushenko
DTSTART:20221213T023000Z
DTEND:20221213T033000Z
DTSTAMP:20260422T225656Z
UID:Sem22/37
DESCRIPTION:Title: <a href="https://researchseminars.org/talk/Sem22/37/">B
 oundary and interface correlators\, algebras\, and spin chains in 4d N=4</
 a>\nby Mykola Dedushenko as part of SEU Yau Center Theoretical Physics Sem
 inars 2022\n\nAbstract: TBA\n
LOCATION:https://researchseminars.org/talk/Sem22/37/
END:VEVENT
BEGIN:VEVENT
SUMMARY:Marco Fazzi (Uppsala)
DTSTART:20230103T100000Z
DTEND:20230103T110000Z
DTSTAMP:20260422T225656Z
UID:Sem22/38
DESCRIPTION:Title: <a href="https://researchseminars.org/talk/Sem22/38/">H
 ierarchy of RG flows in 6d (1\,0) orbi-instantons</a>\nby Marco Fazzi (Upp
 sala) as part of SEU Yau Center Theoretical Physics Seminars 2022\n\nAbstr
 act: TBA\n
LOCATION:https://researchseminars.org/talk/Sem22/38/
END:VEVENT
END:VCALENDAR
