BEGIN:VCALENDAR
VERSION:2.0
PRODID:researchseminars.org
CALSCALE:GREGORIAN
X-WR-CALNAME:researchseminars.org
BEGIN:VEVENT
SUMMARY:Vladimir Bazhanov (Australian National University)
DTSTART:20210803T010000Z
DTEND:20210803T020000Z
DTSTAMP:20260422T212605Z
UID:SMRICourse/1
DESCRIPTION:Title: <a href="https://researchseminars.org/talk/SMRICourse/1
 /">Yang-Baxter maps I</a>\nby Vladimir Bazhanov (Australian National Unive
 rsity) as part of SMRI Course - Yang-Baxter maps\n\nAbstract: TBA\n
LOCATION:https://researchseminars.org/talk/SMRICourse/1/
END:VEVENT
BEGIN:VEVENT
SUMMARY:Vladimir Bazhanov (Australian National University)
DTSTART:20210809T010000Z
DTEND:20210809T020000Z
DTSTAMP:20260422T212605Z
UID:SMRICourse/2
DESCRIPTION:Title: <a href="https://researchseminars.org/talk/SMRICourse/2
 /">Yang-Baxter maps II</a>\nby Vladimir Bazhanov (Australian National Univ
 ersity) as part of SMRI Course - Yang-Baxter maps\n\nAbstract: TBA\n
LOCATION:https://researchseminars.org/talk/SMRICourse/2/
END:VEVENT
BEGIN:VEVENT
SUMMARY:Vladimir Bazhanov (Australian National University)
DTSTART:20210816T010000Z
DTEND:20210816T020000Z
DTSTAMP:20260422T212605Z
UID:SMRICourse/3
DESCRIPTION:Title: <a href="https://researchseminars.org/talk/SMRICourse/3
 /">Yang-Baxter maps III</a>\nby Vladimir Bazhanov (Australian National Uni
 versity) as part of SMRI Course - Yang-Baxter maps\n\nAbstract: TBA\n
LOCATION:https://researchseminars.org/talk/SMRICourse/3/
END:VEVENT
BEGIN:VEVENT
SUMMARY:Vladimir Bazhanov (Australian National University)
DTSTART:20210824T010000Z
DTEND:20210824T020000Z
DTSTAMP:20260422T212605Z
UID:SMRICourse/4
DESCRIPTION:Title: <a href="https://researchseminars.org/talk/SMRICourse/4
 /">Yang-Baxter maps IV</a>\nby Vladimir Bazhanov (Australian National Univ
 ersity) as part of SMRI Course - Yang-Baxter maps\n\n\nAbstract\nProfessor
  Vladimir Bazhanov (Australian National University) will give a short cour
 se \nof lectures on Yang-Baxter maps.\nThe topic lies on the intersection 
 of the theory of quantum groups and discrete \nintegrable equations. \n\nL
 ecture 4.\n
LOCATION:https://researchseminars.org/talk/SMRICourse/4/
END:VEVENT
BEGIN:VEVENT
SUMMARY:Vladimir Bazhanov (Australian National University)
DTSTART:20210831T010000Z
DTEND:20210831T020000Z
DTSTAMP:20260422T212605Z
UID:SMRICourse/5
DESCRIPTION:Title: <a href="https://researchseminars.org/talk/SMRICourse/5
 /">Yang-Baxter maps V</a>\nby Vladimir Bazhanov (Australian National Unive
 rsity) as part of SMRI Course - Yang-Baxter maps\n\nAbstract: TBA\n
LOCATION:https://researchseminars.org/talk/SMRICourse/5/
END:VEVENT
END:VCALENDAR
