BEGIN:VCALENDAR
VERSION:2.0
PRODID:researchseminars.org
CALSCALE:GREGORIAN
X-WR-CALNAME:researchseminars.org
BEGIN:VEVENT
SUMMARY:Marco Flores (Humboldt-Universität zu Berlin)
DTSTART:20200501T180000Z
DTEND:20200501T190000Z
DTSTAMP:20260422T212927Z
UID:SJE/1
DESCRIPTION:Title: <a href="https://researchseminars.org/talk/SJE/1/">Coho
 mología de variedades tóricas</a>\nby Marco Flores (Humboldt-Universitä
 t zu Berlin) as part of Seminario junior de estudiantes\n\nAbstract: TBA\n
LOCATION:https://researchseminars.org/talk/SJE/1/
END:VEVENT
BEGIN:VEVENT
SUMMARY:José Joaquín Domíguez Sánchez (Universidad Autónoma de Baja C
 alifornia)
DTSTART:20200508T230000Z
DTEND:20200509T000000Z
DTSTAMP:20260422T212927Z
UID:SJE/2
DESCRIPTION:Title: <a href="https://researchseminars.org/talk/SJE/2/">El t
 eorema de Dehn-Nielsen-Baer.</a>\nby José Joaquín Domíguez Sánchez (Un
 iversidad Autónoma de Baja California) as part of Seminario junior de est
 udiantes\n\nAbstract: TBA\n
LOCATION:https://researchseminars.org/talk/SJE/2/
END:VEVENT
BEGIN:VEVENT
SUMMARY:Jesus Indalecio Ruiz Bolaños (Baylor University)
DTSTART:20200515T230000Z
DTEND:20200516T000000Z
DTSTAMP:20260422T212927Z
UID:SJE/3
DESCRIPTION:Title: <a href="https://researchseminars.org/talk/SJE/3/">Dos 
 modelos diferenciales para la regeneración muscular.</a>\nby Jesus Indale
 cio Ruiz Bolaños (Baylor University) as part of Seminario junior de estud
 iantes\n\nAbstract: TBA\n
LOCATION:https://researchseminars.org/talk/SJE/3/
END:VEVENT
END:VCALENDAR
