BEGIN:VCALENDAR
VERSION:2.0
PRODID:researchseminars.org
CALSCALE:GREGORIAN
X-WR-CALNAME:researchseminars.org
BEGIN:VEVENT
SUMMARY:Žiga Gladek (SISSA)
DTSTART:20250121T150000Z
DTEND:20250121T160000Z
DTSTAMP:20260422T142041Z
UID:SISSA-AGS/1
DESCRIPTION:Title: <a href="https://researchseminars.org/talk/SISSA-AGS/1/
 ">From smooth varieties to complex manifolds</a>\nby Žiga Gladek (SISSA) 
 as part of SISSA algebraic geometry seminar\n\nLecture held in 005.\nAbstr
 act: TBA\n
LOCATION:https://researchseminars.org/talk/SISSA-AGS/1/
END:VEVENT
BEGIN:VEVENT
SUMMARY:Michele Graffeo (SISSA)
DTSTART:20250128T150000Z
DTEND:20250128T160000Z
DTSTAMP:20260422T142041Z
UID:SISSA-AGS/2
DESCRIPTION:Title: <a href="https://researchseminars.org/talk/SISSA-AGS/2/
 ">Algebraic curves and 1-dimensional manifolds</a>\nby Michele Graffeo (SI
 SSA) as part of SISSA algebraic geometry seminar\n\nLecture held in 005.\n
 Abstract: TBA\n
LOCATION:https://researchseminars.org/talk/SISSA-AGS/2/
END:VEVENT
BEGIN:VEVENT
SUMMARY:Giordano Crimi (SISSA)
DTSTART:20250204T150000Z
DTEND:20250204T160000Z
DTSTAMP:20260422T142041Z
UID:SISSA-AGS/3
DESCRIPTION:Title: <a href="https://researchseminars.org/talk/SISSA-AGS/3/
 ">Analytic coherent sheaves and GAGA</a>\nby Giordano Crimi (SISSA) as par
 t of SISSA algebraic geometry seminar\n\nLecture held in Dubrovin Lecture 
 Room (136).\nAbstract: TBA\n
LOCATION:https://researchseminars.org/talk/SISSA-AGS/3/
END:VEVENT
BEGIN:VEVENT
SUMMARY:Lorenzo Cortelli (SISSA)
DTSTART:20250211T150000Z
DTEND:20250211T160000Z
DTSTAMP:20260422T142041Z
UID:SISSA-AGS/4
DESCRIPTION:Title: <a href="https://researchseminars.org/talk/SISSA-AGS/4/
 ">Applications of GAGA theorems</a>\nby Lorenzo Cortelli (SISSA) as part o
 f SISSA algebraic geometry seminar\n\nLecture held in 005.\nAbstract: TBA\
 n
LOCATION:https://researchseminars.org/talk/SISSA-AGS/4/
END:VEVENT
BEGIN:VEVENT
SUMMARY:Solomiya Mizyuk (SISSA)
DTSTART:20250224T150000Z
DTEND:20250224T160000Z
DTSTAMP:20260422T142041Z
UID:SISSA-AGS/5
DESCRIPTION:Title: <a href="https://researchseminars.org/talk/SISSA-AGS/5/
 ">Two exercises in descent theory</a>\nby Solomiya Mizyuk (SISSA) as part 
 of SISSA algebraic geometry seminar\n\nLecture held in Dubrovin Lecture Ro
 om (136).\nAbstract: TBA\n
LOCATION:https://researchseminars.org/talk/SISSA-AGS/5/
END:VEVENT
BEGIN:VEVENT
SUMMARY:Giordano Crimi (SISSA)
DTSTART:20250303T150000Z
DTEND:20250303T160000Z
DTSTAMP:20260422T142041Z
UID:SISSA-AGS/6
DESCRIPTION:Title: <a href="https://researchseminars.org/talk/SISSA-AGS/6/
 ">Representable functors and issues with automorphisms</a>\nby Giordano Cr
 imi (SISSA) as part of SISSA algebraic geometry seminar\n\nLecture held in
  Dubrovin Lecture Room (136).\nAbstract: TBA\n
LOCATION:https://researchseminars.org/talk/SISSA-AGS/6/
END:VEVENT
BEGIN:VEVENT
SUMMARY:Marco Miceli (SISSA)
DTSTART:20250310T150000Z
DTEND:20250310T160000Z
DTSTAMP:20260422T142041Z
UID:SISSA-AGS/7
DESCRIPTION:Title: <a href="https://researchseminars.org/talk/SISSA-AGS/7/
 ">Sheaves on sites\, topologies on Sch and comparisons</a>\nby Marco Micel
 i (SISSA) as part of SISSA algebraic geometry seminar\n\nLecture held in D
 ubrovin Lecture Room (136).\nAbstract: TBA\n
LOCATION:https://researchseminars.org/talk/SISSA-AGS/7/
END:VEVENT
BEGIN:VEVENT
SUMMARY:Luca Morstabilini (SISSA)
DTSTART:20250317T150000Z
DTEND:20250317T160000Z
DTSTAMP:20260422T142041Z
UID:SISSA-AGS/8
DESCRIPTION:Title: <a href="https://researchseminars.org/talk/SISSA-AGS/8/
 ">Groupoid fibrations and the 2–category of stacks\; morphisms\, substac
 ks and 2–fibre products</a>\nby Luca Morstabilini (SISSA) as part of SIS
 SA algebraic geometry seminar\n\nLecture held in Dubrovin Lecture Room (13
 6).\nAbstract: TBA\n
LOCATION:https://researchseminars.org/talk/SISSA-AGS/8/
END:VEVENT
BEGIN:VEVENT
SUMMARY:Nicolò Bignami (SISSA)
DTSTART:20250324T150000Z
DTEND:20250324T160000Z
DTSTAMP:20260422T142041Z
UID:SISSA-AGS/9
DESCRIPTION:Title: <a href="https://researchseminars.org/talk/SISSA-AGS/9/
 ">Diagonal\, inertia and automorphisms. Algebraic and Deligne–Mumfors st
 acks\, algebraic spaces</a>\nby Nicolò Bignami (SISSA) as part of SISSA a
 lgebraic geometry seminar\n\nLecture held in Dubrovin Lecture Room (136).\
 nAbstract: TBA\n
LOCATION:https://researchseminars.org/talk/SISSA-AGS/9/
END:VEVENT
BEGIN:VEVENT
SUMMARY:Lorenzo Cortelli (SISSA)
DTSTART:20250331T140000Z
DTEND:20250331T150000Z
DTSTAMP:20260422T142041Z
UID:SISSA-AGS/10
DESCRIPTION:Title: <a href="https://researchseminars.org/talk/SISSA-AGS/10
 /">Quotient stacks and examples</a>\nby Lorenzo Cortelli (SISSA) as part o
 f SISSA algebraic geometry seminar\n\nLecture held in Dubrovin Lecture Roo
 m (136).\nAbstract: TBA\n
LOCATION:https://researchseminars.org/talk/SISSA-AGS/10/
END:VEVENT
BEGIN:VEVENT
SUMMARY:Paolo Lella (PoliMI)
DTSTART:20250407T140000Z
DTEND:20250407T150000Z
DTSTAMP:20260422T142041Z
UID:SISSA-AGS/11
DESCRIPTION:Title: <a href="https://researchseminars.org/talk/SISSA-AGS/11
 /">2-step ideals and the reducibility of Hilbert schemes of points</a>\nby
  Paolo Lella (PoliMI) as part of SISSA algebraic geometry seminar\n\nLectu
 re held in Dubrovin Lecture Room (136).\n\nAbstract\nInspired by two famou
 s examples by Iarrobino showing that the Hilbert scheme of d points in the
  affine 3-space is reducible for d sufficiently large\, we study homogenou
 s ideals in a polynomial ring with n variables with a small difference bet
 ween the initial degree and the regularity. First\, we describe how to con
 struct families of such ideals with a given Hilbert function. Second\, we 
 use these families to certify that several Hilbert schemes and nested Hilb
 ert schemes are reducible. For n greater than 3\, we discover several new 
 reduced irreducible components and some new generically non-reduced irredu
 cible component.\nThis is a joint project with Franco Giovenzana\, Luca Gi
 ovenzana and Michele Graffeo.\n
LOCATION:https://researchseminars.org/talk/SISSA-AGS/11/
END:VEVENT
BEGIN:VEVENT
SUMMARY:Emanuele Pavia (SISSA)
DTSTART:20250414T140000Z
DTEND:20250414T150000Z
DTSTAMP:20260422T142041Z
UID:SISSA-AGS/12
DESCRIPTION:Title: <a href="https://researchseminars.org/talk/SISSA-AGS/12
 /">Descent for quasicoherent sheaves</a>\nby Emanuele Pavia (SISSA) as par
 t of SISSA algebraic geometry seminar\n\nLecture held in Dubrovin Lecture 
 Room (136).\nAbstract: TBA\n
LOCATION:https://researchseminars.org/talk/SISSA-AGS/12/
END:VEVENT
BEGIN:VEVENT
SUMMARY:Okke van Garderen (SISSA)
DTSTART:20250428T140000Z
DTEND:20250428T150000Z
DTSTAMP:20260422T142041Z
UID:SISSA-AGS/13
DESCRIPTION:Title: <a href="https://researchseminars.org/talk/SISSA-AGS/13
 /">Moduli of stable maps to projective space\; universal curve\, smoothnes
 s and components</a>\nby Okke van Garderen (SISSA) as part of SISSA algebr
 aic geometry seminar\n\nLecture held in Dubrovin Lecture Room (136).\nAbst
 ract: TBA\n
LOCATION:https://researchseminars.org/talk/SISSA-AGS/13/
END:VEVENT
BEGIN:VEVENT
SUMMARY:Ian Selvaggi (SISSA)
DTSTART:20250505T140000Z
DTEND:20250505T150000Z
DTSTAMP:20260422T142041Z
UID:SISSA-AGS/14
DESCRIPTION:Title: <a href="https://researchseminars.org/talk/SISSA-AGS/14
 /">The stack of bundles and its smoothness over a curve</a>\nby Ian Selvag
 gi (SISSA) as part of SISSA algebraic geometry seminar\n\nLecture held in 
 Dubrovin Lecture Room (136).\nAbstract: TBA\n
LOCATION:https://researchseminars.org/talk/SISSA-AGS/14/
END:VEVENT
BEGIN:VEVENT
SUMMARY:Federico Candeletti (SISSA)
DTSTART:20251027T150000Z
DTEND:20251027T160000Z
DTSTAMP:20260422T142041Z
UID:SISSA-AGS/15
DESCRIPTION:Title: <a href="https://researchseminars.org/talk/SISSA-AGS/15
 /">Recap on triangulated categories and D^b(coh)</a>\nby Federico Candelet
 ti (SISSA) as part of SISSA algebraic geometry seminar\n\nLecture held in 
 Dubrovin Lecture Room (136).\nAbstract: TBA\n
LOCATION:https://researchseminars.org/talk/SISSA-AGS/15/
END:VEVENT
BEGIN:VEVENT
SUMMARY:Pietro Toscano (SISSA)
DTSTART:20251110T150000Z
DTEND:20251110T160000Z
DTSTAMP:20260422T142041Z
UID:SISSA-AGS/17
DESCRIPTION:Title: <a href="https://researchseminars.org/talk/SISSA-AGS/17
 /">SODs in general and exceptional collections</a>\nby Pietro Toscano (SIS
 SA) as part of SISSA algebraic geometry seminar\n\nLecture held in Dubrovi
 n Lecture Room (136).\nAbstract: TBA\n
LOCATION:https://researchseminars.org/talk/SISSA-AGS/17/
END:VEVENT
BEGIN:VEVENT
SUMMARY:Christian Forero Pulido (SISSA)
DTSTART:20251117T150000Z
DTEND:20251117T160000Z
DTSTAMP:20260422T142041Z
UID:SISSA-AGS/18
DESCRIPTION:Title: <a href="https://researchseminars.org/talk/SISSA-AGS/18
 /">Examples of SODs I: P(E)\, Blowups\, G(k\,n)</a>\nby Christian Forero P
 ulido (SISSA) as part of SISSA algebraic geometry seminar\n\nLecture held 
 in Dubrovin Lecture Room (136).\nAbstract: TBA\n
LOCATION:https://researchseminars.org/talk/SISSA-AGS/18/
END:VEVENT
BEGIN:VEVENT
SUMMARY:Luca Morstabilini (SISSA)
DTSTART:20251124T150000Z
DTEND:20251124T160000Z
DTSTAMP:20260422T142041Z
UID:SISSA-AGS/19
DESCRIPTION:Title: <a href="https://researchseminars.org/talk/SISSA-AGS/19
 /">Decomposing D^b(A) for A=kQ. Stratified spaces and exit paths</a>\nby L
 uca Morstabilini (SISSA) as part of SISSA algebraic geometry seminar\n\nLe
 cture held in Dubrovin Lecture Room (136).\nAbstract: TBA\n
LOCATION:https://researchseminars.org/talk/SISSA-AGS/19/
END:VEVENT
BEGIN:VEVENT
SUMMARY:Jon Mikoš (SISSA)
DTSTART:20251201T150000Z
DTEND:20251201T160000Z
DTSTAMP:20260422T142041Z
UID:SISSA-AGS/20
DESCRIPTION:Title: <a href="https://researchseminars.org/talk/SISSA-AGS/20
 /">Perverse sheaves via recollements. I</a>\nby Jon Mikoš (SISSA) as part
  of SISSA algebraic geometry seminar\n\nLecture held in Dubrovin Lecture R
 oom (136).\nAbstract: TBA\n
LOCATION:https://researchseminars.org/talk/SISSA-AGS/20/
END:VEVENT
BEGIN:VEVENT
SUMMARY:Anna Sicolo (SISSA)
DTSTART:20251215T150000Z
DTEND:20251215T160000Z
DTSTAMP:20260422T142041Z
UID:SISSA-AGS/21
DESCRIPTION:Title: <a href="https://researchseminars.org/talk/SISSA-AGS/21
 /">Perverse sheaves via recollements. II</a>\nby Anna Sicolo (SISSA) as pa
 rt of SISSA algebraic geometry seminar\n\nLecture held in Dubrovin Lecture
  Room (136).\nAbstract: TBA\n
LOCATION:https://researchseminars.org/talk/SISSA-AGS/21/
END:VEVENT
BEGIN:VEVENT
SUMMARY:Lorenzo Cortelli (SISSA)
DTSTART:20260112T150000Z
DTEND:20260112T160000Z
DTSTAMP:20260422T142041Z
UID:SISSA-AGS/24
DESCRIPTION:Title: <a href="https://researchseminars.org/talk/SISSA-AGS/24
 /">On the derived categories of Fano varieties</a>\nby Lorenzo Cortelli (S
 ISSA) as part of SISSA algebraic geometry seminar\n\nLecture held in Dubro
 vin Lecture Room (136).\nAbstract: TBA\n
LOCATION:https://researchseminars.org/talk/SISSA-AGS/24/
END:VEVENT
BEGIN:VEVENT
SUMMARY:Giordano Crimi (SISSA)
DTSTART:20260126T154000Z
DTEND:20260126T164000Z
DTSTAMP:20260422T142041Z
UID:SISSA-AGS/25
DESCRIPTION:Title: <a href="https://researchseminars.org/talk/SISSA-AGS/25
 /">Derived categories of cubic 4-folds. I</a>\nby Giordano Crimi (SISSA) a
 s part of SISSA algebraic geometry seminar\n\nLecture held in Dubrovin Lec
 ture Room (136).\nAbstract: TBA\n
LOCATION:https://researchseminars.org/talk/SISSA-AGS/25/
END:VEVENT
BEGIN:VEVENT
SUMMARY:Nicolò Bignami (SISSA)
DTSTART:20260202T150000Z
DTEND:20260202T160000Z
DTSTAMP:20260422T142041Z
UID:SISSA-AGS/26
DESCRIPTION:Title: <a href="https://researchseminars.org/talk/SISSA-AGS/26
 /">Derived categories of cubic 4-folds. II</a>\nby Nicolò Bignami (SISSA)
  as part of SISSA algebraic geometry seminar\n\nLecture held in Dubrovin L
 ecture Room (136).\nAbstract: TBA\n
LOCATION:https://researchseminars.org/talk/SISSA-AGS/26/
END:VEVENT
BEGIN:VEVENT
SUMMARY:Andrea Ricolfi (SISSA)
DTSTART:20260209T150000Z
DTEND:20260209T160000Z
DTSTAMP:20260422T142041Z
UID:SISSA-AGS/27
DESCRIPTION:Title: <a href="https://researchseminars.org/talk/SISSA-AGS/27
 /">Moduli of SODs.</a>\nby Andrea Ricolfi (SISSA) as part of SISSA algebra
 ic geometry seminar\n\nLecture held in Dubrovin Lecture Room (136).\nAbstr
 act: TBA\n
LOCATION:https://researchseminars.org/talk/SISSA-AGS/27/
END:VEVENT
BEGIN:VEVENT
SUMMARY:Roberto Vacca (Tor Vergata)
DTSTART:20260216T150000Z
DTEND:20260216T160000Z
DTSTAMP:20260422T142041Z
UID:SISSA-AGS/28
DESCRIPTION:Title: <a href="https://researchseminars.org/talk/SISSA-AGS/28
 /">Ulrich bundles on Fano and Calabi–Yau double covers of P^3</a>\nby Ro
 berto Vacca (Tor Vergata) as part of SISSA algebraic geometry seminar\n\nL
 ecture held in Dubrovin Lecture Room (136).\n\nAbstract\nMotivated by Ulri
 ch’s work on Cohen–Macaulay modules\, Eisenbud and Schreyer asked whet
 her every projective variety admits a sheaf whose cohomology table is as s
 imple as possible\, namely\, a multiple of the cohomology table of the str
 ucture sheaf of projective space.\nIn this talk\, I will discuss existence
  results for such sheaves on cyclic coverings of P^n\, showing how they ar
 ise from matrix factorisations of the equations of the branch loci\, and o
 n Fano threefolds\, exploiting the rich geometry of these varieties.\nIn p
 articular\, I prove that Fano and Calabi–Yau double covers of P^3 carry 
 rank‑2 Ulrich sheaves\, and describe some features of their moduli space
 s.\n
LOCATION:https://researchseminars.org/talk/SISSA-AGS/28/
END:VEVENT
BEGIN:VEVENT
SUMMARY:Barbara Fantechi (SISSA)
DTSTART:20260316T150000Z
DTEND:20260316T160000Z
DTSTAMP:20260422T142041Z
UID:SISSA-AGS/29
DESCRIPTION:Title: <a href="https://researchseminars.org/talk/SISSA-AGS/29
 /">Deligne-Mumford stacks and their Chow rings</a>\nby Barbara Fantechi (S
 ISSA) as part of SISSA algebraic geometry seminar\n\nLecture held in Dubro
 vin Lecture Room (136).\nAbstract: TBA\n
LOCATION:https://researchseminars.org/talk/SISSA-AGS/29/
END:VEVENT
BEGIN:VEVENT
SUMMARY:Luca Morstabilini (SISSA)
DTSTART:20260323T150000Z
DTEND:20260323T160000Z
DTSTAMP:20260422T142041Z
UID:SISSA-AGS/30
DESCRIPTION:Title: <a href="https://researchseminars.org/talk/SISSA-AGS/30
 /">Construction of \\bar M_{g\,n}\, notably n = 0</a>\nby Luca Morstabilin
 i (SISSA) as part of SISSA algebraic geometry seminar\n\nLecture held in D
 ubrovin Lecture Room (136).\nAbstract: TBA\n
LOCATION:https://researchseminars.org/talk/SISSA-AGS/30/
END:VEVENT
BEGIN:VEVENT
SUMMARY:Anna Sicolo (SISSA)
DTSTART:20260330T140000Z
DTEND:20260330T150000Z
DTSTAMP:20260422T142041Z
UID:SISSA-AGS/31
DESCRIPTION:Title: <a href="https://researchseminars.org/talk/SISSA-AGS/31
 /">Smoothness\, dimension and properness of the moduli stack</a>\nby Anna 
 Sicolo (SISSA) as part of SISSA algebraic geometry seminar\n\nLecture held
  in Dubrovin Lecture Room (136).\nAbstract: TBA\n
LOCATION:https://researchseminars.org/talk/SISSA-AGS/31/
END:VEVENT
BEGIN:VEVENT
SUMMARY:Marco Miceli (SISSA)
DTSTART:20260413T140000Z
DTEND:20260413T150000Z
DTSTAMP:20260422T142041Z
UID:SISSA-AGS/32
DESCRIPTION:Title: <a href="https://researchseminars.org/talk/SISSA-AGS/32
 /">The universal curve and the gluing morphisms</a>\nby Marco Miceli (SISS
 A) as part of SISSA algebraic geometry seminar\n\nLecture held in Dubrovin
  Lecture Room (136).\nAbstract: TBA\n
LOCATION:https://researchseminars.org/talk/SISSA-AGS/32/
END:VEVENT
BEGIN:VEVENT
SUMMARY:Pietro Toscano (SISSA)
DTSTART:20260420T140000Z
DTEND:20260420T150000Z
DTSTAMP:20260422T142041Z
UID:SISSA-AGS/33
DESCRIPTION:Title: <a href="https://researchseminars.org/talk/SISSA-AGS/33
 /">Description and Chow ring of \\bar M_{0\,n}</a>\nby Pietro Toscano (SIS
 SA) as part of SISSA algebraic geometry seminar\n\nLecture held in Dubrovi
 n Lecture Room (136).\nAbstract: TBA\n
LOCATION:https://researchseminars.org/talk/SISSA-AGS/33/
END:VEVENT
BEGIN:VEVENT
SUMMARY:Federico Candeletti (SISSA)
DTSTART:20260427T140000Z
DTEND:20260427T150000Z
DTSTAMP:20260422T142041Z
UID:SISSA-AGS/34
DESCRIPTION:Title: <a href="https://researchseminars.org/talk/SISSA-AGS/34
 /">psi and kappa classes\; psi_1 on \\bar M_{1\,1}</a>\nby Federico Candel
 etti (SISSA) as part of SISSA algebraic geometry seminar\n\nLecture held i
 n Dubrovin Lecture Room (136).\nAbstract: TBA\n
LOCATION:https://researchseminars.org/talk/SISSA-AGS/34/
END:VEVENT
BEGIN:VEVENT
SUMMARY:Danilo Lewanski (UNITS)
DTSTART:20260504T140000Z
DTEND:20260504T150000Z
DTSTAMP:20260422T142041Z
UID:SISSA-AGS/35
DESCRIPTION:Title: <a href="https://researchseminars.org/talk/SISSA-AGS/35
 /">Intersections of boundary strata classes</a>\nby Danilo Lewanski (UNITS
 ) as part of SISSA algebraic geometry seminar\n\nLecture held in Dubrovin 
 Lecture Room (136).\nAbstract: TBA\n
LOCATION:https://researchseminars.org/talk/SISSA-AGS/35/
END:VEVENT
BEGIN:VEVENT
SUMMARY:Nicolò Bignami (SISSA)
DTSTART:20260511T140000Z
DTEND:20260511T150000Z
DTSTAMP:20260422T142041Z
UID:SISSA-AGS/36
DESCRIPTION:Title: <a href="https://researchseminars.org/talk/SISSA-AGS/36
 /">Dilaton and String equations</a>\nby Nicolò Bignami (SISSA) as part of
  SISSA algebraic geometry seminar\n\nLecture held in Dubrovin Lecture Room
  (136).\nAbstract: TBA\n
LOCATION:https://researchseminars.org/talk/SISSA-AGS/36/
END:VEVENT
BEGIN:VEVENT
SUMMARY:Jon Mikoš (SISSA)
DTSTART:20260518T140000Z
DTEND:20260518T150000Z
DTSTAMP:20260422T142041Z
UID:SISSA-AGS/37
DESCRIPTION:Title: <a href="https://researchseminars.org/talk/SISSA-AGS/37
 /">Proof of Mumford's formula for ch(E) (n=0)</a>\nby Jon Mikoš (SISSA) a
 s part of SISSA algebraic geometry seminar\n\nLecture held in Dubrovin Lec
 ture Room (136).\nAbstract: TBA\n
LOCATION:https://researchseminars.org/talk/SISSA-AGS/37/
END:VEVENT
END:VCALENDAR
