BEGIN:VCALENDAR
VERSION:2.0
PRODID:researchseminars.org
CALSCALE:GREGORIAN
X-WR-CALNAME:researchseminars.org
BEGIN:VEVENT
SUMMARY:Prof. Natalie Thamwattanna (The University of Newcastle)
DTSTART:20220607T000000Z
DTEND:20220607T010000Z
DTSTAMP:20260422T212710Z
UID:ReactionDiffusionEquations/1
DESCRIPTION:Title: <a href="https://researchseminars.org/talk/ReactionDiff
 usionEquations/1/">Reaction-diffusion equations and their modelling applic
 ations</a>\nby Prof. Natalie Thamwattanna (The University of Newcastle) as
  part of MATRIX Online Seminar: Reaction-diffusion equations and their mod
 elling applications\n\nAbstract: TBA\n
LOCATION:https://researchseminars.org/talk/ReactionDiffusionEquations/1/
END:VEVENT
END:VCALENDAR
