BEGIN:VCALENDAR
VERSION:2.0
PRODID:researchseminars.org
CALSCALE:GREGORIAN
X-WR-CALNAME:researchseminars.org
BEGIN:VEVENT
SUMMARY:Bernhard von Stengel (LSE)
DTSTART:20200420T130000Z
DTEND:20200420T140000Z
DTSTAMP:20260422T225717Z
UID:OWMGTS/1
DESCRIPTION:Title: <a href="https://researchseminars.org/talk/OWMGTS/1/">A
 lgorithms for rank-1 bimatrix games</a>\nby Bernhard von Stengel (LSE) as 
 part of One World Mathematical Game Theory\n\nAbstract: TBA\n
LOCATION:https://researchseminars.org/talk/OWMGTS/1/
END:VEVENT
BEGIN:VEVENT
SUMMARY:Jörgen Weibull (Stockholm School of Economics)
DTSTART:20200504T130000Z
DTEND:20200504T140000Z
DTSTAMP:20260422T225717Z
UID:OWMGTS/2
DESCRIPTION:Title: <a href="https://researchseminars.org/talk/OWMGTS/2/">D
 oes Moral Play Equilibrate</a>\nby Jörgen Weibull (Stockholm School of Ec
 onomics) as part of One World Mathematical Game Theory\n\nAbstract: TBA\n
LOCATION:https://researchseminars.org/talk/OWMGTS/2/
END:VEVENT
BEGIN:VEVENT
SUMMARY:Ehud Kalai (Northwestern University)
DTSTART:20200518T130000Z
DTEND:20200518T140000Z
DTSTAMP:20260422T225717Z
UID:OWMGTS/3
DESCRIPTION:Title: <a href="https://researchseminars.org/talk/OWMGTS/3/">V
 iable Nash equilibria: formation and defection</a>\nby Ehud Kalai (Northwe
 stern University) as part of One World Mathematical Game Theory\n\nAbstrac
 t: TBA\n
LOCATION:https://researchseminars.org/talk/OWMGTS/3/
END:VEVENT
BEGIN:VEVENT
SUMMARY:Dov Samet (Tel-Aviv University)
DTSTART:20200601T130000Z
DTEND:20200601T140000Z
DTSTAMP:20260422T225717Z
UID:OWMGTS/4
DESCRIPTION:Title: <a href="https://researchseminars.org/talk/OWMGTS/4/">M
 onologues\, dialogues and common priors</a>\nby Dov Samet (Tel-Aviv Univer
 sity) as part of One World Mathematical Game Theory\n\nAbstract: TBA\n
LOCATION:https://researchseminars.org/talk/OWMGTS/4/
END:VEVENT
BEGIN:VEVENT
SUMMARY:Yannai Gonczarowski (Microsoft Research)
DTSTART:20200615T130000Z
DTEND:20200615T140000Z
DTSTAMP:20260422T225717Z
UID:OWMGTS/5
DESCRIPTION:Title: <a href="https://researchseminars.org/talk/OWMGTS/5/">T
 o infinity and beyond: scaling economic theories via logical compactness</
 a>\nby Yannai Gonczarowski (Microsoft Research) as part of One World Mathe
 matical Game Theory\n\nAbstract: TBA\n
LOCATION:https://researchseminars.org/talk/OWMGTS/5/
END:VEVENT
BEGIN:VEVENT
SUMMARY:Jérôme Renault (Toulouse School of Economics)
DTSTART:20200629T130000Z
DTEND:20200629T140000Z
DTSTAMP:20260422T225717Z
UID:OWMGTS/6
DESCRIPTION:by Jérôme Renault (Toulouse School of Economics) as part of 
 One World Mathematical Game Theory\n\nAbstract: TBA\n
LOCATION:https://researchseminars.org/talk/OWMGTS/6/
END:VEVENT
END:VCALENDAR
