BEGIN:VCALENDAR
VERSION:2.0
PRODID:researchseminars.org
CALSCALE:GREGORIAN
X-WR-CALNAME:researchseminars.org
BEGIN:VEVENT
SUMMARY:Sagun Chanillo (Rutgers University)
DTSTART:20211005T000000Z
DTEND:20211005T010000Z
DTSTAMP:20260422T230719Z
UID:OIST_NLA_FA_2021/1
DESCRIPTION:Title: <a href="https://researchseminars.org/talk/OIST_NLA_FA_
 2021/1/">Local Version of Courant's Nodal domain theorem.</a>\nby Sagun Ch
 anillo (Rutgers University) as part of FALL 2021 Nonlinear Analysis Semina
 r Series\n\nAbstract: TBA\n
LOCATION:https://researchseminars.org/talk/OIST_NLA_FA_2021/1/
END:VEVENT
BEGIN:VEVENT
SUMMARY:Alex Iosevich (University of Rochester)
DTSTART:20211012T010000Z
DTEND:20211012T020000Z
DTSTAMP:20260422T230719Z
UID:OIST_NLA_FA_2021/2
DESCRIPTION:Title: <a href="https://researchseminars.org/talk/OIST_NLA_FA_
 2021/2/">Finite point configurations and the Vapnik-Chervonenkis dimension
 </a>\nby Alex Iosevich (University of Rochester) as part of FALL 2021 Nonl
 inear Analysis Seminar Series\n\nAbstract: TBA\n
LOCATION:https://researchseminars.org/talk/OIST_NLA_FA_2021/2/
END:VEVENT
BEGIN:VEVENT
SUMMARY:João Pedro Ramos (Eidgenössische Technische Hochschule Zürich)
DTSTART:20211019T070000Z
DTEND:20211019T080000Z
DTSTAMP:20260422T230719Z
UID:OIST_NLA_FA_2021/3
DESCRIPTION:Title: <a href="https://researchseminars.org/talk/OIST_NLA_FA_
 2021/3/">STABILITY FOR GEOMETRIC AND FUNCTIONAL INEQUALITIES</a>\nby João
  Pedro Ramos (Eidgenössische Technische Hochschule Zürich) as part of FA
 LL 2021 Nonlinear Analysis Seminar Series\n\nAbstract: TBA\n
LOCATION:https://researchseminars.org/talk/OIST_NLA_FA_2021/3/
END:VEVENT
BEGIN:VEVENT
SUMMARY:Oscar Domingues Bonilla (Complutense University of Madrid)
DTSTART:20211026T070000Z
DTEND:20211026T080000Z
DTSTAMP:20260422T230719Z
UID:OIST_NLA_FA_2021/4
DESCRIPTION:Title: <a href="https://researchseminars.org/talk/OIST_NLA_FA_
 2021/4/">John–Nirenberg spaces revisited</a>\nby Oscar Domingues Bonilla
  (Complutense University of Madrid) as part of FALL 2021 Nonlinear Analysi
 s Seminar Series\n\nAbstract: TBA\n
LOCATION:https://researchseminars.org/talk/OIST_NLA_FA_2021/4/
END:VEVENT
BEGIN:VEVENT
SUMMARY:Itai Shafrir (Technion-Israel Institute of Technology)
DTSTART:20211102T070000Z
DTEND:20211102T080000Z
DTSTAMP:20260422T230719Z
UID:OIST_NLA_FA_2021/5
DESCRIPTION:Title: <a href="https://researchseminars.org/talk/OIST_NLA_FA_
 2021/5/">Minimizers of a variational problem for nematic liquid crystals w
 ith variable degree of orientation in two dimensions</a>\nby Itai Shafrir 
 (Technion-Israel Institute of Technology) as part of FALL 2021 Nonlinear A
 nalysis Seminar Series\n\nAbstract: TBA\n
LOCATION:https://researchseminars.org/talk/OIST_NLA_FA_2021/5/
END:VEVENT
BEGIN:VEVENT
SUMMARY:Denis Serre (The UMPA)
DTSTART:20211109T070000Z
DTEND:20211109T080000Z
DTSTAMP:20260422T230719Z
UID:OIST_NLA_FA_2021/6
DESCRIPTION:Title: <a href="https://researchseminars.org/talk/OIST_NLA_FA_
 2021/6/">Compensated integrability: classical and singular Divergence-BV s
 ymmetric tensors</a>\nby Denis Serre (The UMPA) as part of FALL 2021 Nonli
 near Analysis Seminar Series\n\nAbstract: TBA\n
LOCATION:https://researchseminars.org/talk/OIST_NLA_FA_2021/6/
END:VEVENT
BEGIN:VEVENT
SUMMARY:Galia Dafni (Concordia University)
DTSTART:20211116T010000Z
DTEND:20211116T020000Z
DTSTAMP:20260422T230719Z
UID:OIST_NLA_FA_2021/7
DESCRIPTION:Title: <a href="https://researchseminars.org/talk/OIST_NLA_FA_
 2021/7/">Boundedness and continuity of rearrangements in BMO and VMO</a>\n
 by Galia Dafni (Concordia University) as part of FALL 2021 Nonlinear Analy
 sis Seminar Series\n\nAbstract: TBA\n
LOCATION:https://researchseminars.org/talk/OIST_NLA_FA_2021/7/
END:VEVENT
BEGIN:VEVENT
SUMMARY:Po Lam Yung (Australian National University)
DTSTART:20211130T010000Z
DTEND:20211130T020000Z
DTSTAMP:20260422T230719Z
UID:OIST_NLA_FA_2021/8
DESCRIPTION:Title: <a href="https://researchseminars.org/talk/OIST_NLA_FA_
 2021/8/">Sobolev norms revisited</a>\nby Po Lam Yung (Australian National 
 University) as part of FALL 2021 Nonlinear Analysis Seminar Series\n\nAbst
 ract: TBA\n
LOCATION:https://researchseminars.org/talk/OIST_NLA_FA_2021/8/
END:VEVENT
BEGIN:VEVENT
SUMMARY:Yoshikazu Giga (The University of Tokyo)
DTSTART:20211207T070000Z
DTEND:20211207T080000Z
DTSTAMP:20260422T230719Z
UID:OIST_NLA_FA_2021/9
DESCRIPTION:Title: <a href="https://researchseminars.org/talk/OIST_NLA_FA_
 2021/9/">On a singular limit of a single-well Modica-Mortola functional an
 d its applications</a>\nby Yoshikazu Giga (The University of Tokyo) as par
 t of FALL 2021 Nonlinear Analysis Seminar Series\n\nAbstract: TBA\n
LOCATION:https://researchseminars.org/talk/OIST_NLA_FA_2021/9/
END:VEVENT
BEGIN:VEVENT
SUMMARY:David Beltran (University of Wisconsin – Madison)
DTSTART:20211214T010000Z
DTEND:20211214T020000Z
DTSTAMP:20260422T230719Z
UID:OIST_NLA_FA_2021/10
DESCRIPTION:Title: <a href="https://researchseminars.org/talk/OIST_NLA_FA_
 2021/10/">Endpoint Sobolev regularity of the fractional maximal function</
 a>\nby David Beltran (University of Wisconsin – Madison) as part of FALL
  2021 Nonlinear Analysis Seminar Series\n\nAbstract: TBA\n
LOCATION:https://researchseminars.org/talk/OIST_NLA_FA_2021/10/
END:VEVENT
BEGIN:VEVENT
SUMMARY:Kabe Moen (The University of Alabama)
DTSTART:20211124T010000Z
DTEND:20211124T020000Z
DTSTAMP:20260422T230719Z
UID:OIST_NLA_FA_2021/12
DESCRIPTION:Title: <a href="https://researchseminars.org/talk/OIST_NLA_FA_
 2021/12/">Fractional Integrals and Weights I</a>\nby Kabe Moen (The Univer
 sity of Alabama) as part of FALL 2021 Nonlinear Analysis Seminar Series\n\
 nAbstract: TBA\n
LOCATION:https://researchseminars.org/talk/OIST_NLA_FA_2021/12/
END:VEVENT
BEGIN:VEVENT
SUMMARY:Kabe Moen (The University of Alabama)
DTSTART:20211201T010000Z
DTEND:20211201T020000Z
DTSTAMP:20260422T230719Z
UID:OIST_NLA_FA_2021/13
DESCRIPTION:Title: <a href="https://researchseminars.org/talk/OIST_NLA_FA_
 2021/13/">Fractional Integrals and Weights II</a>\nby Kabe Moen (The Unive
 rsity of Alabama) as part of FALL 2021 Nonlinear Analysis Seminar Series\n
 \nAbstract: TBA\n
LOCATION:https://researchseminars.org/talk/OIST_NLA_FA_2021/13/
END:VEVENT
BEGIN:VEVENT
SUMMARY:Kabe Moen (The University of Alabama)
DTSTART:20211208T010000Z
DTEND:20211208T020000Z
DTSTAMP:20260422T230719Z
UID:OIST_NLA_FA_2021/14
DESCRIPTION:Title: <a href="https://researchseminars.org/talk/OIST_NLA_FA_
 2021/14/">Fractional Integrals and Weights III</a>\nby Kabe Moen (The Univ
 ersity of Alabama) as part of FALL 2021 Nonlinear Analysis Seminar Series\
 n\nAbstract: TBA\n
LOCATION:https://researchseminars.org/talk/OIST_NLA_FA_2021/14/
END:VEVENT
BEGIN:VEVENT
SUMMARY:Julian Weigt (Aalto University)
DTSTART:20211213T060000Z
DTEND:20211213T083000Z
DTSTAMP:20260422T230719Z
UID:OIST_NLA_FA_2021/15
DESCRIPTION:Title: <a href="https://researchseminars.org/talk/OIST_NLA_FA_
 2021/15/">Higher dimensional techniques for the regularity of maximal func
 tions</a>\nby Julian Weigt (Aalto University) as part of FALL 2021 Nonline
 ar Analysis Seminar Series\n\nAbstract: TBA\n
LOCATION:https://researchseminars.org/talk/OIST_NLA_FA_2021/15/
END:VEVENT
BEGIN:VEVENT
SUMMARY:Julian Weigt (Aalto University)
DTSTART:20211215T060000Z
DTEND:20211215T083000Z
DTSTAMP:20260422T230719Z
UID:OIST_NLA_FA_2021/16
DESCRIPTION:Title: <a href="https://researchseminars.org/talk/OIST_NLA_FA_
 2021/16/">Higher dimensional techniques for the regularity of maximal func
 tions</a>\nby Julian Weigt (Aalto University) as part of FALL 2021 Nonline
 ar Analysis Seminar Series\n\nAbstract: TBA\n
LOCATION:https://researchseminars.org/talk/OIST_NLA_FA_2021/16/
END:VEVENT
END:VCALENDAR
