BEGIN:VCALENDAR
VERSION:2.0
PRODID:researchseminars.org
CALSCALE:GREGORIAN
X-WR-CALNAME:researchseminars.org
BEGIN:VEVENT
SUMMARY:Anjan Ananda Sen (Ahmedabad University)
DTSTART:20210209T110000Z
DTEND:20210209T120000Z
DTSTAMP:20260422T225703Z
UID:NumbersAndPhysics/1
DESCRIPTION:Title: <a href="https://researchseminars.org/talk/NumbersAndPh
 ysics/1/">A Lazy Universe Inflates</a>\nby Anjan Ananda Sen (Ahmedabad Uni
 versity) as part of Mathematics and Physics Research Seminar Series\n\n\nA
 bstract\nThe introduction of a delay in the Friedmann equation of cosmolog
 ical evolutionis shown to result in the very early universe undergoing the
  necessary acceleratedexpansion in the usual radiation (or matter) dominat
 ed phase. Occurring even without a violation of the strong energy conditio
 n\, this expansion slows down naturallyto go over to the decelerated phase
 \, namely the standard Hubble expansion. Thismay obviate the need for a sc
 alar field driven inflationary epoch.\n
LOCATION:https://researchseminars.org/talk/NumbersAndPhysics/1/
END:VEVENT
BEGIN:VEVENT
SUMMARY:Alok Shukla (Ahmedabad University)
DTSTART:20210309T110000Z
DTEND:20210309T120000Z
DTSTAMP:20260422T225703Z
UID:NumbersAndPhysics/2
DESCRIPTION:Title: <a href="https://researchseminars.org/talk/NumbersAndPh
 ysics/2/">Elementary combinatorial proofs of Jacobi triple product and Rog
 ers-Ramanujan identities</a>\nby Alok Shukla (Ahmedabad University) as par
 t of Mathematics and Physics Research Seminar Series\n\n\nAbstract\nJacobi
  triple product identity and Rogers-Ramanujan identities are among the mos
 t famous $q$-series identities. We will present elementary combinatorial "
 tiling proofs" of these results. Some new results will also be presented. 
 The talk should be accessible to a general mathematical audience.\n
LOCATION:https://researchseminars.org/talk/NumbersAndPhysics/2/
END:VEVENT
END:VCALENDAR
