BEGIN:VCALENDAR
VERSION:2.0
PRODID:researchseminars.org
CALSCALE:GREGORIAN
X-WR-CALNAME:researchseminars.org
BEGIN:VEVENT
SUMMARY:L. Mahadevan (Harvard)
DTSTART:20220602T130000Z
DTEND:20220602T133000Z
DTSTAMP:20260422T212731Z
UID:NN22/1
DESCRIPTION:Title: <a href="https://researchseminars.org/talk/NN22/1/">Map
 s and shapes</a>\nby L. Mahadevan (Harvard) as part of Numbers and Nature 
 2022\n\nLecture held in Lecture Hall 6-120\, Building 6.\nAbstract: TBA\n
LOCATION:https://researchseminars.org/talk/NN22/1/
END:VEVENT
BEGIN:VEVENT
SUMMARY:Sir Michael Berry (U Bristol)
DTSTART:20220602T203000Z
DTEND:20220602T213000Z
DTSTAMP:20260422T212731Z
UID:NN22/2
DESCRIPTION:Title: <a href="https://researchseminars.org/talk/NN22/2/">Fou
 r Illusions</a>\nby Sir Michael Berry (U Bristol) as part of Numbers and N
 ature 2022\n\nLecture held in Lecture Hall 6-120\, Building 6.\nAbstract: 
 TBA\n
LOCATION:https://researchseminars.org/talk/NN22/2/
END:VEVENT
BEGIN:VEVENT
SUMMARY:Stephen Wolfram (Wolfram)
DTSTART:20220602T193000Z
DTEND:20220602T200000Z
DTSTAMP:20260422T212731Z
UID:NN22/3
DESCRIPTION:Title: <a href="https://researchseminars.org/talk/NN22/3/">Mat
 hematics\, Computation\, and Nature</a>\nby Stephen Wolfram (Wolfram) as p
 art of Numbers and Nature 2022\n\nLecture held in Lecture Hall 6-120\, Bui
 lding 6.\nAbstract: TBA\n
LOCATION:https://researchseminars.org/talk/NN22/3/
END:VEVENT
BEGIN:VEVENT
SUMMARY:Yves Pomeau (ENS Paris)
DTSTART:20220603T130000Z
DTEND:20220603T133000Z
DTSTAMP:20260422T212731Z
UID:NN22/4
DESCRIPTION:Title: <a href="https://researchseminars.org/talk/NN22/4/">Tur
 bulence\, from Newton's quadratic law of drag to Mitchell Feigenbaum and t
 o recent times</a>\nby Yves Pomeau (ENS Paris) as part of Numbers and Natu
 re 2022\n\nLecture held in Lecture Hall 6-120\, Building 6.\nAbstract: TBA
 \n
LOCATION:https://researchseminars.org/talk/NN22/4/
END:VEVENT
BEGIN:VEVENT
SUMMARY:Dan Rothman (MIT)
DTSTART:20220603T190000Z
DTEND:20220603T193000Z
DTSTAMP:20260422T212731Z
UID:NN22/5
DESCRIPTION:Title: <a href="https://researchseminars.org/talk/NN22/5/">Gla
 ssy dynamics in Earth’s carbon cycle</a>\nby Dan Rothman (MIT) as part o
 f Numbers and Nature 2022\n\nLecture held in Lecture Hall 6-120\, Building
  6.\nAbstract: TBA\n
LOCATION:https://researchseminars.org/talk/NN22/5/
END:VEVENT
BEGIN:VEVENT
SUMMARY:Adam Cohen (Harvard)
DTSTART:20220602T133000Z
DTEND:20220602T140000Z
DTSTAMP:20260422T212731Z
UID:NN22/6
DESCRIPTION:Title: <a href="https://researchseminars.org/talk/NN22/6/">Geo
 metry\, Topology\, and Electrophysiology</a>\nby Adam Cohen (Harvard) as p
 art of Numbers and Nature 2022\n\nLecture held in Lecture Hall 6-120\, Bui
 lding 6.\nAbstract: TBA\n
LOCATION:https://researchseminars.org/talk/NN22/6/
END:VEVENT
BEGIN:VEVENT
SUMMARY:Albert Libchaber (Rockefeller)
DTSTART:20220602T140000Z
DTEND:20220602T143000Z
DTSTAMP:20260422T212731Z
UID:NN22/7
DESCRIPTION:Title: <a href="https://researchseminars.org/talk/NN22/7/">Mit
 chell Feigenbaum's Role in Chaos</a>\nby Albert Libchaber (Rockefeller) as
  part of Numbers and Nature 2022\n\nLecture held in Lecture Hall 6-120\, B
 uilding 6.\nAbstract: TBA\n
LOCATION:https://researchseminars.org/talk/NN22/7/
END:VEVENT
BEGIN:VEVENT
SUMMARY:Bjorn Hof (IST Austria)
DTSTART:20220602T150000Z
DTEND:20220602T153000Z
DTSTAMP:20260422T212731Z
UID:NN22/8
DESCRIPTION:Title: <a href="https://researchseminars.org/talk/NN22/8/">Ein
  Sturm im Wasserglas</a>\nby Bjorn Hof (IST Austria) as part of Numbers an
 d Nature 2022\n\nLecture held in Lecture Hall 6-120\, Building 6.\nAbstrac
 t: TBA\n
LOCATION:https://researchseminars.org/talk/NN22/8/
END:VEVENT
BEGIN:VEVENT
SUMMARY:Alex Petroff (Clark)
DTSTART:20220602T153000Z
DTEND:20220602T160000Z
DTSTAMP:20260422T212731Z
UID:NN22/9
DESCRIPTION:Title: <a href="https://researchseminars.org/talk/NN22/9/">Hyd
 rodynamics and Microbes</a>\nby Alex Petroff (Clark) as part of Numbers an
 d Nature 2022\n\nLecture held in Lecture Hall 6-120\, Building 6.\nAbstrac
 t: TBA\n
LOCATION:https://researchseminars.org/talk/NN22/9/
END:VEVENT
BEGIN:VEVENT
SUMMARY:Nigel Goldenfeld (UC San Diego)
DTSTART:20220602T160000Z
DTEND:20220602T163000Z
DTSTAMP:20260422T212731Z
UID:NN22/10
DESCRIPTION:Title: <a href="https://researchseminars.org/talk/NN22/10/">Li
 fe and Death of Turbulence</a>\nby Nigel Goldenfeld (UC San Diego) as part
  of Numbers and Nature 2022\n\nLecture held in Lecture Hall 6-120\, Buildi
 ng 6.\nAbstract: TBA\n
LOCATION:https://researchseminars.org/talk/NN22/10/
END:VEVENT
BEGIN:VEVENT
SUMMARY:Jean-Pierre Eckmann (U Geneve)
DTSTART:20220602T180000Z
DTEND:20220602T183000Z
DTSTAMP:20260422T212731Z
UID:NN22/11
DESCRIPTION:Title: <a href="https://researchseminars.org/talk/NN22/11/">Op
 tics\, Vision\, and Evolution After Mitchell Feigenbaum</a>\nby Jean-Pierr
 e Eckmann (U Geneve) as part of Numbers and Nature 2022\n\nLecture held in
  Lecture Hall 6-120\, Building 6.\nAbstract: TBA\n
LOCATION:https://researchseminars.org/talk/NN22/11/
END:VEVENT
BEGIN:VEVENT
SUMMARY:Ken Brecher (Boston U)
DTSTART:20220602T183000Z
DTEND:20220602T190000Z
DTSTAMP:20260422T212731Z
UID:NN22/12
DESCRIPTION:Title: <a href="https://researchseminars.org/talk/NN22/12/">Th
 e DeltaCELT Rattleback and Anamorphic Images</a>\nby Ken Brecher (Boston U
 ) as part of Numbers and Nature 2022\n\nLecture held in Lecture Hall 6-120
 \, Building 6.\nAbstract: TBA\n
LOCATION:https://researchseminars.org/talk/NN22/12/
END:VEVENT
BEGIN:VEVENT
SUMMARY:Reymond E. Goldstein (Cambridge U)
DTSTART:20220602T190000Z
DTEND:20220602T193000Z
DTSTAMP:20260422T212731Z
UID:NN22/13
DESCRIPTION:Title: <a href="https://researchseminars.org/talk/NN22/13/">St
 ories of Fluids and Light</a>\nby Reymond E. Goldstein (Cambridge U) as pa
 rt of Numbers and Nature 2022\n\nLecture held in Lecture Hall 6-120\, Buil
 ding 6.\nAbstract: TBA\n
LOCATION:https://researchseminars.org/talk/NN22/13/
END:VEVENT
BEGIN:VEVENT
SUMMARY:Nikta Fakhri (MIT)
DTSTART:20220603T133000Z
DTEND:20220603T140000Z
DTSTAMP:20260422T212731Z
UID:NN22/14
DESCRIPTION:Title: <a href="https://researchseminars.org/talk/NN22/14/">Br
 oken Symmetries in Living Systems</a>\nby Nikta Fakhri (MIT) as part of Nu
 mbers and Nature 2022\n\nLecture held in Lecture Hall 6-120\, Building 6.\
 nAbstract: TBA\n
LOCATION:https://researchseminars.org/talk/NN22/14/
END:VEVENT
BEGIN:VEVENT
SUMMARY:Harry Swinney (UT Austin)
DTSTART:20220603T140000Z
DTEND:20220603T143000Z
DTSTAMP:20260422T212731Z
UID:NN22/15
DESCRIPTION:Title: <a href="https://researchseminars.org/talk/NN22/15/">Ov
 ercoming the Random Closed Packed Barrier: Crystallization in Granular Med
 ia</a>\nby Harry Swinney (UT Austin) as part of Numbers and Nature 2022\n\
 nLecture held in Lecture Hall 6-120\, Building 6.\nAbstract: TBA\n
LOCATION:https://researchseminars.org/talk/NN22/15/
END:VEVENT
BEGIN:VEVENT
SUMMARY:Dwight Barkley (U Warwick)
DTSTART:20220603T150000Z
DTEND:20220603T153000Z
DTSTAMP:20260422T212731Z
UID:NN22/16
DESCRIPTION:Title: <a href="https://researchseminars.org/talk/NN22/16/">Si
 ngularity in a Teacup — When Nature Gives Infinity Dwight Barkey</a>\nby
  Dwight Barkley (U Warwick) as part of Numbers and Nature 2022\n\nLecture 
 held in Lecture Hall 6-120\, Building 6.\nAbstract: TBA\n
LOCATION:https://researchseminars.org/talk/NN22/16/
END:VEVENT
BEGIN:VEVENT
SUMMARY:Sasha Migdal (NYU)
DTSTART:20220603T153000Z
DTEND:20220603T160000Z
DTSTAMP:20260422T212731Z
UID:NN22/17
DESCRIPTION:Title: <a href="https://researchseminars.org/talk/NN22/17/">Vo
 rtex Sheets and Turbulent Statistics</a>\nby Sasha Migdal (NYU) as part of
  Numbers and Nature 2022\n\nLecture held in Lecture Hall 6-120\, Building 
 6.\nAbstract: TBA\n
LOCATION:https://researchseminars.org/talk/NN22/17/
END:VEVENT
BEGIN:VEVENT
SUMMARY:Sara Seager (MIT)
DTSTART:20220603T160000Z
DTEND:20220603T163000Z
DTSTAMP:20260422T212731Z
UID:NN22/18
DESCRIPTION:Title: <a href="https://researchseminars.org/talk/NN22/18/">Ve
 nus as a Potentially Habitable Planet</a>\nby Sara Seager (MIT) as part of
  Numbers and Nature 2022\n\nLecture held in Lecture Hall 6-120\, Building 
 6.\nAbstract: TBA\n
LOCATION:https://researchseminars.org/talk/NN22/18/
END:VEVENT
BEGIN:VEVENT
SUMMARY:Kirsty Wan (U Exeter)
DTSTART:20220603T180000Z
DTEND:20220603T183000Z
DTSTAMP:20260422T212731Z
UID:NN22/19
DESCRIPTION:Title: <a href="https://researchseminars.org/talk/NN22/19/">En
 coding Patterns in Single-Cell Locomotion: Oscillations\, Synchronization\
 , and Excitability</a>\nby Kirsty Wan (U Exeter) as part of Numbers and Na
 ture 2022\n\nLecture held in Lecture Hall 6-120\, Building 6.\nAbstract: T
 BA\n
LOCATION:https://researchseminars.org/talk/NN22/19/
END:VEVENT
BEGIN:VEVENT
SUMMARY:Renu Malhotra (U Arizona)
DTSTART:20220603T183000Z
DTEND:20220603T190000Z
DTSTAMP:20260422T212731Z
UID:NN22/20
DESCRIPTION:Title: <a href="https://researchseminars.org/talk/NN22/20/">Th
 e Mysteries of Gaps and Pile-Ups at Planetary Resonances</a>\nby Renu Malh
 otra (U Arizona) as part of Numbers and Nature 2022\n\nLecture held in Lec
 ture Hall 6-120\, Building 6.\nAbstract: TBA\n
LOCATION:https://researchseminars.org/talk/NN22/20/
END:VEVENT
END:VCALENDAR
