BEGIN:VCALENDAR
VERSION:2.0
PRODID:researchseminars.org
CALSCALE:GREGORIAN
X-WR-CALNAME:researchseminars.org
BEGIN:VEVENT
SUMMARY:Federico Barbacovi (UCL)
DTSTART:20200928T120000Z
DTEND:20200928T133000Z
DTSTAMP:20260422T230720Z
UID:MoreAlgGeomImperialCollege/1
DESCRIPTION:Title: <a href="https://researchseminars.org/talk/MoreAlgGeomI
 mperialCollege/1/">A geometric incarnation of the flop-flop autoequivalenc
 e as a spherical twist</a>\nby Federico Barbacovi (UCL) as part of MAGIC a
 lgebraic geometry seminar\n\nAbstract: TBA\n
LOCATION:https://researchseminars.org/talk/MoreAlgGeomImperialCollege/1/
END:VEVENT
END:VCALENDAR
