BEGIN:VCALENDAR
VERSION:2.0
PRODID:researchseminars.org
CALSCALE:GREGORIAN
X-WR-CALNAME:researchseminars.org
BEGIN:VEVENT
SUMMARY:Andrew Senger (Harvard University)
DTSTART:20220607T140000Z
DTEND:20220607T150000Z
DTSTAMP:20260422T225658Z
UID:MHTRT/1
DESCRIPTION:Title: <a href="https://researchseminars.org/talk/MHTRT/1/">On
  the classification of metastably connected manifolds</a>\nby Andrew Senge
 r (Harvard University) as part of Manifolds\, homotopy theory\, and relate
 d topics\n\nAbstract: TBA\n
LOCATION:https://researchseminars.org/talk/MHTRT/1/
END:VEVENT
BEGIN:VEVENT
SUMMARY:Achim Krause (WWU Münster)
DTSTART:20220621T140000Z
DTEND:20220621T150000Z
DTSTAMP:20260422T225658Z
UID:MHTRT/2
DESCRIPTION:Title: <a href="https://researchseminars.org/talk/MHTRT/2/">On
  the K-theory of Z/p^n</a>\nby Achim Krause (WWU Münster) as part of Mani
 folds\, homotopy theory\, and related topics\n\nAbstract: TBA\n
LOCATION:https://researchseminars.org/talk/MHTRT/2/
END:VEVENT
BEGIN:VEVENT
SUMMARY:Johannes Ebert (WWU Münster)
DTSTART:20220705T140000Z
DTEND:20220705T150000Z
DTSTAMP:20260422T225658Z
UID:MHTRT/3
DESCRIPTION:Title: <a href="https://researchseminars.org/talk/MHTRT/3/">On
  the rational homology of diffeomorphism groups for some odd-dimensional m
 anifolds</a>\nby Johannes Ebert (WWU Münster) as part of Manifolds\, homo
 topy theory\, and related topics\n\nAbstract: TBA\n
LOCATION:https://researchseminars.org/talk/MHTRT/3/
END:VEVENT
BEGIN:VEVENT
SUMMARY:Florian Naef (Trinity College Dublin)
DTSTART:20220719T140000Z
DTEND:20220719T150000Z
DTSTAMP:20260422T225658Z
UID:MHTRT/4
DESCRIPTION:Title: <a href="https://researchseminars.org/talk/MHTRT/4/">Tr
 ace amounts of torsion found</a>\nby Florian Naef (Trinity College Dublin)
  as part of Manifolds\, homotopy theory\, and related topics\n\nAbstract: 
 TBA\n
LOCATION:https://researchseminars.org/talk/MHTRT/4/
END:VEVENT
BEGIN:VEVENT
SUMMARY:Mikala Ørsnes Jansen (University of Copenhagen)
DTSTART:20220816T140000Z
DTEND:20220816T150000Z
DTSTAMP:20260422T225658Z
UID:MHTRT/5
DESCRIPTION:Title: <a href="https://researchseminars.org/talk/MHTRT/5/">Un
 stable algebraic K-theory</a>\nby Mikala Ørsnes Jansen (University of Cop
 enhagen) as part of Manifolds\, homotopy theory\, and related topics\n\nAb
 stract: TBA\n
LOCATION:https://researchseminars.org/talk/MHTRT/5/
END:VEVENT
BEGIN:VEVENT
SUMMARY:Jan Steinebrunner (Cambridge University)
DTSTART:20220830T140000Z
DTEND:20220830T150000Z
DTSTAMP:20260422T225658Z
UID:MHTRT/6
DESCRIPTION:Title: <a href="https://researchseminars.org/talk/MHTRT/6/">Th
 e genus filtration of the surface category</a>\nby Jan Steinebrunner (Camb
 ridge University) as part of Manifolds\, homotopy theory\, and related top
 ics\n\nAbstract: TBA\n
LOCATION:https://researchseminars.org/talk/MHTRT/6/
END:VEVENT
BEGIN:VEVENT
SUMMARY:Adela Zhang (MIT)
DTSTART:20221018T140000Z
DTEND:20221018T150000Z
DTSTAMP:20260422T225658Z
UID:MHTRT/7
DESCRIPTION:Title: <a href="https://researchseminars.org/talk/MHTRT/7/">Mo
 d p homology of labeled configuration spaces via spectral Lie algebras</a>
 \nby Adela Zhang (MIT) as part of Manifolds\, homotopy theory\, and relate
 d topics\n\nAbstract: TBA\n
LOCATION:https://researchseminars.org/talk/MHTRT/7/
END:VEVENT
BEGIN:VEVENT
SUMMARY:Samuel Muñoz Echániz (Cambridge)
DTSTART:20221101T150000Z
DTEND:20221101T160000Z
DTSTAMP:20260422T225658Z
UID:MHTRT/8
DESCRIPTION:Title: <a href="https://researchseminars.org/talk/MHTRT/8/">Ma
 pping class groups of h-cobordant manifolds</a>\nby Samuel Muñoz Echániz
  (Cambridge) as part of Manifolds\, homotopy theory\, and related topics\n
 \nAbstract: TBA\n
LOCATION:https://researchseminars.org/talk/MHTRT/8/
END:VEVENT
BEGIN:VEVENT
SUMMARY:Geoffroy Horel (Université Paris 13)
DTSTART:20221115T150000Z
DTEND:20221115T160000Z
DTSTAMP:20260422T225658Z
UID:MHTRT/9
DESCRIPTION:Title: <a href="https://researchseminars.org/talk/MHTRT/9/">Bi
 nomial rings in homotopy theory</a>\nby Geoffroy Horel (Université Paris 
 13) as part of Manifolds\, homotopy theory\, and related topics\n\nAbstrac
 t: TBA\n
LOCATION:https://researchseminars.org/talk/MHTRT/9/
END:VEVENT
BEGIN:VEVENT
SUMMARY:Jianfeng Lin (Tsinghua University)
DTSTART:20221129T150000Z
DTEND:20221129T160000Z
DTSTAMP:20260422T225658Z
UID:MHTRT/10
DESCRIPTION:by Jianfeng Lin (Tsinghua University) as part of Manifolds\, h
 omotopy theory\, and related topics\n\nAbstract: TBA\n
LOCATION:https://researchseminars.org/talk/MHTRT/10/
END:VEVENT
BEGIN:VEVENT
SUMMARY:Kaya Ferendo (Brown University)
DTSTART:20230117T150000Z
DTEND:20230117T160000Z
DTSTAMP:20260422T225658Z
UID:MHTRT/11
DESCRIPTION:Title: <a href="https://researchseminars.org/talk/MHTRT/11/">F
 I-calculus and representation stability</a>\nby Kaya Ferendo (Brown Univer
 sity) as part of Manifolds\, homotopy theory\, and related topics\n\nAbstr
 act: TBA\n
LOCATION:https://researchseminars.org/talk/MHTRT/11/
END:VEVENT
BEGIN:VEVENT
SUMMARY:Ben Knudsen (Northeastern University)
DTSTART:20230131T150000Z
DTEND:20230131T160000Z
DTSTAMP:20260422T225658Z
UID:MHTRT/12
DESCRIPTION:Title: <a href="https://researchseminars.org/talk/MHTRT/12/">S
 tability phenomena in the homology of (pure) graph braid groups</a>\nby Be
 n Knudsen (Northeastern University) as part of Manifolds\, homotopy theory
 \, and related topics\n\nAbstract: TBA\n
LOCATION:https://researchseminars.org/talk/MHTRT/12/
END:VEVENT
BEGIN:VEVENT
SUMMARY:Owen Gwilliam (University of Massachusetts\, Amherst)
DTSTART:20230214T150000Z
DTEND:20230214T160000Z
DTSTAMP:20260422T225658Z
UID:MHTRT/13
DESCRIPTION:Title: <a href="https://researchseminars.org/talk/MHTRT/13/">R
 andom matrices and quantizing the Loday-Quillen-Tsygan theorem</a>\nby Owe
 n Gwilliam (University of Massachusetts\, Amherst) as part of Manifolds\, 
 homotopy theory\, and related topics\n\nAbstract: TBA\n
LOCATION:https://researchseminars.org/talk/MHTRT/13/
END:VEVENT
BEGIN:VEVENT
SUMMARY:Greg Arone (Stockholm University)
DTSTART:20230228T150000Z
DTEND:20230228T160000Z
DTSTAMP:20260422T225658Z
UID:MHTRT/14
DESCRIPTION:Title: <a href="https://researchseminars.org/talk/MHTRT/14/">E
 xt in functor categories and stable cohomology of Aut(F_n)</a>\nby Greg Ar
 one (Stockholm University) as part of Manifolds\, homotopy theory\, and re
 lated topics\n\nAbstract: TBA\n
LOCATION:https://researchseminars.org/talk/MHTRT/14/
END:VEVENT
BEGIN:VEVENT
SUMMARY:Nick Kuhn (University of Virginia)
DTSTART:20230314T150000Z
DTEND:20230314T160000Z
DTSTAMP:20260422T225658Z
UID:MHTRT/15
DESCRIPTION:by Nick Kuhn (University of Virginia) as part of Manifolds\, h
 omotopy theory\, and related topics\n\nAbstract: TBA\n
LOCATION:https://researchseminars.org/talk/MHTRT/15/
END:VEVENT
END:VCALENDAR
