BEGIN:VCALENDAR
VERSION:2.0
PRODID:researchseminars.org
CALSCALE:GREGORIAN
X-WR-CALNAME:researchseminars.org
BEGIN:VEVENT
SUMMARY:Alessandro Giuliani (Università Roma Tre)
DTSTART:20201212T140000Z
DTEND:20201212T150000Z
DTSTAMP:20260422T225846Z
UID:MCQM/1
DESCRIPTION:Title: <a href="https://researchseminars.org/talk/MCQM/1/">Non
 -renormalization of the “chiral anomaly” in interacting lattice Weyl s
 emimetals</a>\nby Alessandro Giuliani (Università Roma Tre) as part of MC
 QM Seminar\n\nAbstract: TBA\n
LOCATION:https://researchseminars.org/talk/MCQM/1/
END:VEVENT
BEGIN:VEVENT
SUMMARY:Pavel Exner (Doppler Institute for Mathematical Physics and Applie
 d Mathematics\, Prague)
DTSTART:20210111T140000Z
DTEND:20210111T150000Z
DTSTAMP:20260422T225846Z
UID:MCQM/2
DESCRIPTION:Title: <a href="https://researchseminars.org/talk/MCQM/2/">Dis
 crete spectrum of two-dimensional soft waveguides</a>\nby Pavel Exner (Dop
 pler Institute for Mathematical Physics and Applied Mathematics\, Prague) 
 as part of MCQM Seminar\n\nAbstract: TBA\n
LOCATION:https://researchseminars.org/talk/MCQM/2/
END:VEVENT
BEGIN:VEVENT
SUMMARY:Mathieu Lewin (CEREMADE Université Paris Dauphine)
DTSTART:20210208T140000Z
DTEND:20210208T150000Z
DTSTAMP:20260422T225846Z
UID:MCQM/3
DESCRIPTION:Title: <a href="https://researchseminars.org/talk/MCQM/3/">New
  results on the Lieb-Thirring inequality</a>\nby Mathieu Lewin (CEREMADE U
 niversité Paris Dauphine) as part of MCQM Seminar\n\nAbstract: TBA\n
LOCATION:https://researchseminars.org/talk/MCQM/3/
END:VEVENT
BEGIN:VEVENT
SUMMARY:Mathieu Lewin (CEREMADE Université Paris Dauphine)
DTSTART:20210208T140000Z
DTEND:20210208T150000Z
DTSTAMP:20260422T225846Z
UID:MCQM/4
DESCRIPTION:Title: <a href="https://researchseminars.org/talk/MCQM/4/">New
  results on the Lieb-Thirring inequality</a>\nby Mathieu Lewin (CEREMADE U
 niversité Paris Dauphine) as part of MCQM Seminar\n\nAbstract: TBA\n
LOCATION:https://researchseminars.org/talk/MCQM/4/
END:VEVENT
BEGIN:VEVENT
SUMMARY:I. M. Sigal
DTSTART:20210308T150000Z
DTEND:20210308T160000Z
DTSTAMP:20260422T225846Z
UID:MCQM/5
DESCRIPTION:by I. M. Sigal as part of MCQM Seminar\n\nAbstract: TBA\n
LOCATION:https://researchseminars.org/talk/MCQM/5/
END:VEVENT
BEGIN:VEVENT
SUMMARY:M. Loss
DTSTART:20210412T130000Z
DTEND:20210412T140000Z
DTSTAMP:20260422T225846Z
UID:MCQM/6
DESCRIPTION:Title: <a href="https://researchseminars.org/talk/MCQM/6/">Whi
 ch magnetic fields support a zero mode?</a>\nby M. Loss as part of MCQM Se
 minar\n\nAbstract: TBA\n
LOCATION:https://researchseminars.org/talk/MCQM/6/
END:VEVENT
BEGIN:VEVENT
SUMMARY:G. Staffilani
DTSTART:20210510T140000Z
DTEND:20210510T150000Z
DTSTAMP:20260422T225846Z
UID:MCQM/7
DESCRIPTION:Title: <a href="https://researchseminars.org/talk/MCQM/7/">The
   Schrodinger equation as inspiration of beautiful mathematics</a>\nby G. 
 Staffilani as part of MCQM Seminar\n\nAbstract: TBA\n
LOCATION:https://researchseminars.org/talk/MCQM/7/
END:VEVENT
BEGIN:VEVENT
SUMMARY:Christian Hainz
DTSTART:20210705T130000Z
DTEND:20210705T140000Z
DTSTAMP:20260422T225846Z
UID:MCQM/8
DESCRIPTION:Title: <a href="https://researchseminars.org/talk/MCQM/8/">Bos
 onic properties of fermionic systems</a>\nby Christian Hainz as part of MC
 QM Seminar\n\n\nAbstract\nA pair of particles\, one from inside\, one from
  outside the Fermi sea\, can be considered as a boson. Such a simplifying 
 picture allows to obtain the correlation energy for both high density and 
 low density Fermi systems\, despite their completely different behavior.\n
LOCATION:https://researchseminars.org/talk/MCQM/8/
END:VEVENT
BEGIN:VEVENT
SUMMARY:Stefan Teufel (Universität of Tübingen)
DTSTART:20211216T131500Z
DTEND:20211216T141500Z
DTSTAMP:20260422T225846Z
UID:MCQM/9
DESCRIPTION:Title: <a href="https://researchseminars.org/talk/MCQM/9/">A g
 eneral bulk-edge correspondence at positive temperature</a>\nby Stefan Teu
 fel (Universität of Tübingen) as part of MCQM Seminar\n\nAbstract: TBA\n
LOCATION:https://researchseminars.org/talk/MCQM/9/
END:VEVENT
BEGIN:VEVENT
SUMMARY:Nicolas Rougerie
DTSTART:20220120T131500Z
DTEND:20220120T141500Z
DTSTAMP:20260422T225846Z
UID:MCQM/10
DESCRIPTION:Title: <a href="https://researchseminars.org/talk/MCQM/10/">Tw
 o modes approximation for bosons in a double well potential</a>\nby Nicola
 s Rougerie as part of MCQM Seminar\n\nAbstract: TBA\n
LOCATION:https://researchseminars.org/talk/MCQM/10/
END:VEVENT
END:VCALENDAR
