BEGIN:VCALENDAR
VERSION:2.0
PRODID:researchseminars.org
CALSCALE:GREGORIAN
X-WR-CALNAME:researchseminars.org
BEGIN:VEVENT
SUMMARY:William P.  Minicozzi II
DTSTART:20220104T220000Z
DTEND:20220105T000000Z
DTSTAMP:20260422T212900Z
UID:MATRIXSMRI-GeoFlows/1
DESCRIPTION:Title: <a href="https://researchseminars.org/talk/MATRIXSMRI-G
 eoFlows/1/">Open problems with Bill & Question time</a>\nby William P.  Mi
 nicozzi II as part of MATRIX-SMRI Symposium: Singularities in Geometric Fl
 ows: An Ancient Perspective\n\nAbstract: TBA\n
LOCATION:https://researchseminars.org/talk/MATRIXSMRI-GeoFlows/1/
END:VEVENT
BEGIN:VEVENT
SUMMARY:Lu Wang
DTSTART:20220105T000000Z
DTEND:20220105T010000Z
DTSTAMP:20260422T212900Z
UID:MATRIXSMRI-GeoFlows/2
DESCRIPTION:Title: <a href="https://researchseminars.org/talk/MATRIXSMRI-G
 eoFlows/2/">Relative expander entropy and its applications</a>\nby Lu Wang
  as part of MATRIX-SMRI Symposium: Singularities in Geometric Flows: An An
 cient Perspective\n\n\nAbstract\nIn this talk\, I will discuss basic prope
 rties for a notion of relative entropy motivated by self-expanding solutio
 ns to the mean curvature flow. I will also discuss a version of the forwar
 d monotonicity formula for mean curvature flow. This is joint with Jacob B
 ernstein.\n
LOCATION:https://researchseminars.org/talk/MATRIXSMRI-GeoFlows/2/
END:VEVENT
BEGIN:VEVENT
SUMMARY:Nataša Šešum
DTSTART:20220105T220000Z
DTEND:20220106T000000Z
DTSTAMP:20260422T212900Z
UID:MATRIXSMRI-GeoFlows/3
DESCRIPTION:Title: <a href="https://researchseminars.org/talk/MATRIXSMRI-G
 eoFlows/3/">Open problems with Nataša & Question time</a>\nby Nataša Še
 šum as part of MATRIX-SMRI Symposium: Singularities in Geometric Flows: A
 n Ancient Perspective\n\nAbstract: TBA\n
LOCATION:https://researchseminars.org/talk/MATRIXSMRI-GeoFlows/3/
END:VEVENT
BEGIN:VEVENT
SUMMARY:Kyeoungsu Choi
DTSTART:20220106T000000Z
DTEND:20220106T010000Z
DTSTAMP:20260422T212900Z
UID:MATRIXSMRI-GeoFlows/4
DESCRIPTION:Title: <a href="https://researchseminars.org/talk/MATRIXSMRI-G
 eoFlows/4/">Translating flows by sub-affine-critical powers of Gauss curva
 ture</a>\nby Kyeoungsu Choi as part of MATRIX-SMRI Symposium: Singularitie
 s in Geometric Flows: An Ancient Perspective\n\n\nAbstract\nThe Gauss curv
 ature flow with sub-affine-critical powers generically develops Type II si
 ngularities\, while the flow with super-affine-critical powers converges t
 o the round point. Therefore\, to analyze the singularities with small pow
 ers\, one needs to the translators as the model case of the limit ancient 
 flows. In this talk\, we show that blow-downs of translators are the graph
 s of homogeneous functions such that the level sets of the graphs are the 
 shrinkers of the alpha-curve shortening flows. Then\, we discuss how to cl
 assify the translators by using the Morse index and Jacobi fields of the s
 hrinkers.\n
LOCATION:https://researchseminars.org/talk/MATRIXSMRI-GeoFlows/4/
END:VEVENT
BEGIN:VEVENT
SUMMARY:ECR Talks
DTSTART:20220104T030000Z
DTEND:20220104T050000Z
DTSTAMP:20260422T212900Z
UID:MATRIXSMRI-GeoFlows/5
DESCRIPTION:by ECR Talks as part of MATRIX-SMRI Symposium: Singularities i
 n Geometric Flows: An Ancient Perspective\n\nAbstract: TBA\n
LOCATION:https://researchseminars.org/talk/MATRIXSMRI-GeoFlows/5/
END:VEVENT
BEGIN:VEVENT
SUMMARY:Problem elaboration session
DTSTART:20220105T030000Z
DTEND:20220105T050000Z
DTSTAMP:20260422T212900Z
UID:MATRIXSMRI-GeoFlows/6
DESCRIPTION:by Problem elaboration session as part of MATRIX-SMRI Symposiu
 m: Singularities in Geometric Flows: An Ancient Perspective\n\nAbstract: T
 BA\n
LOCATION:https://researchseminars.org/talk/MATRIXSMRI-GeoFlows/6/
END:VEVENT
BEGIN:VEVENT
SUMMARY:Problem elaboration session
DTSTART:20220106T030000Z
DTEND:20220106T050000Z
DTSTAMP:20260422T212900Z
UID:MATRIXSMRI-GeoFlows/7
DESCRIPTION:by Problem elaboration session as part of MATRIX-SMRI Symposiu
 m: Singularities in Geometric Flows: An Ancient Perspective\n\nAbstract: T
 BA\n
LOCATION:https://researchseminars.org/talk/MATRIXSMRI-GeoFlows/7/
END:VEVENT
BEGIN:VEVENT
SUMMARY:Lynch
DTSTART:20220106T220000Z
DTEND:20220106T230000Z
DTSTAMP:20260422T212900Z
UID:MATRIXSMRI-GeoFlows/8
DESCRIPTION:by Lynch as part of MATRIX-SMRI Symposium: Singularities in Ge
 ometric Flows: An Ancient Perspective\n\nAbstract: TBA\n
LOCATION:https://researchseminars.org/talk/MATRIXSMRI-GeoFlows/8/
END:VEVENT
BEGIN:VEVENT
SUMMARY:Ramiro Lafuente
DTSTART:20220106T230000Z
DTEND:20220107T000000Z
DTSTAMP:20260422T212900Z
UID:MATRIXSMRI-GeoFlows/9
DESCRIPTION:Title: <a href="https://researchseminars.org/talk/MATRIXSMRI-G
 eoFlows/9/">Non-compact Einstein manifolds with symmetry</a>\nby Ramiro La
 fuente as part of MATRIX-SMRI Symposium: Singularities in Geometric Flows:
  An Ancient Perspective\n\n\nAbstract\nIn this talk we will discuss recent
  joint work in collaboration with Christoph Böhm in which we obtain struc
 ture results for non-compact Einstein manifolds admitting a cocompact isom
 etric action of a connected Lie group. As an application\, we prove the Al
 ekseevskii conjecture (1975): any connected homogeneous Einstein space of 
 negative scalar curvature is diffeomorphic to a Euclidean space.\n
LOCATION:https://researchseminars.org/talk/MATRIXSMRI-GeoFlows/9/
END:VEVENT
BEGIN:VEVENT
SUMMARY:Question time
DTSTART:20220107T000000Z
DTEND:20220107T010000Z
DTSTAMP:20260422T212900Z
UID:MATRIXSMRI-GeoFlows/10
DESCRIPTION:by Question time as part of MATRIX-SMRI Symposium: Singulariti
 es in Geometric Flows: An Ancient Perspective\n\nAbstract: TBA\n
LOCATION:https://researchseminars.org/talk/MATRIXSMRI-GeoFlows/10/
END:VEVENT
BEGIN:VEVENT
SUMMARY:Question time
DTSTART:20220108T000000Z
DTEND:20220108T010000Z
DTSTAMP:20260422T212900Z
UID:MATRIXSMRI-GeoFlows/11
DESCRIPTION:by Question time as part of MATRIX-SMRI Symposium: Singulariti
 es in Geometric Flows: An Ancient Perspective\n\nAbstract: TBA\n
LOCATION:https://researchseminars.org/talk/MATRIXSMRI-GeoFlows/11/
END:VEVENT
BEGIN:VEVENT
SUMMARY:Brett Kotchwar
DTSTART:20220107T220000Z
DTEND:20220107T230000Z
DTSTAMP:20260422T212900Z
UID:MATRIXSMRI-GeoFlows/12
DESCRIPTION:Title: <a href="https://researchseminars.org/talk/MATRIXSMRI-G
 eoFlows/12/">Propagation of geometric structure under the Ricci flow and a
 pplications to shrinking solitons</a>\nby Brett Kotchwar as part of MATRIX
 -SMRI Symposium: Singularities in Geometric Flows: An Ancient Perspective\
 n\n\nAbstract\nWe will present some unique-continuation results which ensu
 re the propagation of symmetry and other geometric features (e.g.\, warped
  product structures) backward in time along a solution to the Ricci flow a
 nd discuss their applications to the classification problem for shrinking 
 Ricci solitons\n
LOCATION:https://researchseminars.org/talk/MATRIXSMRI-GeoFlows/12/
END:VEVENT
BEGIN:VEVENT
SUMMARY:Chodosh
DTSTART:20220107T230000Z
DTEND:20220108T000000Z
DTSTAMP:20260422T212900Z
UID:MATRIXSMRI-GeoFlows/13
DESCRIPTION:by Chodosh as part of MATRIX-SMRI Symposium: Singularities in 
 Geometric Flows: An Ancient Perspective\n\nAbstract: TBA\n
LOCATION:https://researchseminars.org/talk/MATRIXSMRI-GeoFlows/13/
END:VEVENT
BEGIN:VEVENT
SUMMARY:Andrews
DTSTART:20220109T220000Z
DTEND:20220109T230000Z
DTSTAMP:20260422T212900Z
UID:MATRIXSMRI-GeoFlows/14
DESCRIPTION:by Andrews as part of MATRIX-SMRI Symposium: Singularities in 
 Geometric Flows: An Ancient Perspective\n\nAbstract: TBA\n
LOCATION:https://researchseminars.org/talk/MATRIXSMRI-GeoFlows/14/
END:VEVENT
BEGIN:VEVENT
SUMMARY:Schulze
DTSTART:20220110T070000Z
DTEND:20220110T080000Z
DTSTAMP:20260422T212900Z
UID:MATRIXSMRI-GeoFlows/15
DESCRIPTION:by Schulze as part of MATRIX-SMRI Symposium: Singularities in 
 Geometric Flows: An Ancient Perspective\n\nAbstract: TBA\n
LOCATION:https://researchseminars.org/talk/MATRIXSMRI-GeoFlows/15/
END:VEVENT
BEGIN:VEVENT
SUMMARY:Nataša Šešum
DTSTART:20220110T210000Z
DTEND:20220110T220000Z
DTSTAMP:20260422T212900Z
UID:MATRIXSMRI-GeoFlows/16
DESCRIPTION:by Nataša Šešum as part of MATRIX-SMRI Symposium: Singulari
 ties in Geometric Flows: An Ancient Perspective\n\nAbstract: TBA\n
LOCATION:https://researchseminars.org/talk/MATRIXSMRI-GeoFlows/16/
END:VEVENT
BEGIN:VEVENT
SUMMARY:Theodora Bourni
DTSTART:20220110T220000Z
DTEND:20220110T230000Z
DTSTAMP:20260422T212900Z
UID:MATRIXSMRI-GeoFlows/17
DESCRIPTION:Title: <a href="https://researchseminars.org/talk/MATRIXSMRI-G
 eoFlows/17/">Ancient solutions of mean curvature flow</a>\nby Theodora Bou
 rni as part of MATRIX-SMRI Symposium: Singularities in Geometric Flows: An
  Ancient Perspective\n\n\nAbstract\nAncient solutions\, which are solution
 s that have existed for all times in the past\, are of interest in the stu
 dy of geometric flows as they model singularities of the flows. In this ta
 lk we will present some recent developments concerning convex ancient solu
 tions. The main focus will be discussing a new way of constructing and cla
 ssifying collapsed solutions\, which\, for instance\, can be used to provi
 de new examples of eternal\, non translating\, convex solutions. Moreover\
 , we will present a characterization of entire and non-entire convex ancie
 nt solutions and furthermore provide a new classification result for ancie
 nt solutions of curve shortening flow with free boundary on a circle. This
  is joint work with Mat Langford\, Stephen Lynch and Giuseppe Tinaglia.\n
LOCATION:https://researchseminars.org/talk/MATRIXSMRI-GeoFlows/17/
END:VEVENT
BEGIN:VEVENT
SUMMARY:Nataša Šešum
DTSTART:20220111T210000Z
DTEND:20220111T220000Z
DTSTAMP:20260422T212900Z
UID:MATRIXSMRI-GeoFlows/18
DESCRIPTION:by Nataša Šešum as part of MATRIX-SMRI Symposium: Singulari
 ties in Geometric Flows: An Ancient Perspective\n\nAbstract: TBA\n
LOCATION:https://researchseminars.org/talk/MATRIXSMRI-GeoFlows/18/
END:VEVENT
BEGIN:VEVENT
SUMMARY:Robert Haslhofer
DTSTART:20220111T220000Z
DTEND:20220111T230000Z
DTSTAMP:20260422T212900Z
UID:MATRIXSMRI-GeoFlows/19
DESCRIPTION:Title: <a href="https://researchseminars.org/talk/MATRIXSMRI-G
 eoFlows/19/">Classification of noncollapsed translators in R^4</a>\nby Rob
 ert Haslhofer as part of MATRIX-SMRI Symposium: Singularities in Geometric
  Flows: An Ancient Perspective\n\n\nAbstract\nI will describe our recent c
 lassification of noncollapsed singularity models for the mean curvature fl
 ow of 3-dimensional hypersurfaces. Specifically\, we show that every nonco
 llapsed translating hypersurface in R^4 is either R×2d-bowl\, or a 3d rou
 nd bowl\, or belongs to the one-parameter family of 3d oval bowls construc
 ted by Hoffman-Ilmanen-Martin-White. This is joint work with Choi and Hers
 hkovits.\n
LOCATION:https://researchseminars.org/talk/MATRIXSMRI-GeoFlows/19/
END:VEVENT
BEGIN:VEVENT
SUMMARY:William P.  Minicozzi II
DTSTART:20220112T210000Z
DTEND:20220112T220000Z
DTSTAMP:20260422T212900Z
UID:MATRIXSMRI-GeoFlows/20
DESCRIPTION:by William P.  Minicozzi II as part of MATRIX-SMRI Symposium: 
 Singularities in Geometric Flows: An Ancient Perspective\n\nAbstract: TBA\
 n
LOCATION:https://researchseminars.org/talk/MATRIXSMRI-GeoFlows/20/
END:VEVENT
BEGIN:VEVENT
SUMMARY:Mantoulidis
DTSTART:20220112T220000Z
DTEND:20220112T230000Z
DTSTAMP:20260422T212900Z
UID:MATRIXSMRI-GeoFlows/21
DESCRIPTION:by Mantoulidis as part of MATRIX-SMRI Symposium: Singularities
  in Geometric Flows: An Ancient Perspective\n\nAbstract: TBA\n
LOCATION:https://researchseminars.org/talk/MATRIXSMRI-GeoFlows/21/
END:VEVENT
BEGIN:VEVENT
SUMMARY:William P.  Minicozzi II
DTSTART:20220113T210000Z
DTEND:20220113T220000Z
DTSTAMP:20260422T212900Z
UID:MATRIXSMRI-GeoFlows/22
DESCRIPTION:by William P.  Minicozzi II as part of MATRIX-SMRI Symposium: 
 Singularities in Geometric Flows: An Ancient Perspective\n\nAbstract: TBA\
 n
LOCATION:https://researchseminars.org/talk/MATRIXSMRI-GeoFlows/22/
END:VEVENT
BEGIN:VEVENT
SUMMARY:Nick Edelen
DTSTART:20220113T220000Z
DTEND:20220113T230000Z
DTSTAMP:20260422T212900Z
UID:MATRIXSMRI-GeoFlows/23
DESCRIPTION:Title: <a href="https://researchseminars.org/talk/MATRIXSMRI-G
 eoFlows/23/">Degeneration of 7-dimensional minimal hypersurfaces with boun
 ded index</a>\nby Nick Edelen as part of MATRIX-SMRI Symposium: Singularit
 ies in Geometric Flows: An Ancient Perspective\n\n\nAbstract\nA 7D minimal
  and locally-stable hypersurface will in general have a discrete singular 
 set\, provided it has no singularities modeled on a union of half-planes. 
  We show in this talk that the geometry/topology/singular set of these sur
 faces has uniform control\, in the following sense: if $M_i$ is a sequence
  of 7D minimal hypersurfaces with uniformly bounded index and area\, and d
 iscrete singular set\, then up to a subsequence all the $M_i$ are bi-Lipsc
 hitz equivalent\, and uniform Lipschitz bounds on the maps.  As a conseque
 nce\, we prove the space of $C^2$ embedded minimal hypersurfaces in a fixe
 d $8$-manifold\, having index $\\leq I$\, area $\\leq \\Lambda$\, and disc
 rete singular set\, divides into finitely-many diffeomorphism types.\n
LOCATION:https://researchseminars.org/talk/MATRIXSMRI-GeoFlows/23/
END:VEVENT
BEGIN:VEVENT
SUMMARY:Huy The Nguyen
DTSTART:20220110T080000Z
DTEND:20220110T090000Z
DTSTAMP:20260422T212900Z
UID:MATRIXSMRI-GeoFlows/24
DESCRIPTION:Title: <a href="https://researchseminars.org/talk/MATRIXSMRI-G
 eoFlows/24/">Brakke Regularity for the Allen--Cahn Flow</a>\nby Huy The Ng
 uyen as part of MATRIX-SMRI Symposium: Singularities in Geometric Flows: A
 n Ancient Perspective\n\n\nAbstract\nIn this paper we prove an analogue of
  the Brakke's $\\e$-regularity theorem for the parabolic Allen--Cahn equat
 ion. In particular\, we show uniform $C^{2\,\\alpha}$ regularity for the t
 ransition layers converging to smooth mean curvature flows as $\\e\\righta
 rrow 0$. A corresponding gap theorem for entire eternal solutions of the p
 arabolic Allen--Cahn is also obtained. As an application of the regularity
  theorem\, we give an affirmative answer to a question of Ilmanen that the
 re is no cancellation in BV convergence in the mean convex setting.\n
LOCATION:https://researchseminars.org/talk/MATRIXSMRI-GeoFlows/24/
END:VEVENT
END:VCALENDAR
