BEGIN:VCALENDAR
VERSION:2.0
PRODID:researchseminars.org
CALSCALE:GREGORIAN
X-WR-CALNAME:researchseminars.org
BEGIN:VEVENT
SUMMARY:Adam Skalski (Institute of Mathematics\, Polish Academy of Science
 s)
DTSTART:20200918T190000Z
DTEND:20200918T203000Z
DTSTAMP:20260422T225701Z
UID:MAAM/1
DESCRIPTION:Title: <a href="https://researchseminars.org/talk/MAAM/1/">App
 roximation properties of groups and operator algebras: towards maximal Haa
 gerup subgroups and subalgebras</a>\nby Adam Skalski (Institute of Mathema
 tics\, Polish Academy of Sciences) as part of Mid Atlantic Analysis Meetin
 g (Seminar Series)\n\nAbstract: TBA\n
LOCATION:https://researchseminars.org/talk/MAAM/1/
END:VEVENT
BEGIN:VEVENT
SUMMARY:Kelly Bickel (Bucknell University)
DTSTART:20200925T190000Z
DTEND:20200925T203000Z
DTSTAMP:20260422T225701Z
UID:MAAM/2
DESCRIPTION:Title: <a href="https://researchseminars.org/talk/MAAM/2/">Mat
 rix Monotonicity in the Quasi-Rational Setting</a>\nby Kelly Bickel (Buckn
 ell University) as part of Mid Atlantic Analysis Meeting (Seminar Series)\
 n\nAbstract: TBA\n
LOCATION:https://researchseminars.org/talk/MAAM/2/
END:VEVENT
BEGIN:VEVENT
SUMMARY:Alan Chang (Princeton University)
DTSTART:20201002T190000Z
DTEND:20201002T203000Z
DTSTAMP:20260422T225701Z
UID:MAAM/3
DESCRIPTION:Title: <a href="https://researchseminars.org/talk/MAAM/3/">Ana
 lytic capacity and projections</a>\nby Alan Chang (Princeton University) a
 s part of Mid Atlantic Analysis Meeting (Seminar Series)\n\nAbstract: TBA\
 n
LOCATION:https://researchseminars.org/talk/MAAM/3/
END:VEVENT
BEGIN:VEVENT
SUMMARY:David Beltran (University of Wisconsin-Madison)
DTSTART:20201009T190000Z
DTEND:20201009T203000Z
DTSTAMP:20260422T225701Z
UID:MAAM/4
DESCRIPTION:Title: <a href="https://researchseminars.org/talk/MAAM/4/">Var
 iation bounds for spherical averages</a>\nby David Beltran (University of 
 Wisconsin-Madison) as part of Mid Atlantic Analysis Meeting (Seminar Serie
 s)\n\nAbstract: TBA\n
LOCATION:https://researchseminars.org/talk/MAAM/4/
END:VEVENT
BEGIN:VEVENT
SUMMARY:Theresa Anderson (Purdue University)
DTSTART:20201023T190000Z
DTEND:20201023T203000Z
DTSTAMP:20260422T225701Z
UID:MAAM/5
DESCRIPTION:Title: <a href="https://researchseminars.org/talk/MAAM/5/">Dya
 dic analysis meets number theory</a>\nby Theresa Anderson (Purdue Universi
 ty) as part of Mid Atlantic Analysis Meeting (Seminar Series)\n\nAbstract:
  TBA\n
LOCATION:https://researchseminars.org/talk/MAAM/5/
END:VEVENT
BEGIN:VEVENT
SUMMARY:Kornélia Héra (University of Chicago)
DTSTART:20201030T200000Z
DTEND:20201030T210000Z
DTSTAMP:20260422T225701Z
UID:MAAM/6
DESCRIPTION:Title: <a href="https://researchseminars.org/talk/MAAM/6/">Hau
 sdorff dimension of Furstenberg-type sets</a>\nby Kornélia Héra (Univers
 ity of Chicago) as part of Mid Atlantic Analysis Meeting (Seminar Series)\
 n\nAbstract: TBA\n
LOCATION:https://researchseminars.org/talk/MAAM/6/
END:VEVENT
BEGIN:VEVENT
SUMMARY:Polona Durcik (Chapman University)
DTSTART:20201113T200000Z
DTEND:20201113T213000Z
DTSTAMP:20260422T225701Z
UID:MAAM/7
DESCRIPTION:Title: <a href="https://researchseminars.org/talk/MAAM/7/">A t
 riangular Hilbert transform with curvature</a>\nby Polona Durcik (Chapman 
 University) as part of Mid Atlantic Analysis Meeting (Seminar Series)\n\nA
 bstract: TBA\n
LOCATION:https://researchseminars.org/talk/MAAM/7/
END:VEVENT
BEGIN:VEVENT
SUMMARY:Alex Barron (University of Illinois Urbana-Champaign)
DTSTART:20201120T200000Z
DTEND:20201120T213000Z
DTSTAMP:20260422T225701Z
UID:MAAM/8
DESCRIPTION:Title: <a href="https://researchseminars.org/talk/MAAM/8/">A s
 harp global Strichartz estimate for the Schrodinger equation on the cylind
 er</a>\nby Alex Barron (University of Illinois Urbana-Champaign) as part o
 f Mid Atlantic Analysis Meeting (Seminar Series)\n\nAbstract: TBA\n
LOCATION:https://researchseminars.org/talk/MAAM/8/
END:VEVENT
BEGIN:VEVENT
SUMMARY:Kyle Hambrook (San Jose State University)
DTSTART:20201106T200000Z
DTEND:20201106T213000Z
DTSTAMP:20260422T225701Z
UID:MAAM/9
DESCRIPTION:Title: <a href="https://researchseminars.org/talk/MAAM/9/">Exp
 licit Salem sets of arbitrary dimension in Euclidean space</a>\nby Kyle Ha
 mbrook (San Jose State University) as part of Mid Atlantic Analysis Meetin
 g (Seminar Series)\n\nAbstract: TBA\n
LOCATION:https://researchseminars.org/talk/MAAM/9/
END:VEVENT
BEGIN:VEVENT
SUMMARY:Bruno Poggi (University of Minnesota)
DTSTART:20201204T203000Z
DTEND:20201204T210000Z
DTSTAMP:20260422T225701Z
UID:MAAM/10
DESCRIPTION:Title: <a href="https://researchseminars.org/talk/MAAM/10/">Th
 eory of $A_{\\infty}$ weights for elliptic measures and generalized Carles
 on perturbations for elliptic operators</a>\nby Bruno Poggi (University of
  Minnesota) as part of Mid Atlantic Analysis Meeting (Seminar Series)\n\nA
 bstract: TBA\n
LOCATION:https://researchseminars.org/talk/MAAM/10/
END:VEVENT
BEGIN:VEVENT
SUMMARY:Kan Jiang (Ningbo University)
DTSTART:20201204T210000Z
DTEND:20201204T220000Z
DTSTAMP:20260422T225701Z
UID:MAAM/11
DESCRIPTION:Title: <a href="https://researchseminars.org/talk/MAAM/11/">So
 me thickness theorems and their applications</a>\nby Kan Jiang (Ningbo Uni
 versity) as part of Mid Atlantic Analysis Meeting (Seminar Series)\n\nAbst
 ract: TBA\n
LOCATION:https://researchseminars.org/talk/MAAM/11/
END:VEVENT
BEGIN:VEVENT
SUMMARY:Tyler Bongers (Harvard University)
DTSTART:20201211T200000Z
DTEND:20201211T213000Z
DTSTAMP:20260422T225701Z
UID:MAAM/12
DESCRIPTION:Title: <a href="https://researchseminars.org/talk/MAAM/12/">En
 ergy techniques for nonlinear projections and Favard curve lengths</a>\nby
  Tyler Bongers (Harvard University) as part of Mid Atlantic Analysis Meeti
 ng (Seminar Series)\n\nAbstract: TBA\n
LOCATION:https://researchseminars.org/talk/MAAM/12/
END:VEVENT
END:VCALENDAR
