BEGIN:VCALENDAR
VERSION:2.0
PRODID:researchseminars.org
CALSCALE:GREGORIAN
X-WR-CALNAME:researchseminars.org
BEGIN:VEVENT
SUMMARY:Sylvia Serfaty
DTSTART:20211102T130000Z
DTEND:20211102T140000Z
DTSTAMP:20260422T225719Z
UID:LyonlineMACS/1
DESCRIPTION:Title: <a href="https://researchseminars.org/talk/LyonlineMACS
 /1/">Limites de champ moyen pour des flots singuliers</a>\nby Sylvia Serfa
 ty as part of Lyonline Modeling\, Analysis\, and Computing Seminar\n\nAbst
 ract: TBA\n
LOCATION:https://researchseminars.org/talk/LyonlineMACS/1/
END:VEVENT
BEGIN:VEVENT
SUMMARY:Camillo De Lellis
DTSTART:20220215T140000Z
DTEND:20220215T150000Z
DTSTAMP:20260422T225719Z
UID:LyonlineMACS/2
DESCRIPTION:Title: <a href="https://researchseminars.org/talk/LyonlineMACS
 /2/">Instability and nonuniqueness for the 2d Euler equations in vorticity
  form\, after M. Vishik</a>\nby Camillo De Lellis as part of Lyonline Mode
 ling\, Analysis\, and Computing Seminar\n\nAbstract: TBA\n
LOCATION:https://researchseminars.org/talk/LyonlineMACS/2/
END:VEVENT
END:VCALENDAR
