BEGIN:VCALENDAR
VERSION:2.0
PRODID:researchseminars.org
CALSCALE:GREGORIAN
X-WR-CALNAME:researchseminars.org
BEGIN:VEVENT
SUMMARY:Pierre Youssef
DTSTART:20210525T100000Z
DTEND:20210525T104500Z
DTSTAMP:20260421T083736Z
UID:LPD/1
DESCRIPTION:by Pierre Youssef as part of Lancaster Probability Days 2021\n
 \nAbstract: TBA\n
LOCATION:https://researchseminars.org/talk/LPD/1/
END:VEVENT
BEGIN:VEVENT
SUMMARY:Camille Male
DTSTART:20210525T130000Z
DTEND:20210525T134500Z
DTSTAMP:20260421T083736Z
UID:LPD/2
DESCRIPTION:by Camille Male as part of Lancaster Probability Days 2021\n\n
 Abstract: TBA\n
LOCATION:https://researchseminars.org/talk/LPD/2/
END:VEVENT
BEGIN:VEVENT
SUMMARY:Ioana Dumitriu
DTSTART:20210525T140000Z
DTEND:20210525T144500Z
DTSTAMP:20260421T083736Z
UID:LPD/3
DESCRIPTION:by Ioana Dumitriu as part of Lancaster Probability Days 2021\n
 \nAbstract: TBA\n
LOCATION:https://researchseminars.org/talk/LPD/3/
END:VEVENT
BEGIN:VEVENT
SUMMARY:Alessandra Occelli
DTSTART:20210526T100000Z
DTEND:20210526T104500Z
DTSTAMP:20260421T083736Z
UID:LPD/4
DESCRIPTION:by Alessandra Occelli as part of Lancaster Probability Days 20
 21\n\nAbstract: TBA\n
LOCATION:https://researchseminars.org/talk/LPD/4/
END:VEVENT
BEGIN:VEVENT
SUMMARY:Fredrik Vilkund
DTSTART:20210526T090000Z
DTEND:20210526T094500Z
DTSTAMP:20260421T083736Z
UID:LPD/5
DESCRIPTION:by Fredrik Vilkund as part of Lancaster Probability Days 2021\
 n\nAbstract: TBA\n
LOCATION:https://researchseminars.org/talk/LPD/5/
END:VEVENT
BEGIN:VEVENT
SUMMARY:Alperen Ozdemir
DTSTART:20210526T130000Z
DTEND:20210526T134500Z
DTSTAMP:20260421T083736Z
UID:LPD/6
DESCRIPTION:by Alperen Ozdemir as part of Lancaster Probability Days 2021\
 n\nAbstract: TBA\n
LOCATION:https://researchseminars.org/talk/LPD/6/
END:VEVENT
BEGIN:VEVENT
SUMMARY:Jeremy Quastel
DTSTART:20210526T140000Z
DTEND:20210526T144500Z
DTSTAMP:20260421T083736Z
UID:LPD/7
DESCRIPTION:by Jeremy Quastel as part of Lancaster Probability Days 2021\n
 \nAbstract: TBA\n
LOCATION:https://researchseminars.org/talk/LPD/7/
END:VEVENT
BEGIN:VEVENT
SUMMARY:Maximilien Gadouleau
DTSTART:20210527T100000Z
DTEND:20210527T104500Z
DTSTAMP:20260421T083736Z
UID:LPD/8
DESCRIPTION:by Maximilien Gadouleau as part of Lancaster Probability Days 
 2021\n\nAbstract: TBA\n
LOCATION:https://researchseminars.org/talk/LPD/8/
END:VEVENT
BEGIN:VEVENT
SUMMARY:Ralf Müller
DTSTART:20210527T130000Z
DTEND:20210527T134500Z
DTSTAMP:20260421T083736Z
UID:LPD/9
DESCRIPTION:by Ralf Müller as part of Lancaster Probability Days 2021\n\n
 Abstract: TBA\n
LOCATION:https://researchseminars.org/talk/LPD/9/
END:VEVENT
BEGIN:VEVENT
SUMMARY:Özlem Tugfe Demir
DTSTART:20210527T140000Z
DTEND:20210527T144500Z
DTSTAMP:20260421T083736Z
UID:LPD/10
DESCRIPTION:by Özlem Tugfe Demir as part of Lancaster Probability Days 20
 21\n\nAbstract: TBA\n
LOCATION:https://researchseminars.org/talk/LPD/10/
END:VEVENT
END:VCALENDAR
