BEGIN:VCALENDAR
VERSION:2.0
PRODID:researchseminars.org
CALSCALE:GREGORIAN
X-WR-CALNAME:researchseminars.org
BEGIN:VEVENT
SUMMARY:Alex Iosevich (University of Rochester New York)
DTSTART:20220224T020000Z
DTEND:20220224T030000Z
DTSTAMP:20260422T225930Z
UID:KTV/1
DESCRIPTION:Title: <a href="https://researchseminars.org/talk/KTV/1/">Poin
 t configurations from a universal standpoint</a>\nby Alex Iosevich (Univer
 sity of Rochester New York) as part of Korea-Taiwan-Vietnam joint seminar 
 in Combinatorics and Analysis\n\nLecture held in ZOOM.\nAbstract: TBA\n
LOCATION:https://researchseminars.org/talk/KTV/1/
END:VEVENT
BEGIN:VEVENT
SUMMARY:Shagnik Das (National Taiwan University)
DTSTART:20220311T020000Z
DTEND:20220311T030000Z
DTSTAMP:20260422T225930Z
UID:KTV/2
DESCRIPTION:Title: <a href="https://researchseminars.org/talk/KTV/2/">Schu
 r's Theorem for randomly perturbed sets</a>\nby Shagnik Das (National Taiw
 an University) as part of Korea-Taiwan-Vietnam joint seminar in Combinator
 ics and Analysis\n\nLecture held in ZOOM.\nAbstract: TBA\n
LOCATION:https://researchseminars.org/talk/KTV/2/
END:VEVENT
BEGIN:VEVENT
SUMMARY:Eyvindur Ari Palsson (Virginia Tech\, USA)
DTSTART:20220324T020000Z
DTEND:20220324T030000Z
DTSTAMP:20260422T225930Z
UID:KTV/3
DESCRIPTION:Title: <a href="https://researchseminars.org/talk/KTV/3/">Tria
 ngles and triangle averaging operators</a>\nby Eyvindur Ari Palsson (Virgi
 nia Tech\, USA) as part of Korea-Taiwan-Vietnam joint seminar in Combinato
 rics and Analysis\n\nLecture held in ZOOM.\nAbstract: TBA\n
LOCATION:https://researchseminars.org/talk/KTV/3/
END:VEVENT
BEGIN:VEVENT
SUMMARY:Ali Mohammadi (IPM)
DTSTART:20220408T073000Z
DTEND:20220408T083000Z
DTSTAMP:20260422T225930Z
UID:KTV/4
DESCRIPTION:Title: <a href="https://researchseminars.org/talk/KTV/4/">Ener
 gy estimates over finite fields and applications</a>\nby Ali Mohammadi (IP
 M) as part of Korea-Taiwan-Vietnam joint seminar in Combinatorics and Anal
 ysis\n\nLecture held in ZOOM.\nAbstract: TBA\n
LOCATION:https://researchseminars.org/talk/KTV/4/
END:VEVENT
BEGIN:VEVENT
SUMMARY:Tuan Tran (IBS\, Korea)
DTSTART:20220422T020000Z
DTEND:20220422T030000Z
DTSTAMP:20260422T225930Z
UID:KTV/5
DESCRIPTION:Title: <a href="https://researchseminars.org/talk/KTV/5/">Expo
 nential decay of intersection volume and applications</a>\nby Tuan Tran (I
 BS\, Korea) as part of Korea-Taiwan-Vietnam joint seminar in Combinatorics
  and Analysis\n\nLecture held in ZOOM.\nAbstract: TBA\n
LOCATION:https://researchseminars.org/talk/KTV/5/
END:VEVENT
BEGIN:VEVENT
SUMMARY:Huy Tuan Pham (Stanford University)
DTSTART:20220504T010000Z
DTEND:20220504T020000Z
DTSTAMP:20260422T225930Z
UID:KTV/6
DESCRIPTION:Title: <a href="https://researchseminars.org/talk/KTV/6/">A pr
 oof of the Kahn-Kalai conjecture</a>\nby Huy Tuan Pham (Stanford Universit
 y) as part of Korea-Taiwan-Vietnam joint seminar in Combinatorics and Anal
 ysis\n\nLecture held in ZOOM.\nAbstract: TBA\n
LOCATION:https://researchseminars.org/talk/KTV/6/
END:VEVENT
BEGIN:VEVENT
SUMMARY:Changkeun Oh (University of Wisconsin-Madison)
DTSTART:20220511T020000Z
DTEND:20220511T030000Z
DTSTAMP:20260422T225930Z
UID:KTV/7
DESCRIPTION:Title: <a href="https://researchseminars.org/talk/KTV/7/">Deco
 upling inequalities for quadratic forms</a>\nby Changkeun Oh (University o
 f Wisconsin-Madison) as part of Korea-Taiwan-Vietnam joint seminar in Comb
 inatorics and Analysis\n\nLecture held in ZOOM.\nAbstract: TBA\n
LOCATION:https://researchseminars.org/talk/KTV/7/
END:VEVENT
BEGIN:VEVENT
SUMMARY:Sang-il Oum (IBS Discrete Mathematics Group & KAIST)
DTSTART:20220531T020000Z
DTEND:20220531T030000Z
DTSTAMP:20260422T225930Z
UID:KTV/8
DESCRIPTION:Title: <a href="https://researchseminars.org/talk/KTV/8/">Buil
 ding the hierarchy of graph classes</a>\nby Sang-il Oum (IBS Discrete Math
 ematics Group & KAIST) as part of Korea-Taiwan-Vietnam joint seminar in Co
 mbinatorics and Analysis\n\nLecture held in ZOOM.\nAbstract: TBA\n
LOCATION:https://researchseminars.org/talk/KTV/8/
END:VEVENT
BEGIN:VEVENT
SUMMARY:Khanh Nguyen Duc (State University of New York at Albany)
DTSTART:20220614T020000Z
DTEND:20220614T030000Z
DTSTAMP:20260422T225930Z
UID:KTV/9
DESCRIPTION:Title: <a href="https://researchseminars.org/talk/KTV/9/">A Mu
 rnaghan-Nakayama rule for Grothendieck polynomials of Grassmannian type</a
 >\nby Khanh Nguyen Duc (State University of New York at Albany) as part of
  Korea-Taiwan-Vietnam joint seminar in Combinatorics and Analysis\n\nLectu
 re held in ZOOM.\nAbstract: TBA\n
LOCATION:https://researchseminars.org/talk/KTV/9/
END:VEVENT
BEGIN:VEVENT
SUMMARY:Oliver Roche-Newton (Johannes Kepler Universität in Linz\, Austri
 a)
DTSTART:20220909T070000Z
DTEND:20220909T080000Z
DTSTAMP:20260422T225930Z
UID:KTV/10
DESCRIPTION:Title: <a href="https://researchseminars.org/talk/KTV/10/">Cou
 nting arcs in F_q^2</a>\nby Oliver Roche-Newton (Johannes Kepler Universit
 ät in Linz\, Austria) as part of Korea-Taiwan-Vietnam joint seminar in Co
 mbinatorics and Analysis\n\nLecture held in ZOOM.\nAbstract: TBA\n
LOCATION:https://researchseminars.org/talk/KTV/10/
END:VEVENT
BEGIN:VEVENT
SUMMARY:Andreas Holmsen (Korea Advanced Institute of Science & Technology)
DTSTART:20220916T010000Z
DTEND:20220916T020000Z
DTSTAMP:20260422T225930Z
UID:KTV/11
DESCRIPTION:Title: <a href="https://researchseminars.org/talk/KTV/11/">Som
 e recent results on geometric transversals</a>\nby Andreas Holmsen (Korea 
 Advanced Institute of Science & Technology) as part of Korea-Taiwan-Vietna
 m joint seminar in Combinatorics and Analysis\n\nLecture held in ZOOM.\nAb
 stract: TBA\n
LOCATION:https://researchseminars.org/talk/KTV/11/
END:VEVENT
BEGIN:VEVENT
SUMMARY:Shakhar Smorodinsky (Ben-Gurion University)
DTSTART:20221014T070000Z
DTEND:20221014T080000Z
DTSTAMP:20260422T225930Z
UID:KTV/12
DESCRIPTION:Title: <a href="https://researchseminars.org/talk/KTV/12/">A S
 olution to Ringel’s Circle Problem (1959)</a>\nby Shakhar Smorodinsky (B
 en-Gurion University) as part of Korea-Taiwan-Vietnam joint seminar in Com
 binatorics and Analysis\n\nLecture held in ZOOM.\nAbstract: TBA\n
LOCATION:https://researchseminars.org/talk/KTV/12/
END:VEVENT
BEGIN:VEVENT
SUMMARY:Semin Yoo (KIAS)
DTSTART:20221028T020000Z
DTEND:20221028T040000Z
DTSTAMP:20260422T225930Z
UID:KTV/13
DESCRIPTION:Title: <a href="https://researchseminars.org/talk/KTV/13/">Wea
 k Bruhat interval modules of the $0$-Hecke algebras for genomic Schur func
 tions</a>\nby Semin Yoo (KIAS) as part of Korea-Taiwan-Vietnam joint semin
 ar in Combinatorics and Analysis\n\nLecture held in ZOOM.\nAbstract: TBA\n
LOCATION:https://researchseminars.org/talk/KTV/13/
END:VEVENT
BEGIN:VEVENT
SUMMARY:Chamsol Park (Johns Hopkins University)
DTSTART:20221111T020000Z
DTEND:20221111T040000Z
DTSTAMP:20260422T225930Z
UID:KTV/14
DESCRIPTION:Title: <a href="https://researchseminars.org/talk/KTV/14/">Res
 triction of the Laplace-Beltrami and Schrodinger operator on compact manif
 olds</a>\nby Chamsol Park (Johns Hopkins University) as part of Korea-Taiw
 an-Vietnam joint seminar in Combinatorics and Analysis\n\nLecture held in 
 ZOOM.\nAbstract: TBA\n
LOCATION:https://researchseminars.org/talk/KTV/14/
END:VEVENT
BEGIN:VEVENT
SUMMARY:Tung T. Nguyen (Western University\, Canada)
DTSTART:20221125T020000Z
DTEND:20221125T040000Z
DTSTAMP:20260422T225930Z
UID:KTV/15
DESCRIPTION:Title: <a href="https://researchseminars.org/talk/KTV/15/">On 
 the Paley graph of a quadratic character</a>\nby Tung T. Nguyen (Western U
 niversity\, Canada) as part of Korea-Taiwan-Vietnam joint seminar in Combi
 natorics and Analysis\n\nLecture held in ZOOM.\nAbstract: TBA\n
LOCATION:https://researchseminars.org/talk/KTV/15/
END:VEVENT
BEGIN:VEVENT
SUMMARY:Pálvölgyi Dömötör (ELTE\, Hungary)
DTSTART:20221202T070000Z
DTEND:20221202T090000Z
DTSTAMP:20260422T225930Z
UID:KTV/16
DESCRIPTION:Title: <a href="https://researchseminars.org/talk/KTV/16/">Hyp
 erposets from planar orientations</a>\nby Pálvölgyi Dömötör (ELTE\, H
 ungary) as part of Korea-Taiwan-Vietnam joint seminar in Combinatorics and
  Analysis\n\nLecture held in ZOOM.\nAbstract: TBA\n
LOCATION:https://researchseminars.org/talk/KTV/16/
END:VEVENT
BEGIN:VEVENT
SUMMARY:Joonkyung Lee (Hanyang University)
DTSTART:20221216T070000Z
DTEND:20221216T090000Z
DTSTAMP:20260422T225930Z
UID:KTV/17
DESCRIPTION:Title: <a href="https://researchseminars.org/talk/KTV/17/">Ext
 ended commonality of paths and cycles via Schur convexity</a>\nby Joonkyun
 g Lee (Hanyang University) as part of Korea-Taiwan-Vietnam joint seminar i
 n Combinatorics and Analysis\n\nLecture held in ZOOM.\nAbstract: TBA\n
LOCATION:https://researchseminars.org/talk/KTV/17/
END:VEVENT
BEGIN:VEVENT
SUMMARY:Chun-Hung Liu (Texas A&M University\, USA)
DTSTART:20230217T020000Z
DTEND:20230217T040000Z
DTSTAMP:20260422T225930Z
UID:KTV/18
DESCRIPTION:Title: <a href="https://researchseminars.org/talk/KTV/18/">Hom
 omorphism counts in robustly sparse graphs</a>\nby Chun-Hung Liu (Texas A&
 M University\, USA) as part of Korea-Taiwan-Vietnam joint seminar in Combi
 natorics and Analysis\n\nLecture held in ZOOM.\nAbstract: TBA\n
LOCATION:https://researchseminars.org/talk/KTV/18/
END:VEVENT
BEGIN:VEVENT
SUMMARY:Dabeen Lee (Korea Advanced Institute of Science & Technology\, Kor
 ea)
DTSTART:20230303T070000Z
DTEND:20230303T090000Z
DTSTAMP:20260422T225930Z
UID:KTV/19
DESCRIPTION:Title: <a href="https://researchseminars.org/talk/KTV/19/">Non
 -smooth\, Holder-smooth\, and Robust Submodular Maximization.</a>\nby Dabe
 en Lee (Korea Advanced Institute of Science & Technology\, Korea) as part 
 of Korea-Taiwan-Vietnam joint seminar in Combinatorics and Analysis\n\nLec
 ture held in ZOOM.\nAbstract: TBA\n
LOCATION:https://researchseminars.org/talk/KTV/19/
END:VEVENT
BEGIN:VEVENT
SUMMARY:Jaehoon Kim (Korea Advanced Institute of Science and Technology)
DTSTART:20230317T070000Z
DTEND:20230317T090000Z
DTSTAMP:20260422T225930Z
UID:KTV/20
DESCRIPTION:Title: <a href="https://researchseminars.org/talk/KTV/20/">A b
 andwidth theorem for graph transversals</a>\nby Jaehoon Kim (Korea Advance
 d Institute of Science and Technology) as part of Korea-Taiwan-Vietnam joi
 nt seminar in Combinatorics and Analysis\n\nLecture held in ZOOM.\nAbstrac
 t: TBA\n
LOCATION:https://researchseminars.org/talk/KTV/20/
END:VEVENT
BEGIN:VEVENT
SUMMARY:Van Khu Vu (National University Singapore)
DTSTART:20230331T020000Z
DTEND:20230331T040000Z
DTSTAMP:20260422T225930Z
UID:KTV/21
DESCRIPTION:Title: <a href="https://researchseminars.org/talk/KTV/21/">Loc
 ally-constrained de Bruijn codes and their applications</a>\nby Van Khu Vu
  (National University Singapore) as part of Korea-Taiwan-Vietnam joint sem
 inar in Combinatorics and Analysis\n\nLecture held in ZOOM.\nAbstract: TBA
 \n
LOCATION:https://researchseminars.org/talk/KTV/21/
END:VEVENT
BEGIN:VEVENT
SUMMARY:Minki Kim (Gwangju Institute of Science and Technology\, Korea)
DTSTART:20230421T020000Z
DTEND:20230421T040000Z
DTSTAMP:20260422T225930Z
UID:KTV/22
DESCRIPTION:Title: <a href="https://researchseminars.org/talk/KTV/22/">Str
 ong Erd\\H{o}s-Hajnal properties in chordal graphs</a>\nby Minki Kim (Gwan
 gju Institute of Science and Technology\, Korea) as part of Korea-Taiwan-V
 ietnam joint seminar in Combinatorics and Analysis\n\nLecture held in ZOOM
 .\nAbstract: TBA\n
LOCATION:https://researchseminars.org/talk/KTV/22/
END:VEVENT
END:VCALENDAR
