BEGIN:VCALENDAR
VERSION:2.0
PRODID:researchseminars.org
CALSCALE:GREGORIAN
X-WR-CALNAME:researchseminars.org
BEGIN:VEVENT
SUMMARY:Gérard Laumon
DTSTART:20210607T070000Z
DTEND:20210607T080000Z
DTSTAMP:20260422T213052Z
UID:Illusie/1
DESCRIPTION:Title: <a href="https://researchseminars.org/talk/Illusie/1/">
 On the derived Lusztig correspondence</a>\nby Gérard Laumon as part of Co
 nference on Arithmetic Geometry in honor of Luc Illusie\n\nAbstract: TBA\n
LOCATION:https://researchseminars.org/talk/Illusie/1/
END:VEVENT
BEGIN:VEVENT
SUMMARY:Cong Xue
DTSTART:20210607T081500Z
DTEND:20210607T091500Z
DTSTAMP:20260422T213052Z
UID:Illusie/2
DESCRIPTION:Title: <a href="https://researchseminars.org/talk/Illusie/2/">
 Cohomology of stacks of shtukas</a>\nby Cong Xue as part of Conference on 
 Arithmetic Geometry in honor of Luc Illusie\n\nAbstract: TBA\n
LOCATION:https://researchseminars.org/talk/Illusie/2/
END:VEVENT
BEGIN:VEVENT
SUMMARY:Kęstutis Česnavičius
DTSTART:20210607T093000Z
DTEND:20210607T103000Z
DTSTAMP:20260422T213052Z
UID:Illusie/3
DESCRIPTION:Title: <a href="https://researchseminars.org/talk/Illusie/3/">
 Grothendieck–Serre in the quasi-split unramified case</a>\nby Kęstutis 
 Česnavičius as part of Conference on Arithmetic Geometry in honor of Luc
  Illusie\n\nAbstract: TBA\n
LOCATION:https://researchseminars.org/talk/Illusie/3/
END:VEVENT
BEGIN:VEVENT
SUMMARY:Arthur Ogus
DTSTART:20210607T140000Z
DTEND:20210607T150000Z
DTSTAMP:20260422T213052Z
UID:Illusie/4
DESCRIPTION:Title: <a href="https://researchseminars.org/talk/Illusie/4/">
 Prisms\, prismatic neighborhoods\, and p-de Rham cohomology</a>\nby Arthur
  Ogus as part of Conference on Arithmetic Geometry in honor of Luc Illusie
 \n\nAbstract: TBA\n
LOCATION:https://researchseminars.org/talk/Illusie/4/
END:VEVENT
BEGIN:VEVENT
SUMMARY:Kazuya Kato
DTSTART:20210607T151500Z
DTEND:20210607T161500Z
DTSTAMP:20260422T213052Z
UID:Illusie/5
DESCRIPTION:Title: <a href="https://researchseminars.org/talk/Illusie/5/">
 Logarithmic abelian varieties</a>\nby Kazuya Kato as part of Conference on
  Arithmetic Geometry in honor of Luc Illusie\n\nAbstract: TBA\n
LOCATION:https://researchseminars.org/talk/Illusie/5/
END:VEVENT
BEGIN:VEVENT
SUMMARY:Takeshi Saito
DTSTART:20210608T070000Z
DTEND:20210608T080000Z
DTSTAMP:20260422T213052Z
UID:Illusie/6
DESCRIPTION:Title: <a href="https://researchseminars.org/talk/Illusie/6/">
 Micro support of a constructible sheaf in mixed characteristic</a>\nby Tak
 eshi Saito as part of Conference on Arithmetic Geometry in honor of Luc Il
 lusie\n\nAbstract: TBA\n
LOCATION:https://researchseminars.org/talk/Illusie/6/
END:VEVENT
BEGIN:VEVENT
SUMMARY:Michael Temkin
DTSTART:20210608T081500Z
DTEND:20210608T091500Z
DTSTAMP:20260422T213052Z
UID:Illusie/7
DESCRIPTION:Title: <a href="https://researchseminars.org/talk/Illusie/7/">
 Logarithmic geometry and resolution of singularities</a>\nby Michael Temki
 n as part of Conference on Arithmetic Geometry in honor of Luc Illusie\n\n
 Abstract: TBA\n
LOCATION:https://researchseminars.org/talk/Illusie/7/
END:VEVENT
BEGIN:VEVENT
SUMMARY:Hélène Esnault
DTSTART:20210608T093000Z
DTEND:20210608T103000Z
DTSTAMP:20260422T213052Z
UID:Illusie/8
DESCRIPTION:Title: <a href="https://researchseminars.org/talk/Illusie/8/">
 Motivic connections over a finite field</a>\nby Hélène Esnault as part o
 f Conference on Arithmetic Geometry in honor of Luc Illusie\n\nAbstract: T
 BA\n
LOCATION:https://researchseminars.org/talk/Illusie/8/
END:VEVENT
BEGIN:VEVENT
SUMMARY:Nicholas Katz
DTSTART:20210608T140000Z
DTEND:20210608T150000Z
DTSTAMP:20260422T213052Z
UID:Illusie/9
DESCRIPTION:Title: <a href="https://researchseminars.org/talk/Illusie/9/">
 Exponential sums and finite groups</a>\nby Nicholas Katz as part of Confer
 ence on Arithmetic Geometry in honor of Luc Illusie\n\nAbstract: TBA\n
LOCATION:https://researchseminars.org/talk/Illusie/9/
END:VEVENT
BEGIN:VEVENT
SUMMARY:Martin Olsson
DTSTART:20210608T151500Z
DTEND:20210608T161500Z
DTSTAMP:20260422T213052Z
UID:Illusie/10
DESCRIPTION:Title: <a href="https://researchseminars.org/talk/Illusie/10/"
 >Representability results for flat cohomology</a>\nby Martin Olsson as par
 t of Conference on Arithmetic Geometry in honor of Luc Illusie\n\nAbstract
 : TBA\n
LOCATION:https://researchseminars.org/talk/Illusie/10/
END:VEVENT
BEGIN:VEVENT
SUMMARY:Yichao Tian
DTSTART:20210609T070000Z
DTEND:20210609T080000Z
DTSTAMP:20260422T213052Z
UID:Illusie/11
DESCRIPTION:Title: <a href="https://researchseminars.org/talk/Illusie/11/"
 >Cohomology of prismatic crystals</a>\nby Yichao Tian as part of Conferenc
 e on Arithmetic Geometry in honor of Luc Illusie\n\nAbstract: TBA\n
LOCATION:https://researchseminars.org/talk/Illusie/11/
END:VEVENT
BEGIN:VEVENT
SUMMARY:Yunqing Tang
DTSTART:20210609T081500Z
DTEND:20210609T091500Z
DTSTAMP:20260422T213052Z
UID:Illusie/12
DESCRIPTION:Title: <a href="https://researchseminars.org/talk/Illusie/12/"
 >Basic reductions of abelian varieties</a>\nby Yunqing Tang as part of Con
 ference on Arithmetic Geometry in honor of Luc Illusie\n\nAbstract: TBA\n
LOCATION:https://researchseminars.org/talk/Illusie/12/
END:VEVENT
BEGIN:VEVENT
SUMMARY:Sophie Morel
DTSTART:20210609T093000Z
DTEND:20210609T103000Z
DTSTAMP:20260422T213052Z
UID:Illusie/13
DESCRIPTION:Title: <a href="https://researchseminars.org/talk/Illusie/13/"
 >Intersection cohomology of Shimura varieties and pizza</a>\nby Sophie Mor
 el as part of Conference on Arithmetic Geometry in honor of Luc Illusie\n\
 nAbstract: TBA\n
LOCATION:https://researchseminars.org/talk/Illusie/13/
END:VEVENT
BEGIN:VEVENT
SUMMARY:Alexander Beilinson
DTSTART:20210609T140000Z
DTEND:20210609T150000Z
DTSTAMP:20260422T213052Z
UID:Illusie/14
DESCRIPTION:Title: <a href="https://researchseminars.org/talk/Illusie/14/"
 >Height pairing and vanishing cycles</a>\nby Alexander Beilinson as part o
 f Conference on Arithmetic Geometry in honor of Luc Illusie\n\nAbstract: T
 BA\n
LOCATION:https://researchseminars.org/talk/Illusie/14/
END:VEVENT
BEGIN:VEVENT
SUMMARY:Vladimir Berkovich
DTSTART:20210610T070000Z
DTEND:20210610T080000Z
DTSTAMP:20260422T213052Z
UID:Illusie/15
DESCRIPTION:Title: <a href="https://researchseminars.org/talk/Illusie/15/"
 >Hodge theory for non-Archimedean analytic spaces</a>\nby Vladimir Berkovi
 ch as part of Conference on Arithmetic Geometry in honor of Luc Illusie\n\
 nAbstract: TBA\n
LOCATION:https://researchseminars.org/talk/Illusie/15/
END:VEVENT
BEGIN:VEVENT
SUMMARY:Miaofen Chen
DTSTART:20210610T081500Z
DTEND:20210610T091500Z
DTSTAMP:20260422T213052Z
UID:Illusie/16
DESCRIPTION:Title: <a href="https://researchseminars.org/talk/Illusie/16/"
 >Newton stratification and weakly admissible locus in p-adic Hodge theory<
 /a>\nby Miaofen Chen as part of Conference on Arithmetic Geometry in honor
  of Luc Illusie\n\nAbstract: TBA\n
LOCATION:https://researchseminars.org/talk/Illusie/16/
END:VEVENT
BEGIN:VEVENT
SUMMARY:Yongquan Hu
DTSTART:20210610T093000Z
DTEND:20210610T103000Z
DTSTAMP:20260422T213052Z
UID:Illusie/17
DESCRIPTION:Title: <a href="https://researchseminars.org/talk/Illusie/17/"
 >On a generalization of Colmez’s functor</a>\nby Yongquan Hu as part of 
 Conference on Arithmetic Geometry in honor of Luc Illusie\n\nAbstract: TBA
 \n
LOCATION:https://researchseminars.org/talk/Illusie/17/
END:VEVENT
BEGIN:VEVENT
SUMMARY:Bhargav Bhatt
DTSTART:20210610T140000Z
DTEND:20210610T150000Z
DTSTAMP:20260422T213052Z
UID:Illusie/18
DESCRIPTION:Title: <a href="https://researchseminars.org/talk/Illusie/18/"
 >The absolute prismatic site</a>\nby Bhargav Bhatt as part of Conference o
 n Arithmetic Geometry in honor of Luc Illusie\n\nAbstract: TBA\n
LOCATION:https://researchseminars.org/talk/Illusie/18/
END:VEVENT
BEGIN:VEVENT
SUMMARY:Akhil Mathew
DTSTART:20210610T151500Z
DTEND:20210610T161500Z
DTSTAMP:20260422T213052Z
UID:Illusie/19
DESCRIPTION:Title: <a href="https://researchseminars.org/talk/Illusie/19/"
 >Remarks on p-adic logarithmic cohomology theories</a>\nby Akhil Mathew as
  part of Conference on Arithmetic Geometry in honor of Luc Illusie\n\nAbst
 ract: TBA\n
LOCATION:https://researchseminars.org/talk/Illusie/19/
END:VEVENT
BEGIN:VEVENT
SUMMARY:Ahmed Abbes
DTSTART:20210611T070000Z
DTEND:20210611T080000Z
DTSTAMP:20260422T213052Z
UID:Illusie/20
DESCRIPTION:Title: <a href="https://researchseminars.org/talk/Illusie/20/"
 >The relative Hodge-Tate spectral sequence</a>\nby Ahmed Abbes as part of 
 Conference on Arithmetic Geometry in honor of Luc Illusie\n\nAbstract: TBA
 \n
LOCATION:https://researchseminars.org/talk/Illusie/20/
END:VEVENT
BEGIN:VEVENT
SUMMARY:Ofer Gabber
DTSTART:20210611T081500Z
DTEND:20210611T091500Z
DTSTAMP:20260422T213052Z
UID:Illusie/21
DESCRIPTION:Title: <a href="https://researchseminars.org/talk/Illusie/21/"
 >Comparison of oriented products and rigid toposes</a>\nby Ofer Gabber as 
 part of Conference on Arithmetic Geometry in honor of Luc Illusie\n\nAbstr
 act: TBA\n
LOCATION:https://researchseminars.org/talk/Illusie/21/
END:VEVENT
BEGIN:VEVENT
SUMMARY:Ngô Bảo Châu
DTSTART:20210611T093000Z
DTEND:20210611T103000Z
DTSTAMP:20260422T213052Z
UID:Illusie/22
DESCRIPTION:Title: <a href="https://researchseminars.org/talk/Illusie/22/"
 >Jet bundles and differential calculus</a>\nby Ngô Bảo Châu as part of
  Conference on Arithmetic Geometry in honor of Luc Illusie\n\nAbstract: TB
 A\n
LOCATION:https://researchseminars.org/talk/Illusie/22/
END:VEVENT
END:VCALENDAR
