BEGIN:VCALENDAR
VERSION:2.0
PRODID:researchseminars.org
CALSCALE:GREGORIAN
X-WR-CALNAME:researchseminars.org
BEGIN:VEVENT
SUMMARY:Gregory Korchemsky
DTSTART:20200824T130000Z
DTEND:20200824T133000Z
DTSTAMP:20260422T212724Z
UID:IGST2020/1
DESCRIPTION:Title: <a href="https://researchseminars.org/talk/IGST2020/1/"
 >Octagons in planar N=4 super Yang-Mills</a>\nby Gregory Korchemsky as par
 t of Integrability in Gauge and String Theory (IGST) 2020\n\nAbstract: TBA
 \n
LOCATION:https://researchseminars.org/talk/IGST2020/1/
END:VEVENT
BEGIN:VEVENT
SUMMARY:Thiago Fleury
DTSTART:20200824T133000Z
DTEND:20200824T140000Z
DTSTAMP:20260422T212724Z
UID:IGST2020/2
DESCRIPTION:Title: <a href="https://researchseminars.org/talk/IGST2020/2/"
 >Higher-Point Functions with Hexagonalization</a>\nby Thiago Fleury as par
 t of Integrability in Gauge and String Theory (IGST) 2020\n\nAbstract: TBA
 \n
LOCATION:https://researchseminars.org/talk/IGST2020/2/
END:VEVENT
BEGIN:VEVENT
SUMMARY:Ivan Kostov
DTSTART:20200824T140000Z
DTEND:20200824T143000Z
DTSTAMP:20260422T212724Z
UID:IGST2020/3
DESCRIPTION:Title: <a href="https://researchseminars.org/talk/IGST2020/3/"
 >Discussion Session on Hexagons</a>\nby Ivan Kostov as part of Integrabili
 ty in Gauge and String Theory (IGST) 2020\n\nAbstract: TBA\n
LOCATION:https://researchseminars.org/talk/IGST2020/3/
END:VEVENT
BEGIN:VEVENT
SUMMARY:Evgeny Sobko
DTSTART:20200824T150000Z
DTEND:20200824T153000Z
DTSTAMP:20260422T212724Z
UID:IGST2020/4
DESCRIPTION:Title: <a href="https://researchseminars.org/talk/IGST2020/4/"
 >Principal Chiral Model at Large N and the glimpse of a new String Theory<
 /a>\nby Evgeny Sobko as part of Integrability in Gauge and String Theory (
 IGST) 2020\n\nAbstract: TBA\n
LOCATION:https://researchseminars.org/talk/IGST2020/4/
END:VEVENT
BEGIN:VEVENT
SUMMARY:Stefano Negro
DTSTART:20200824T153000Z
DTEND:20200824T160000Z
DTSTAMP:20260422T212724Z
UID:IGST2020/5
DESCRIPTION:Title: <a href="https://researchseminars.org/talk/IGST2020/5/"
 >CDD deformations of 2D Integrable Quantum Field Theories</a>\nby Stefano 
 Negro as part of Integrability in Gauge and String Theory (IGST) 2020\n\nA
 bstract: TBA\n
LOCATION:https://researchseminars.org/talk/IGST2020/5/
END:VEVENT
BEGIN:VEVENT
SUMMARY:Patrick Dorey
DTSTART:20200824T160000Z
DTEND:20200824T163000Z
DTSTAMP:20260422T212724Z
UID:IGST2020/6
DESCRIPTION:Title: <a href="https://researchseminars.org/talk/IGST2020/6/"
 >Discussion Session on Sigma Models</a>\nby Patrick Dorey as part of Integ
 rability in Gauge and String Theory (IGST) 2020\n\nAbstract: TBA\n
LOCATION:https://researchseminars.org/talk/IGST2020/6/
END:VEVENT
BEGIN:VEVENT
SUMMARY:Georgios Papathanasiou
DTSTART:20200825T130000Z
DTEND:20200825T133000Z
DTSTAMP:20260422T212724Z
UID:IGST2020/7
DESCRIPTION:Title: <a href="https://researchseminars.org/talk/IGST2020/7/"
 >Integrable limits of scattering amplitudes</a>\nby Georgios Papathanasiou
  as part of Integrability in Gauge and String Theory (IGST) 2020\n\nAbstra
 ct: TBA\n
LOCATION:https://researchseminars.org/talk/IGST2020/7/
END:VEVENT
BEGIN:VEVENT
SUMMARY:Amit Sever
DTSTART:20200825T133000Z
DTEND:20200825T140000Z
DTSTAMP:20260422T212724Z
UID:IGST2020/8
DESCRIPTION:Title: <a href="https://researchseminars.org/talk/IGST2020/8/"
 >An Operatot Product Expansion for Form Factors</a>\nby Amit Sever as part
  of Integrability in Gauge and String Theory (IGST) 2020\n\nAbstract: TBA\
 n
LOCATION:https://researchseminars.org/talk/IGST2020/8/
END:VEVENT
BEGIN:VEVENT
SUMMARY:Simon Caron Huot
DTSTART:20200825T140000Z
DTEND:20200825T143000Z
DTSTAMP:20260422T212724Z
UID:IGST2020/9
DESCRIPTION:Title: <a href="https://researchseminars.org/talk/IGST2020/9/"
 >Discussion Session on Amplitudes</a>\nby Simon Caron Huot as part of Inte
 grability in Gauge and String Theory (IGST) 2020\n\nAbstract: TBA\n
LOCATION:https://researchseminars.org/talk/IGST2020/9/
END:VEVENT
BEGIN:VEVENT
SUMMARY:Henry Lin
DTSTART:20200825T150000Z
DTEND:20200825T153000Z
DTSTAMP:20260422T212724Z
UID:IGST2020/10
DESCRIPTION:Title: <a href="https://researchseminars.org/talk/IGST2020/10/
 ">Bootstrapping Matrices</a>\nby Henry Lin as part of Integrability in Gau
 ge and String Theory (IGST) 2020\n\nAbstract: TBA\n
LOCATION:https://researchseminars.org/talk/IGST2020/10/
END:VEVENT
BEGIN:VEVENT
SUMMARY:Luigi Tizzano
DTSTART:20200825T153000Z
DTEND:20200825T160000Z
DTSTAMP:20260422T212724Z
UID:IGST2020/11
DESCRIPTION:Title: <a href="https://researchseminars.org/talk/IGST2020/11/
 ">Delayed Deconfinement and the Hawking-Page Transition</a>\nby Luigi Tizz
 ano as part of Integrability in Gauge and String Theory (IGST) 2020\n\nAbs
 tract: TBA\n
LOCATION:https://researchseminars.org/talk/IGST2020/11/
END:VEVENT
BEGIN:VEVENT
SUMMARY:Vladimir Kazakov
DTSTART:20200825T160000Z
DTEND:20200825T163000Z
DTSTAMP:20260422T212724Z
UID:IGST2020/12
DESCRIPTION:Title: <a href="https://researchseminars.org/talk/IGST2020/12/
 ">Discussion Session on Matrix Bootstrap</a>\nby Vladimir Kazakov as part 
 of Integrability in Gauge and String Theory (IGST) 2020\n\nAbstract: TBA\n
LOCATION:https://researchseminars.org/talk/IGST2020/12/
END:VEVENT
BEGIN:VEVENT
SUMMARY:Fedor Levkovich-Maslyuk
DTSTART:20200826T130000Z
DTEND:20200826T133000Z
DTSTAMP:20260422T212724Z
UID:IGST2020/13
DESCRIPTION:Title: <a href="https://researchseminars.org/talk/IGST2020/13/
 ">Separation of variables and scalar products at any rank: from spin chain
 s to fishnet CFT</a>\nby Fedor Levkovich-Maslyuk as part of Integrability 
 in Gauge and String Theory (IGST) 2020\n\nAbstract: TBA\n
LOCATION:https://researchseminars.org/talk/IGST2020/13/
END:VEVENT
BEGIN:VEVENT
SUMMARY:Deliang Zhong
DTSTART:20200826T133000Z
DTEND:20200826T140000Z
DTSTAMP:20260422T212724Z
UID:IGST2020/14
DESCRIPTION:Title: <a href="https://researchseminars.org/talk/IGST2020/14/
 ">Thermodynamic Bethe Ansatz for Fishnet CFT</a>\nby Deliang Zhong as part
  of Integrability in Gauge and String Theory (IGST) 2020\n\nAbstract: TBA\
 n
LOCATION:https://researchseminars.org/talk/IGST2020/14/
END:VEVENT
BEGIN:VEVENT
SUMMARY:Andrea Cavaglia
DTSTART:20200826T140000Z
DTEND:20200826T143000Z
DTSTAMP:20260422T212724Z
UID:IGST2020/15
DESCRIPTION:Title: <a href="https://researchseminars.org/talk/IGST2020/15/
 ">Discussion Session on Fishnet and QSC</a>\nby Andrea Cavaglia as part of
  Integrability in Gauge and String Theory (IGST) 2020\n\nAbstract: TBA\n
LOCATION:https://researchseminars.org/talk/IGST2020/15/
END:VEVENT
BEGIN:VEVENT
SUMMARY:Fernando Alday
DTSTART:20200826T150000Z
DTEND:20200826T153000Z
DTSTAMP:20260422T212724Z
UID:IGST2020/16
DESCRIPTION:Title: <a href="https://researchseminars.org/talk/IGST2020/16/
 ">6d (2\,0) correlators and Quantum M-theory</a>\nby Fernando Alday as par
 t of Integrability in Gauge and String Theory (IGST) 2020\n\nAbstract: TBA
 \n
LOCATION:https://researchseminars.org/talk/IGST2020/16/
END:VEVENT
BEGIN:VEVENT
SUMMARY:Silviu Pufu
DTSTART:20200826T153000Z
DTEND:20200826T160000Z
DTSTAMP:20260422T212724Z
UID:IGST2020/17
DESCRIPTION:Title: <a href="https://researchseminars.org/talk/IGST2020/17/
 ">Modular invariants in strongly-coupled N=4 super-Yang-Mills theory</a>\n
 by Silviu Pufu as part of Integrability in Gauge and String Theory (IGST) 
 2020\n\nAbstract: TBA\n
LOCATION:https://researchseminars.org/talk/IGST2020/17/
END:VEVENT
BEGIN:VEVENT
SUMMARY:Agnese Bissi
DTSTART:20200826T160000Z
DTEND:20200826T163000Z
DTSTAMP:20260422T212724Z
UID:IGST2020/18
DESCRIPTION:Title: <a href="https://researchseminars.org/talk/IGST2020/18/
 ">Discussion Session on CFT</a>\nby Agnese Bissi as part of Integrability 
 in Gauge and String Theory (IGST) 2020\n\nAbstract: TBA\n
LOCATION:https://researchseminars.org/talk/IGST2020/18/
END:VEVENT
BEGIN:VEVENT
SUMMARY:Charlotte Kristjansen
DTSTART:20200827T130000Z
DTEND:20200827T133000Z
DTSTAMP:20260422T212724Z
UID:IGST2020/19
DESCRIPTION:Title: <a href="https://researchseminars.org/talk/IGST2020/19/
 ">Domain walls as integrable boundary states in N=4 SYM.</a>\nby Charlotte
  Kristjansen as part of Integrability in Gauge and String Theory (IGST) 20
 20\n\nAbstract: TBA\n
LOCATION:https://researchseminars.org/talk/IGST2020/19/
END:VEVENT
BEGIN:VEVENT
SUMMARY:Diego Correa
DTSTART:20200827T133000Z
DTEND:20200827T140000Z
DTSTAMP:20260422T212724Z
UID:IGST2020/20
DESCRIPTION:Title: <a href="https://researchseminars.org/talk/IGST2020/20/
 ">Wilson lines as 1d defects</a>\nby Diego Correa as part of Integrability
  in Gauge and String Theory (IGST) 2020\n\nAbstract: TBA\n
LOCATION:https://researchseminars.org/talk/IGST2020/20/
END:VEVENT
BEGIN:VEVENT
SUMMARY:Shota Komatsu
DTSTART:20200827T140000Z
DTEND:20200827T143000Z
DTSTAMP:20260422T212724Z
UID:IGST2020/21
DESCRIPTION:Title: <a href="https://researchseminars.org/talk/IGST2020/21/
 ">Discussion Session on Boundaries</a>\nby Shota Komatsu as part of Integr
 ability in Gauge and String Theory (IGST) 2020\n\nAbstract: TBA\n
LOCATION:https://researchseminars.org/talk/IGST2020/21/
END:VEVENT
BEGIN:VEVENT
SUMMARY:Leopoldo A. Pando Zayas
DTSTART:20200827T150000Z
DTEND:20200827T153000Z
DTSTAMP:20260422T212724Z
UID:IGST2020/22
DESCRIPTION:Title: <a href="https://researchseminars.org/talk/IGST2020/22/
 ">Sub-leading microstate counting of AdS black hole entropy</a>\nby Leopol
 do A. Pando Zayas as part of Integrability in Gauge and String Theory (IGS
 T) 2020\n\nAbstract: TBA\n
LOCATION:https://researchseminars.org/talk/IGST2020/22/
END:VEVENT
BEGIN:VEVENT
SUMMARY:Gustavo Turiaci
DTSTART:20200827T153000Z
DTEND:20200827T160000Z
DTSTAMP:20260422T212724Z
UID:IGST2020/23
DESCRIPTION:Title: <a href="https://researchseminars.org/talk/IGST2020/23/
 ">Non-perturbative aspects of 2D gravity\, matrix integrals\, and the mini
 mal string</a>\nby Gustavo Turiaci as part of Integrability in Gauge and S
 tring Theory (IGST) 2020\n\nAbstract: TBA\n
LOCATION:https://researchseminars.org/talk/IGST2020/23/
END:VEVENT
BEGIN:VEVENT
SUMMARY:Juan Maldacena
DTSTART:20200827T160000Z
DTEND:20200827T163000Z
DTSTAMP:20260422T212724Z
UID:IGST2020/24
DESCRIPTION:Title: <a href="https://researchseminars.org/talk/IGST2020/24/
 ">Discussion Session on Black Holes and Integrability</a>\nby Juan Maldace
 na as part of Integrability in Gauge and String Theory (IGST) 2020\n\nAbst
 ract: TBA\n
LOCATION:https://researchseminars.org/talk/IGST2020/24/
END:VEVENT
BEGIN:VEVENT
SUMMARY:David Skinner
DTSTART:20200828T130000Z
DTEND:20200828T133000Z
DTSTAMP:20260422T212724Z
UID:IGST2020/25
DESCRIPTION:Title: <a href="https://researchseminars.org/talk/IGST2020/25/
 ">Ambitwistor Strings on AdS3 x S3</a>\nby David Skinner as part of Integr
 ability in Gauge and String Theory (IGST) 2020\n\nAbstract: TBA\n
LOCATION:https://researchseminars.org/talk/IGST2020/25/
END:VEVENT
BEGIN:VEVENT
SUMMARY:Bogdan Stefanski
DTSTART:20200828T133000Z
DTEND:20200828T140000Z
DTSTAMP:20260422T212724Z
UID:IGST2020/26
DESCRIPTION:Title: <a href="https://researchseminars.org/talk/IGST2020/26/
 ">Chern Simons Origin of Superstring Integrability</a>\nby Bogdan Stefansk
 i as part of Integrability in Gauge and String Theory (IGST) 2020\n\nAbstr
 act: TBA\n
LOCATION:https://researchseminars.org/talk/IGST2020/26/
END:VEVENT
BEGIN:VEVENT
SUMMARY:Konstantin Zarembo
DTSTART:20200828T140000Z
DTEND:20200828T143000Z
DTSTAMP:20260422T212724Z
UID:IGST2020/27
DESCRIPTION:Title: <a href="https://researchseminars.org/talk/IGST2020/27/
 ">Discussion Session on Strings</a>\nby Konstantin Zarembo as part of Inte
 grability in Gauge and String Theory (IGST) 2020\n\nAbstract: TBA\n
LOCATION:https://researchseminars.org/talk/IGST2020/27/
END:VEVENT
BEGIN:VEVENT
SUMMARY:Yifei He
DTSTART:20200828T150000Z
DTEND:20200828T153000Z
DTSTAMP:20260422T212724Z
UID:IGST2020/28
DESCRIPTION:Title: <a href="https://researchseminars.org/talk/IGST2020/28/
 ">Geometrical four-point functions in the 2d critical Q-state Potts model<
 /a>\nby Yifei He as part of Integrability in Gauge and String Theory (IGST
 ) 2020\n\nAbstract: TBA\n
LOCATION:https://researchseminars.org/talk/IGST2020/28/
END:VEVENT
BEGIN:VEVENT
SUMMARY:Ben Hoare
DTSTART:20200828T153000Z
DTEND:20200828T160000Z
DTSTAMP:20260422T212724Z
UID:IGST2020/29
DESCRIPTION:Title: <a href="https://researchseminars.org/talk/IGST2020/29/
 ">Sigma models with local couplings: a new connection between integrabilit
 y and RG flow.</a>\nby Ben Hoare as part of Integrability in Gauge and Str
 ing Theory (IGST) 2020\n\nAbstract: TBA\n
LOCATION:https://researchseminars.org/talk/IGST2020/29/
END:VEVENT
BEGIN:VEVENT
SUMMARY:Pedro Vieira
DTSTART:20200828T160000Z
DTEND:20200828T163000Z
DTSTAMP:20260422T212724Z
UID:IGST2020/30
DESCRIPTION:Title: <a href="https://researchseminars.org/talk/IGST2020/30/
 ">Discussion Session on New Developments</a>\nby Pedro Vieira as part of I
 ntegrability in Gauge and String Theory (IGST) 2020\n\nAbstract: TBA\n
LOCATION:https://researchseminars.org/talk/IGST2020/30/
END:VEVENT
END:VCALENDAR
