BEGIN:VCALENDAR
VERSION:2.0
PRODID:researchseminars.org
CALSCALE:GREGORIAN
X-WR-CALNAME:researchseminars.org
BEGIN:VEVENT
SUMMARY:Yuval Grossman (Cornell U.)
DTSTART:20190610T090000Z
DTEND:20190610T100000Z
DTSTAMP:20260422T212933Z
UID:ICTP_smr3300/1
DESCRIPTION:Title: <a href="https://researchseminars.org/talk/ICTP_smr3300
 /1/">Standard Model and Flavor - Lecture 1</a>\nby Yuval Grossman (Cornell
  U.) as part of Summer School on Particle Physics\n\nAbstract: TBA\n\nSpea
 ker: Yuval Grossman (Cornell U.) Summer School on Particle Physics | (smr 
 3300) 2019_06_10-11_00-smr3300.mp4.\n
LOCATION:https://researchseminars.org/talk/ICTP_smr3300/1/
END:VEVENT
BEGIN:VEVENT
SUMMARY:Matthew D. (Harvard U.)
DTSTART:20190610T120000Z
DTEND:20190610T130000Z
DTSTAMP:20260422T212933Z
UID:ICTP_smr3300/2
DESCRIPTION:Title: <a href="https://researchseminars.org/talk/ICTP_smr3300
 /2/">Collider Physics - Lecture 1</a>\nby Matthew D. (Harvard U.) as part 
 of Summer School on Particle Physics\n\nAbstract: TBA\n\nSpeaker: Matthew 
 D. Schwartz (Harvard U.) Summer School on Particle Physics | (smr 3300) 20
 19_06_10-14_00-smr3300.mp4.\n
LOCATION:https://researchseminars.org/talk/ICTP_smr3300/2/
END:VEVENT
BEGIN:VEVENT
SUMMARY:Matthew Philip (CERN)
DTSTART:20190617T070000Z
DTEND:20190617T080000Z
DTSTAMP:20260422T212933Z
UID:ICTP_smr3300/3
DESCRIPTION:Title: <a href="https://researchseminars.org/talk/ICTP_smr3300
 /3/">Beyond the Standard Model - Lecture 1</a>\nby Matthew Philip (CERN) a
 s part of Summer School on Particle Physics\n\nAbstract: TBA\n\nSpeaker: M
 atthew Philip McCullough (CERN) Summer School on Particle Physics | (smr 3
 300) 2019_06_17-09_00-smr3300.mp4.\n
LOCATION:https://researchseminars.org/talk/ICTP_smr3300/3/
END:VEVENT
BEGIN:VEVENT
SUMMARY:Tracy Slatyer (MIT)
DTSTART:20190617T090000Z
DTEND:20190617T100000Z
DTSTAMP:20260422T212933Z
UID:ICTP_smr3300/4
DESCRIPTION:Title: <a href="https://researchseminars.org/talk/ICTP_smr3300
 /4/">Dark Matter - Lecture 1</a>\nby Tracy Slatyer (MIT) as part of Summer
  School on Particle Physics\n\nAbstract: TBA\n\nSpeaker: Tracy Slatyer (MI
 T) Summer School on Particle Physics | (smr 3300) 2019_06_17-11_00-smr3300
 .mp4.\n
LOCATION:https://researchseminars.org/talk/ICTP_smr3300/4/
END:VEVENT
BEGIN:VEVENT
SUMMARY:André Luiz (Northwestern U.)
DTSTART:20190612T070000Z
DTEND:20190612T080000Z
DTSTAMP:20260422T212933Z
UID:ICTP_smr3300/5
DESCRIPTION:Title: <a href="https://researchseminars.org/talk/ICTP_smr3300
 /5/">Neutrino - Lecture 1</a>\nby André Luiz (Northwestern U.) as part of
  Summer School on Particle Physics\n\nAbstract: TBA\n\nSpeaker: André Lui
 z De Gouvêa (Northwestern U.) Summer School on Particle Physics | (smr 33
 00) 2019_06_12-09_00-smr3300.mp4.\n
LOCATION:https://researchseminars.org/talk/ICTP_smr3300/5/
END:VEVENT
BEGIN:VEVENT
SUMMARY:Yuval Grossman (Cornell U.)
DTSTART:20190611T070000Z
DTEND:20190611T080000Z
DTSTAMP:20260422T212933Z
UID:ICTP_smr3300/6
DESCRIPTION:Title: <a href="https://researchseminars.org/talk/ICTP_smr3300
 /6/">Standard Model and Flavor - Lecture 2</a>\nby Yuval Grossman (Cornell
  U.) as part of Summer School on Particle Physics\n\nAbstract: TBA\n\nSpea
 ker: Yuval Grossman (Cornell U.) Summer School on Particle Physics | (smr 
 3300) 2019_06_11-09_00-smr3300.mp4.\n
LOCATION:https://researchseminars.org/talk/ICTP_smr3300/6/
END:VEVENT
BEGIN:VEVENT
SUMMARY:Yuval Grossman (Cornell U.)
DTSTART:20190612T090000Z
DTEND:20190612T100000Z
DTSTAMP:20260422T212933Z
UID:ICTP_smr3300/7
DESCRIPTION:Title: <a href="https://researchseminars.org/talk/ICTP_smr3300
 /7/">Standard Model and Flavor - Lecture 3</a>\nby Yuval Grossman (Cornell
  U.) as part of Summer School on Particle Physics\n\nAbstract: TBA\n\nSpea
 ker: Yuval Grossman (Cornell U.) Summer School on Particle Physics | (smr 
 3300) 2019_06_12-11_00-smr3300.mp4.\n
LOCATION:https://researchseminars.org/talk/ICTP_smr3300/7/
END:VEVENT
BEGIN:VEVENT
SUMMARY:Tracy Slatyer (MIT)
DTSTART:20190618T070000Z
DTEND:20190618T080000Z
DTSTAMP:20260422T212933Z
UID:ICTP_smr3300/8
DESCRIPTION:Title: <a href="https://researchseminars.org/talk/ICTP_smr3300
 /8/">Dark Matter - Lecture 2</a>\nby Tracy Slatyer (MIT) as part of Summer
  School on Particle Physics\n\nAbstract: TBA\n\nSpeaker: Tracy Slatyer (MI
 T) Summer School on Particle Physics | (smr 3300) 2019_06_18-09_00-smr3300
 .mp4.\n
LOCATION:https://researchseminars.org/talk/ICTP_smr3300/8/
END:VEVENT
BEGIN:VEVENT
SUMMARY:Robert Lasenby (Stanford U.)
DTSTART:20190617T120000Z
DTEND:20190617T130000Z
DTSTAMP:20260422T212933Z
UID:ICTP_smr3300/9
DESCRIPTION:Title: <a href="https://researchseminars.org/talk/ICTP_smr3300
 /9/">Fundamental Physics from The Precision Frontier - Lecture 1</a>\nby R
 obert Lasenby (Stanford U.) as part of Summer School on Particle Physics\n
 \nAbstract: TBA\n\nSpeaker: Robert Lasenby (Stanford U.) Summer School on 
 Particle Physics | (smr 3300) 2019_06_17-14_00-smr3300.mp4.\n
LOCATION:https://researchseminars.org/talk/ICTP_smr3300/9/
END:VEVENT
BEGIN:VEVENT
SUMMARY:Matthew Reece (Harvard U.)
DTSTART:20190614T120000Z
DTEND:20190614T130000Z
DTSTAMP:20260422T212933Z
UID:ICTP_smr3300/10
DESCRIPTION:Title: <a href="https://researchseminars.org/talk/ICTP_smr3300
 /10/">Formal Developments in HEP - Lecture 1</a>\nby Matthew Reece (Harvar
 d U.) as part of Summer School on Particle Physics\n\nAbstract: TBA\n\nSpe
 aker: Matthew Reece (Harvard U.) Summer School on Particle Physics | (smr 
 3300) 2019_06_14-14_00-smr3300.mp4.\n
LOCATION:https://researchseminars.org/talk/ICTP_smr3300/10/
END:VEVENT
BEGIN:VEVENT
SUMMARY:Matthew D. (Harvard U.)
DTSTART:20190611T090000Z
DTEND:20190611T100000Z
DTSTAMP:20260422T212933Z
UID:ICTP_smr3300/11
DESCRIPTION:Title: <a href="https://researchseminars.org/talk/ICTP_smr3300
 /11/">Collider Physics - Lecture 2</a>\nby Matthew D. (Harvard U.) as part
  of Summer School on Particle Physics\n\nAbstract: TBA\n\nSpeaker: Matthew
  D. Schwartz (Harvard U.) Summer School on Particle Physics | (smr 3300) 2
 019_06_11-11_00-smr3300.mp4.\n
LOCATION:https://researchseminars.org/talk/ICTP_smr3300/11/
END:VEVENT
BEGIN:VEVENT
SUMMARY:Tracy Slatyer (MIT)
DTSTART:20190619T090000Z
DTEND:20190619T100000Z
DTSTAMP:20260422T212933Z
UID:ICTP_smr3300/12
DESCRIPTION:Title: <a href="https://researchseminars.org/talk/ICTP_smr3300
 /12/">Dark Matter - Lecture 3</a>\nby Tracy Slatyer (MIT) as part of Summe
 r School on Particle Physics\n\nAbstract: TBA\n\nSpeaker: Tracy Slatyer (M
 IT) Summer School on Particle Physics | (smr 3300) 2019_06_19-11_00-smr330
 0.mp4.\n
LOCATION:https://researchseminars.org/talk/ICTP_smr3300/12/
END:VEVENT
BEGIN:VEVENT
SUMMARY:Matthew Philip (CERN)
DTSTART:20190621T070000Z
DTEND:20190621T080000Z
DTSTAMP:20260422T212933Z
UID:ICTP_smr3300/13
DESCRIPTION:Title: <a href="https://researchseminars.org/talk/ICTP_smr3300
 /13/">Beyond the Standard Model - Lecture 4</a>\nby Matthew Philip (CERN) 
 as part of Summer School on Particle Physics\n\nAbstract: TBA\n\nSpeaker: 
 Matthew Philip McCullough (CERN) Summer School on Particle Physics | (smr 
 3300) 2019_06_21-09_00-smr3300.mp4.\n
LOCATION:https://researchseminars.org/talk/ICTP_smr3300/13/
END:VEVENT
BEGIN:VEVENT
SUMMARY:Tracy Slatyer (MIT)
DTSTART:20190621T090000Z
DTEND:20190621T100000Z
DTSTAMP:20260422T212933Z
UID:ICTP_smr3300/14
DESCRIPTION:Title: <a href="https://researchseminars.org/talk/ICTP_smr3300
 /14/">Dark Matter - Lecture 5</a>\nby Tracy Slatyer (MIT) as part of Summe
 r School on Particle Physics\n\nAbstract: TBA\n\nSpeaker: Tracy Slatyer (M
 IT) Summer School on Particle Physics | (smr 3300) 2019_06_21-11_00-smr330
 0.mp4.\n
LOCATION:https://researchseminars.org/talk/ICTP_smr3300/14/
END:VEVENT
BEGIN:VEVENT
SUMMARY:André Luiz (Northwestern U.)
DTSTART:20190613T090000Z
DTEND:20190613T100000Z
DTSTAMP:20260422T212933Z
UID:ICTP_smr3300/15
DESCRIPTION:Title: <a href="https://researchseminars.org/talk/ICTP_smr3300
 /15/">Neutrino - Lecture 2</a>\nby André Luiz (Northwestern U.) as part o
 f Summer School on Particle Physics\n\nAbstract: TBA\n\nSpeaker: André Lu
 iz De Gouvêa (Northwestern U.) Summer School on Particle Physics | (smr 3
 300) 2019_06_13-11_00-smr3300.mp4.\n
LOCATION:https://researchseminars.org/talk/ICTP_smr3300/15/
END:VEVENT
BEGIN:VEVENT
SUMMARY:André Luiz (Northwestern U.)
DTSTART:20190614T090000Z
DTEND:20190614T100000Z
DTSTAMP:20260422T212933Z
UID:ICTP_smr3300/16
DESCRIPTION:Title: <a href="https://researchseminars.org/talk/ICTP_smr3300
 /16/">Neutrino - Lecture 3</a>\nby André Luiz (Northwestern U.) as part o
 f Summer School on Particle Physics\n\nAbstract: TBA\n\nSpeaker: André Lu
 iz De Gouvêa (Northwestern U.) Summer School on Particle Physics | (smr 3
 300) 2019_06_14-11_00-smr3300.mp4.\n
LOCATION:https://researchseminars.org/talk/ICTP_smr3300/16/
END:VEVENT
BEGIN:VEVENT
SUMMARY:Yuval Grossman (Cornell U.)
DTSTART:20190612T140000Z
DTEND:20190612T150000Z
DTSTAMP:20260422T212933Z
UID:ICTP_smr3300/17
DESCRIPTION:Title: <a href="https://researchseminars.org/talk/ICTP_smr3300
 /17/">Standard Model and Flavor - Lecture 4</a>\nby Yuval Grossman (Cornel
 l U.) as part of Summer School on Particle Physics\n\nAbstract: TBA\n\nSpe
 aker: Yuval Grossman (Cornell U.) Summer School on Particle Physics | (smr
  3300) 2019_06_12-16_00-smr3300.mp4.\n
LOCATION:https://researchseminars.org/talk/ICTP_smr3300/17/
END:VEVENT
BEGIN:VEVENT
SUMMARY:Matthew Philip (CERN)
DTSTART:20190619T070000Z
DTEND:20190619T080000Z
DTSTAMP:20260422T212933Z
UID:ICTP_smr3300/18
DESCRIPTION:Title: <a href="https://researchseminars.org/talk/ICTP_smr3300
 /18/">Beyond the Standard Model - Lecture 2</a>\nby Matthew Philip (CERN) 
 as part of Summer School on Particle Physics\n\nAbstract: TBA\n\nSpeaker: 
 Matthew Philip McCullough (CERN) Summer School on Particle Physics | (smr 
 3300) 2019_06_19-09_00-smr3300.\n
LOCATION:https://researchseminars.org/talk/ICTP_smr3300/18/
END:VEVENT
BEGIN:VEVENT
SUMMARY:Tracy Slatyer (MIT)
DTSTART:20190620T070000Z
DTEND:20190620T080000Z
DTSTAMP:20260422T212933Z
UID:ICTP_smr3300/19
DESCRIPTION:Title: <a href="https://researchseminars.org/talk/ICTP_smr3300
 /19/">Dark Matter - Lecture 4</a>\nby Tracy Slatyer (MIT) as part of Summe
 r School on Particle Physics\n\nAbstract: TBA\n\nSpeaker: Tracy Slatyer (M
 IT) Summer School on Particle Physics | (smr 3300) 2019_06_20-09_00-smr330
 0.mp4.\n
LOCATION:https://researchseminars.org/talk/ICTP_smr3300/19/
END:VEVENT
BEGIN:VEVENT
SUMMARY:Matthew D. (Harvard U.)
DTSTART:20190612T120000Z
DTEND:20190612T130000Z
DTSTAMP:20260422T212933Z
UID:ICTP_smr3300/20
DESCRIPTION:Title: <a href="https://researchseminars.org/talk/ICTP_smr3300
 /20/">Collider Physics - Lecture 3</a>\nby Matthew D. (Harvard U.) as part
  of Summer School on Particle Physics\n\nAbstract: TBA\n\nSpeaker: Matthew
  D. Schwartz (Harvard U.) Summer School on Particle Physics | (smr 3300) 2
 019_06_12-14_00-smr3300.mp4.\n
LOCATION:https://researchseminars.org/talk/ICTP_smr3300/20/
END:VEVENT
BEGIN:VEVENT
SUMMARY:Robert Lasenby (Stanford U.)
DTSTART:20190620T090000Z
DTEND:20190620T100000Z
DTSTAMP:20260422T212933Z
UID:ICTP_smr3300/21
DESCRIPTION:Title: <a href="https://researchseminars.org/talk/ICTP_smr3300
 /21/">Fundamental Physics from The Precision Frontier - Lecture 3</a>\nby 
 Robert Lasenby (Stanford U.) as part of Summer School on Particle Physics\
 n\nAbstract: TBA\n\nSpeaker: Robert Lasenby (Stanford U.) Summer School on
  Particle Physics | (smr 3300) 2019_06_20-11_00-smr3300.mp4.\n
LOCATION:https://researchseminars.org/talk/ICTP_smr3300/21/
END:VEVENT
BEGIN:VEVENT
SUMMARY:Yuval Grossman (Cornell U.)
DTSTART:20190615T070000Z
DTEND:20190615T080000Z
DTSTAMP:20260422T212933Z
UID:ICTP_smr3300/22
DESCRIPTION:Title: <a href="https://researchseminars.org/talk/ICTP_smr3300
 /22/">Standard Model and Flavor - Lecture 7</a>\nby Yuval Grossman (Cornel
 l U.) as part of Summer School on Particle Physics\n\nAbstract: TBA\n\nSpe
 aker: Yuval Grossman (Cornell U.) Summer School on Particle Physics | (smr
  3300) 2019_06_15-09_00-smr3300.mp4.\n
LOCATION:https://researchseminars.org/talk/ICTP_smr3300/22/
END:VEVENT
BEGIN:VEVENT
SUMMARY:Matthew Philip (CERN)
DTSTART:20190619T140000Z
DTEND:20190619T150000Z
DTSTAMP:20260422T212933Z
UID:ICTP_smr3300/23
DESCRIPTION:Title: <a href="https://researchseminars.org/talk/ICTP_smr3300
 /23/">Beyond the Standard Model - Lecture 3</a>\nby Matthew Philip (CERN) 
 as part of Summer School on Particle Physics\n\nAbstract: TBA\n\nSpeaker: 
 Matthew Philip McCullough (CERN) Summer School on Particle Physics | (smr 
 3300) 2019_06_19-16_00-smr3300.mp4.\n
LOCATION:https://researchseminars.org/talk/ICTP_smr3300/23/
END:VEVENT
BEGIN:VEVENT
SUMMARY:Yuval Grossman (Cornell U.)
DTSTART:20190613T070000Z
DTEND:20190613T080000Z
DTSTAMP:20260422T212933Z
UID:ICTP_smr3300/24
DESCRIPTION:Title: <a href="https://researchseminars.org/talk/ICTP_smr3300
 /24/">Standard Model and Flavor - Lecture 5</a>\nby Yuval Grossman (Cornel
 l U.) as part of Summer School on Particle Physics\n\nAbstract: TBA\n\nSpe
 aker: Yuval Grossman (Cornell U.) Summer School on Particle Physics | (smr
  3300) 2019_06_13-09_00-smr3300.mp4.\n
LOCATION:https://researchseminars.org/talk/ICTP_smr3300/24/
END:VEVENT
BEGIN:VEVENT
SUMMARY:Yuval Grossman (Cornell U.)
DTSTART:20190614T070000Z
DTEND:20190614T080000Z
DTSTAMP:20260422T212933Z
UID:ICTP_smr3300/25
DESCRIPTION:Title: <a href="https://researchseminars.org/talk/ICTP_smr3300
 /25/">Standard Model and Flavor - Lecture 6</a>\nby Yuval Grossman (Cornel
 l U.) as part of Summer School on Particle Physics\n\nAbstract: TBA\n\nSpe
 aker: Yuval Grossman (Cornell U.) Summer School on Particle Physics | (smr
  3300) 2019_06_14-09_00-smr3300.mp4.\n
LOCATION:https://researchseminars.org/talk/ICTP_smr3300/25/
END:VEVENT
BEGIN:VEVENT
SUMMARY:Matthew Reece (Harvard U.)
DTSTART:20190615T090000Z
DTEND:20190615T100000Z
DTSTAMP:20260422T212933Z
UID:ICTP_smr3300/26
DESCRIPTION:Title: <a href="https://researchseminars.org/talk/ICTP_smr3300
 /26/">Formal Developments in HEP - Lecture 2</a>\nby Matthew Reece (Harvar
 d U.) as part of Summer School on Particle Physics\n\nAbstract: TBA\n\nSpe
 aker: Matthew Reece (Harvard U.) Summer School on Particle Physics | (smr 
 3300) 2019_06_15-11_00-smr3300.\n
LOCATION:https://researchseminars.org/talk/ICTP_smr3300/26/
END:VEVENT
BEGIN:VEVENT
SUMMARY:Robert Lasenby (Stanford U.)
DTSTART:20190619T120000Z
DTEND:20190619T130000Z
DTSTAMP:20260422T212933Z
UID:ICTP_smr3300/27
DESCRIPTION:Title: <a href="https://researchseminars.org/talk/ICTP_smr3300
 /27/">Fundamental Physics from The Precision Frontier - Lecture 2</a>\nby 
 Robert Lasenby (Stanford U.) as part of Summer School on Particle Physics\
 n\nAbstract: TBA\n\nSpeaker: Robert Lasenby (Stanford U.) Summer School on
  Particle Physics | (smr 3300) 2019_06_19-14_00-smr3300.mp4.\n
LOCATION:https://researchseminars.org/talk/ICTP_smr3300/27/
END:VEVENT
BEGIN:VEVENT
SUMMARY:Matthew Reece (Harvard U.)
DTSTART:20190618T090000Z
DTEND:20190618T100000Z
DTSTAMP:20260422T212933Z
UID:ICTP_smr3300/28
DESCRIPTION:Title: <a href="https://researchseminars.org/talk/ICTP_smr3300
 /28/">Formal Developments in HEP - Lecture 3</a>\nby Matthew Reece (Harvar
 d U.) as part of Summer School on Particle Physics\n\nAbstract: TBA\n\nSpe
 aker: Matthew Reece (Harvard U.) Summer School on Particle Physics | (smr 
 3300) 2019_06_18-11_00-smr3300.mp4.\n
LOCATION:https://researchseminars.org/talk/ICTP_smr3300/28/
END:VEVENT
END:VCALENDAR
