BEGIN:VCALENDAR
VERSION:2.0
PRODID:researchseminars.org
CALSCALE:GREGORIAN
X-WR-CALNAME:researchseminars.org
BEGIN:VEVENT
SUMMARY:F. D'Eramo (Padua University)
DTSTART:20180618T091500Z
DTEND:20180618T101500Z
DTSTAMP:20260422T212934Z
UID:ICTP_smr3213/1
DESCRIPTION:Title: <a href="https://researchseminars.org/talk/ICTP_smr3213
 /1/">Dark Matter - Lecture 1</a>\nby F. D'Eramo (Padua University) as part
  of Summer School on Cosmology 2018\n\nAbstract: TBA\n\nSpeaker: F. D'Eram
 o (Padua University) Summer School on Cosmology 2018 | (smr 3213) 2018_06_
 18-11_15-smr3209.\n
LOCATION:https://researchseminars.org/talk/ICTP_smr3213/1/
END:VEVENT
BEGIN:VEVENT
SUMMARY:E. Komatsu (MPA\, Garching & Kavli IPMU\, Tokyo)
DTSTART:20180618T071500Z
DTEND:20180618T081500Z
DTSTAMP:20260422T212934Z
UID:ICTP_smr3213/2
DESCRIPTION:Title: <a href="https://researchseminars.org/talk/ICTP_smr3213
 /2/">CMB - Lecture 1</a>\nby E. Komatsu (MPA\, Garching & Kavli IPMU\, Tok
 yo) as part of Summer School on Cosmology 2018\n\nAbstract: TBA\n\nSpeaker
 : E. Komatsu (MPA\, Garching & Kavli IPMU\, Tokyo) Summer School on Cosmol
 ogy 2018 | (smr 3213) 2018_06_18-09_15-smr3209.\n
LOCATION:https://researchseminars.org/talk/ICTP_smr3213/2/
END:VEVENT
BEGIN:VEVENT
SUMMARY:S. Babak (APC\, Paris)
DTSTART:20180618T120000Z
DTEND:20180618T130000Z
DTSTAMP:20260422T212934Z
UID:ICTP_smr3213/3
DESCRIPTION:Title: <a href="https://researchseminars.org/talk/ICTP_smr3213
 /3/">Gravitational Waves I - Lecture 1</a>\nby S. Babak (APC\, Paris) as p
 art of Summer School on Cosmology 2018\n\nAbstract: TBA\n\nSpeaker: S. Bab
 ak (APC\, Paris) Summer School on Cosmology 2018 | (smr 3213) 2018_06_18-1
 4_00-smr3209.\n
LOCATION:https://researchseminars.org/talk/ICTP_smr3213/3/
END:VEVENT
BEGIN:VEVENT
SUMMARY:C. De (Imperial College)
DTSTART:20180626T071500Z
DTEND:20180626T081500Z
DTSTAMP:20260422T212934Z
UID:ICTP_smr3213/4
DESCRIPTION:Title: <a href="https://researchseminars.org/talk/ICTP_smr3213
 /4/">Dark Energy - Lecture 1</a>\nby C. De (Imperial College) as part of S
 ummer School on Cosmology 2018\n\nAbstract: TBA\n\nSpeaker: C. De Rham (Im
 perial College) Summer School on Cosmology 2018 | (smr 3213) 2018_06_26-09
 _15-smr3209.\n
LOCATION:https://researchseminars.org/talk/ICTP_smr3213/4/
END:VEVENT
BEGIN:VEVENT
SUMMARY:M. Kleban (NYU)
DTSTART:20180625T071500Z
DTEND:20180625T081500Z
DTSTAMP:20260422T212934Z
UID:ICTP_smr3213/5
DESCRIPTION:Title: <a href="https://researchseminars.org/talk/ICTP_smr3213
 /5/">Inflation - Lecture 1</a>\nby M. Kleban (NYU) as part of Summer Schoo
 l on Cosmology 2018\n\nAbstract: TBA\n\nSpeaker: M. Kleban (NYU) Summer Sc
 hool on Cosmology 2018 | (smr 3213) 2018_06_25-09_15-smr3209.\n
LOCATION:https://researchseminars.org/talk/ICTP_smr3213/5/
END:VEVENT
BEGIN:VEVENT
SUMMARY:R. Sheth (UPenn)
DTSTART:20180618T134500Z
DTEND:20180618T144500Z
DTSTAMP:20260422T212934Z
UID:ICTP_smr3213/6
DESCRIPTION:Title: <a href="https://researchseminars.org/talk/ICTP_smr3213
 /6/">Large Scale Structure I - Lecture 1</a>\nby R. Sheth (UPenn) as part 
 of Summer School on Cosmology 2018\n\nAbstract: TBA\n\nSpeaker: R. Sheth (
 UPenn) Summer School on Cosmology 2018 | (smr 3213) 2018_06_18-15_45-smr32
 09.\n
LOCATION:https://researchseminars.org/talk/ICTP_smr3213/6/
END:VEVENT
BEGIN:VEVENT
SUMMARY:F. D'Eramo (Padua University)
DTSTART:20180619T091500Z
DTEND:20180619T101500Z
DTSTAMP:20260422T212934Z
UID:ICTP_smr3213/7
DESCRIPTION:Title: <a href="https://researchseminars.org/talk/ICTP_smr3213
 /7/">Dark Matter - Lecture 2</a>\nby F. D'Eramo (Padua University) as part
  of Summer School on Cosmology 2018\n\nAbstract: TBA\n\nSpeaker: F. D'Eram
 o (Padua University) Summer School on Cosmology 2018 | (smr 3213) 2018_06_
 19-11_15-smr3209.\n
LOCATION:https://researchseminars.org/talk/ICTP_smr3213/7/
END:VEVENT
BEGIN:VEVENT
SUMMARY:C. De (Imperial College)
DTSTART:20180627T071500Z
DTEND:20180627T081500Z
DTSTAMP:20260422T212934Z
UID:ICTP_smr3213/8
DESCRIPTION:Title: <a href="https://researchseminars.org/talk/ICTP_smr3213
 /8/">Dark Energy - Lecture 2</a>\nby C. De (Imperial College) as part of S
 ummer School on Cosmology 2018\n\nAbstract: TBA\n\nSpeaker: C. De Rham (Im
 perial College) Summer School on Cosmology 2018 | (smr 3213) 2018_06_27-09
 _15-smr3213.\n
LOCATION:https://researchseminars.org/talk/ICTP_smr3213/8/
END:VEVENT
BEGIN:VEVENT
SUMMARY:F. D'Eramo (Padua University)
DTSTART:20180621T120000Z
DTEND:20180621T130000Z
DTSTAMP:20260422T212934Z
UID:ICTP_smr3213/9
DESCRIPTION:Title: <a href="https://researchseminars.org/talk/ICTP_smr3213
 /9/">Dark Matter - Lecture 3</a>\nby F. D'Eramo (Padua University) as part
  of Summer School on Cosmology 2018\n\nAbstract: TBA\n\nSpeaker: F. D'Eram
 o (Padua University) Summer School on Cosmology 2018 | (smr 3213) 2018_06_
 21-14_00-smr3209.\n
LOCATION:https://researchseminars.org/talk/ICTP_smr3213/9/
END:VEVENT
BEGIN:VEVENT
SUMMARY:C. De (Imperial College)
DTSTART:20180628T081500Z
DTEND:20180628T091500Z
DTSTAMP:20260422T212934Z
UID:ICTP_smr3213/10
DESCRIPTION:Title: <a href="https://researchseminars.org/talk/ICTP_smr3213
 /10/">Dark Energy - Lecture 4</a>\nby C. De (Imperial College) as part of 
 Summer School on Cosmology 2018\n\nAbstract: TBA\n\nSpeaker: C. De Rham (I
 mperial College) Summer School on Cosmology 2018 | (smr 3213) 2018_06_28-1
 0_15-smr3213.\n
LOCATION:https://researchseminars.org/talk/ICTP_smr3213/10/
END:VEVENT
BEGIN:VEVENT
SUMMARY:E. Komatsu (MPA\, Garching & Kavli IPMU\, Tokyo)
DTSTART:20180619T071500Z
DTEND:20180619T081500Z
DTSTAMP:20260422T212934Z
UID:ICTP_smr3213/11
DESCRIPTION:Title: <a href="https://researchseminars.org/talk/ICTP_smr3213
 /11/">CMB - Lecture 2</a>\nby E. Komatsu (MPA\, Garching & Kavli IPMU\, To
 kyo) as part of Summer School on Cosmology 2018\n\nAbstract: TBA\n\nSpeake
 r: E. Komatsu (MPA\, Garching & Kavli IPMU\, Tokyo) Summer School on Cosmo
 logy 2018 | (smr 3213) 2018_06_19-09_15-smr3209.\n
LOCATION:https://researchseminars.org/talk/ICTP_smr3213/11/
END:VEVENT
BEGIN:VEVENT
SUMMARY:F. D'Eramo (Padua University)
DTSTART:20180622T071500Z
DTEND:20180622T081500Z
DTSTAMP:20260422T212934Z
UID:ICTP_smr3213/12
DESCRIPTION:Title: <a href="https://researchseminars.org/talk/ICTP_smr3213
 /12/">Dark Matter - Lecture 4</a>\nby F. D'Eramo (Padua University) as par
 t of Summer School on Cosmology 2018\n\nAbstract: TBA\n\nSpeaker: F. D'Era
 mo (Padua University) Summer School on Cosmology 2018 | (smr 3213) 2018_06
 _22-09_15-smr3209.\n
LOCATION:https://researchseminars.org/talk/ICTP_smr3213/12/
END:VEVENT
BEGIN:VEVENT
SUMMARY:V. Cardoso (Lisboa University)
DTSTART:20180626T091500Z
DTEND:20180626T101500Z
DTSTAMP:20260422T212934Z
UID:ICTP_smr3213/13
DESCRIPTION:Title: <a href="https://researchseminars.org/talk/ICTP_smr3213
 /13/">Gravitational Waves II - Lecture 1</a>\nby V. Cardoso (Lisboa Univer
 sity) as part of Summer School on Cosmology 2018\n\nAbstract: TBA\n\nSpeak
 er: V. Cardoso (Lisboa University) Summer School on Cosmology 2018 | (smr 
 3213) 2018_06_26-11_15-smr3209.\n
LOCATION:https://researchseminars.org/talk/ICTP_smr3213/13/
END:VEVENT
BEGIN:VEVENT
SUMMARY:M. Kleban (NYU)
DTSTART:20180625T134500Z
DTEND:20180625T144500Z
DTSTAMP:20260422T212934Z
UID:ICTP_smr3213/14
DESCRIPTION:Title: <a href="https://researchseminars.org/talk/ICTP_smr3213
 /14/">Inflation - Lecture 2</a>\nby M. Kleban (NYU) as part of Summer Scho
 ol on Cosmology 2018\n\nAbstract: TBA\n\nSpeaker: M. Kleban (NYU) Summer S
 chool on Cosmology 2018 | (smr 3213) 2018_06_25-15_45-smr3209.\n
LOCATION:https://researchseminars.org/talk/ICTP_smr3213/14/
END:VEVENT
BEGIN:VEVENT
SUMMARY:R. Sheth (UPenn)
DTSTART:20180620T091500Z
DTEND:20180620T101500Z
DTSTAMP:20260422T212934Z
UID:ICTP_smr3213/15
DESCRIPTION:Title: <a href="https://researchseminars.org/talk/ICTP_smr3213
 /15/">Large Scale Structure I - Lecture 2</a>\nby R. Sheth (UPenn) as part
  of Summer School on Cosmology 2018\n\nAbstract: TBA\n\nSpeaker: R. Sheth 
 (UPenn) Summer School on Cosmology 2018 | (smr 3213) 2018_06_20-11_15-smr3
 209.\n
LOCATION:https://researchseminars.org/talk/ICTP_smr3213/15/
END:VEVENT
BEGIN:VEVENT
SUMMARY:M. Kleban (NYU)
DTSTART:20180628T120000Z
DTEND:20180628T130000Z
DTSTAMP:20260422T212934Z
UID:ICTP_smr3213/16
DESCRIPTION:Title: <a href="https://researchseminars.org/talk/ICTP_smr3213
 /16/">Inflation - Lecture 3</a>\nby M. Kleban (NYU) as part of Summer Scho
 ol on Cosmology 2018\n\nAbstract: TBA\n\nSpeaker: M. Kleban (NYU) Summer S
 chool on Cosmology 2018 | (smr 3213) 2018_06_28-14_00-smr3213.\n
LOCATION:https://researchseminars.org/talk/ICTP_smr3213/16/
END:VEVENT
BEGIN:VEVENT
SUMMARY:M. Kleban (NYU)
DTSTART:20180629T071500Z
DTEND:20180629T081500Z
DTSTAMP:20260422T212934Z
UID:ICTP_smr3213/17
DESCRIPTION:Title: <a href="https://researchseminars.org/talk/ICTP_smr3213
 /17/">Inflation - Lecture 4</a>\nby M. Kleban (NYU) as part of Summer Scho
 ol on Cosmology 2018\n\nAbstract: TBA\n\nSpeaker: M. Kleban (NYU) Summer S
 chool on Cosmology 2018 | (smr 3213) 2018_06_29-09_15-smr3213.\n
LOCATION:https://researchseminars.org/talk/ICTP_smr3213/17/
END:VEVENT
BEGIN:VEVENT
SUMMARY:E. Komatsu (MPA\, Garching & Kavli IPMU\, Tokyo)
DTSTART:20180620T120000Z
DTEND:20180620T130000Z
DTSTAMP:20260422T212934Z
UID:ICTP_smr3213/18
DESCRIPTION:Title: <a href="https://researchseminars.org/talk/ICTP_smr3213
 /18/">CMB - Lecture 3</a>\nby E. Komatsu (MPA\, Garching & Kavli IPMU\, To
 kyo) as part of Summer School on Cosmology 2018\n\nAbstract: TBA\n\nSpeake
 r: E. Komatsu (MPA\, Garching & Kavli IPMU\, Tokyo) Summer School on Cosmo
 logy 2018 | (smr 3213) 2018_06_20-14_00-smr3209.\n
LOCATION:https://researchseminars.org/talk/ICTP_smr3213/18/
END:VEVENT
BEGIN:VEVENT
SUMMARY:L. Senatore (Stanford University and SLAC)
DTSTART:20180625T091500Z
DTEND:20180625T101500Z
DTSTAMP:20260422T212934Z
UID:ICTP_smr3213/19
DESCRIPTION:Title: <a href="https://researchseminars.org/talk/ICTP_smr3213
 /19/">Large Scale Structure II - Lecture 1</a>\nby L. Senatore (Stanford U
 niversity and SLAC) as part of Summer School on Cosmology 2018\n\nAbstract
 : TBA\n\nSpeaker: L. Senatore (Stanford University and SLAC) Summer School
  on Cosmology 2018 | (smr 3213) 2018_06_25-11_15-smr3209.\n
LOCATION:https://researchseminars.org/talk/ICTP_smr3213/19/
END:VEVENT
BEGIN:VEVENT
SUMMARY:R. Sheth (UPenn)
DTSTART:20180621T071500Z
DTEND:20180621T081500Z
DTSTAMP:20260422T212934Z
UID:ICTP_smr3213/20
DESCRIPTION:Title: <a href="https://researchseminars.org/talk/ICTP_smr3213
 /20/">Large Scale Structure I - Lecture 3</a>\nby R. Sheth (UPenn) as part
  of Summer School on Cosmology 2018\n\nAbstract: TBA\n\nSpeaker: R. Sheth 
 (UPenn) Summer School on Cosmology 2018 | (smr 3213) 2018_06_21-09_15-smr3
 209.\n
LOCATION:https://researchseminars.org/talk/ICTP_smr3213/20/
END:VEVENT
BEGIN:VEVENT
SUMMARY:E. Komatsu (MPA\, Garching & Kavli IPMU\, Tokyo)
DTSTART:20180621T091500Z
DTEND:20180621T101500Z
DTSTAMP:20260422T212934Z
UID:ICTP_smr3213/21
DESCRIPTION:Title: <a href="https://researchseminars.org/talk/ICTP_smr3213
 /21/">CMB - Lecture 4</a>\nby E. Komatsu (MPA\, Garching & Kavli IPMU\, To
 kyo) as part of Summer School on Cosmology 2018\n\nAbstract: TBA\n\nSpeake
 r: E. Komatsu (MPA\, Garching & Kavli IPMU\, Tokyo) Summer School on Cosmo
 logy 2018 | (smr 3213) 2018_06_21-11_15-smr3209.\n
LOCATION:https://researchseminars.org/talk/ICTP_smr3213/21/
END:VEVENT
BEGIN:VEVENT
SUMMARY:S. Babak (APC\, Paris)
DTSTART:20180620T071500Z
DTEND:20180620T081500Z
DTSTAMP:20260422T212934Z
UID:ICTP_smr3213/22
DESCRIPTION:Title: <a href="https://researchseminars.org/talk/ICTP_smr3213
 /22/">Gravitational Waves I - Lecture 3</a>\nby S. Babak (APC\, Paris) as 
 part of Summer School on Cosmology 2018\n\nAbstract: TBA\n\nSpeaker: S. Ba
 bak (APC\, Paris) Summer School on Cosmology 2018 | (smr 3213) 2018_06_20-
 09_15-smr3209.\n
LOCATION:https://researchseminars.org/talk/ICTP_smr3213/22/
END:VEVENT
BEGIN:VEVENT
SUMMARY:R. Sheth (UPenn)
DTSTART:20180622T091500Z
DTEND:20180622T101500Z
DTSTAMP:20260422T212934Z
UID:ICTP_smr3213/23
DESCRIPTION:Title: <a href="https://researchseminars.org/talk/ICTP_smr3213
 /23/">Large Scale Structure I - Lecture 4</a>\nby R. Sheth (UPenn) as part
  of Summer School on Cosmology 2018\n\nAbstract: TBA\n\nSpeaker: R. Sheth 
 (UPenn) Summer School on Cosmology 2018 | (smr 3213) 2018_06_22-11_15-smr3
 209.\n
LOCATION:https://researchseminars.org/talk/ICTP_smr3213/23/
END:VEVENT
BEGIN:VEVENT
SUMMARY:S. Babak (APC\, Paris)
DTSTART:20180622T120000Z
DTEND:20180622T130000Z
DTSTAMP:20260422T212934Z
UID:ICTP_smr3213/24
DESCRIPTION:Title: <a href="https://researchseminars.org/talk/ICTP_smr3213
 /24/">Gravitational Waves I - Lecture 4</a>\nby S. Babak (APC\, Paris) as 
 part of Summer School on Cosmology 2018\n\nAbstract: TBA\n\nSpeaker: S. Ba
 bak (APC\, Paris) Summer School on Cosmology 2018 | (smr 3213) 2018_06_22-
 14_00-smr3209.\n
LOCATION:https://researchseminars.org/talk/ICTP_smr3213/24/
END:VEVENT
BEGIN:VEVENT
SUMMARY:L. Senatore (Stanford University and SLAC)
DTSTART:20180629T091500Z
DTEND:20180629T101500Z
DTSTAMP:20260422T212934Z
UID:ICTP_smr3213/25
DESCRIPTION:Title: <a href="https://researchseminars.org/talk/ICTP_smr3213
 /25/">Large Scale Structure II - Lecture 4</a>\nby L. Senatore (Stanford U
 niversity and SLAC) as part of Summer School on Cosmology 2018\n\nAbstract
 : TBA\n\nSpeaker: L. Senatore (Stanford University and SLAC) Summer School
  on Cosmology 2018 | (smr 3213) 2018_06_29-11_15-smr3213.\n
LOCATION:https://researchseminars.org/talk/ICTP_smr3213/25/
END:VEVENT
BEGIN:VEVENT
SUMMARY:V. Cardoso (Lisboa University)
DTSTART:20180628T070000Z
DTEND:20180628T080000Z
DTSTAMP:20260422T212934Z
UID:ICTP_smr3213/26
DESCRIPTION:Title: <a href="https://researchseminars.org/talk/ICTP_smr3213
 /26/">Gravitational Waves II - Lecture 3</a>\nby V. Cardoso (Lisboa Univer
 sity) as part of Summer School on Cosmology 2018\n\nAbstract: TBA\n\nSpeak
 er: V. Cardoso (Lisboa University) Summer School on Cosmology 2018 | (smr 
 3213) 2018_06_28-09_00-smr3213.\n
LOCATION:https://researchseminars.org/talk/ICTP_smr3213/26/
END:VEVENT
BEGIN:VEVENT
SUMMARY:V. Cardoso (Lisboa University)
DTSTART:20180627T091500Z
DTEND:20180627T101500Z
DTSTAMP:20260422T212934Z
UID:ICTP_smr3213/27
DESCRIPTION:Title: <a href="https://researchseminars.org/talk/ICTP_smr3213
 /27/">Gravitational Waves II - Lecture 2</a>\nby V. Cardoso (Lisboa Univer
 sity) as part of Summer School on Cosmology 2018\n\nAbstract: TBA\n\nSpeak
 er: V. Cardoso (Lisboa University) Summer School on Cosmology 2018 | (smr 
 3213) 2018_06_27-11_15-smr3213.\n
LOCATION:https://researchseminars.org/talk/ICTP_smr3213/27/
END:VEVENT
BEGIN:VEVENT
SUMMARY:L. Senatore (Stanford University and SLAC)
DTSTART:20180626T120000Z
DTEND:20180626T130000Z
DTSTAMP:20260422T212934Z
UID:ICTP_smr3213/28
DESCRIPTION:Title: <a href="https://researchseminars.org/talk/ICTP_smr3213
 /28/">Large Scale Structure II - Lecture 2</a>\nby L. Senatore (Stanford U
 niversity and SLAC) as part of Summer School on Cosmology 2018\n\nAbstract
 : TBA\n\nSpeaker: L. Senatore (Stanford University and SLAC) Summer School
  on Cosmology 2018 | (smr 3213) 2018_06_26-14_00-smr3209.\n
LOCATION:https://researchseminars.org/talk/ICTP_smr3213/28/
END:VEVENT
BEGIN:VEVENT
SUMMARY:L. Senatore (Stanford University and SLAC)
DTSTART:20180626T134500Z
DTEND:20180626T144500Z
DTSTAMP:20260422T212934Z
UID:ICTP_smr3213/29
DESCRIPTION:Title: <a href="https://researchseminars.org/talk/ICTP_smr3213
 /29/">Large Scale Structure II - Lecture 3</a>\nby L. Senatore (Stanford U
 niversity and SLAC) as part of Summer School on Cosmology 2018\n\nAbstract
 : TBA\n\nSpeaker: L. Senatore (Stanford University and SLAC) Summer School
  on Cosmology 2018 | (smr 3213) 2018_06_26-15_45-smr3213.\n
LOCATION:https://researchseminars.org/talk/ICTP_smr3213/29/
END:VEVENT
END:VCALENDAR
