BEGIN:VCALENDAR
VERSION:2.0
PRODID:researchseminars.org
CALSCALE:GREGORIAN
X-WR-CALNAME:researchseminars.org
BEGIN:VEVENT
SUMMARY:M. Lisanti (Princeton University)
DTSTART:20160310T091500Z
DTEND:20160310T101500Z
DTSTAMP:20260422T212931Z
UID:ICTP_smr2842/1
DESCRIPTION:Title: <a href="https://researchseminars.org/talk/ICTP_smr2842
 /1/">The Physics of Dark Matter - Lecture 1</a>\nby M. Lisanti (Princeton 
 University) as part of Spring School on Superstring Theory and Related Top
 ics\n\nAbstract: TBA\n\nThe Physics of Dark Matter - Lecture 1 Speaker: M.
  Lisanti (Princeton University) Spring School on Superstring Theory and Re
 lated Topics | (smr 2842) 2016_03_10-10_15-smr2842\n
LOCATION:https://researchseminars.org/talk/ICTP_smr2842/1/
END:VEVENT
BEGIN:VEVENT
SUMMARY:N. Arkani-Hamed (IAS\, Princeton)
DTSTART:20160317T133000Z
DTEND:20160317T143000Z
DTSTAMP:20260422T212931Z
UID:ICTP_smr2842/6
DESCRIPTION:Title: <a href="https://researchseminars.org/talk/ICTP_smr2842
 /6/">The Amplituhedron - Lecture 1</a>\nby N. Arkani-Hamed (IAS\, Princeto
 n) as part of Spring School on Superstring Theory and Related Topics\n\nAb
 stract: TBA\n\nThe Amplituhedron - Lecture 1 Speaker: N. Arkani-Hamed (IAS
 \, Princeton) Spring School on Superstring Theory and Related Topics | (sm
 r 2842) 2016_03_17-14_30-smr2842\n
LOCATION:https://researchseminars.org/talk/ICTP_smr2842/6/
END:VEVENT
BEGIN:VEVENT
SUMMARY:M. Lisanti (Princeton University)
DTSTART:20160310T103000Z
DTEND:20160310T113000Z
DTSTAMP:20260422T212931Z
UID:ICTP_smr2842/7
DESCRIPTION:Title: <a href="https://researchseminars.org/talk/ICTP_smr2842
 /7/">The Physics of Dark Matter - Lecture 2</a>\nby M. Lisanti (Princeton 
 University) as part of Spring School on Superstring Theory and Related Top
 ics\n\nAbstract: TBA\n\nThe Physics of Dark Matter - Lecture 2 Speaker: M.
  Lisanti (Princeton University) Spring School on Superstring Theory and Re
 lated Topics | (smr 2842) 2016_03_10-11_30-smr2842\n
LOCATION:https://researchseminars.org/talk/ICTP_smr2842/7/
END:VEVENT
BEGIN:VEVENT
SUMMARY:N. Arkani-Hamed (IAS\, Princeton)
DTSTART:20160318T091500Z
DTEND:20160318T101500Z
DTSTAMP:20260422T212931Z
UID:ICTP_smr2842/8
DESCRIPTION:Title: <a href="https://researchseminars.org/talk/ICTP_smr2842
 /8/">The Amplituhedron - Lecture 3</a>\nby N. Arkani-Hamed (IAS\, Princeto
 n) as part of Spring School on Superstring Theory and Related Topics\n\nAb
 stract: TBA\n\nThe Amplituhedron - Lecture 3 Speaker: N. Arkani-Hamed (IAS
 \, Princeton) Spring School on Superstring Theory and Related Topics | (sm
 r 2842) 2016_03_18-10_15-smr2842\n
LOCATION:https://researchseminars.org/talk/ICTP_smr2842/8/
END:VEVENT
BEGIN:VEVENT
SUMMARY:M. Lisanti (Princeton University)
DTSTART:20160310T133000Z
DTEND:20160310T143000Z
DTSTAMP:20260422T212931Z
UID:ICTP_smr2842/9
DESCRIPTION:Title: <a href="https://researchseminars.org/talk/ICTP_smr2842
 /9/">The Physics of Dark Matter - Lecture 3</a>\nby M. Lisanti (Princeton 
 University) as part of Spring School on Superstring Theory and Related Top
 ics\n\nAbstract: TBA\n\nThe Physics of Dark Matter - Lecture 3 Speaker: M.
  Lisanti (Princeton University) Spring School on Superstring Theory and Re
 lated Topics | (smr 2842) 2016_03_10-14_30-smr2842\n
LOCATION:https://researchseminars.org/talk/ICTP_smr2842/9/
END:VEVENT
BEGIN:VEVENT
SUMMARY:N. Arkani-Hamed (IAS\, Princeton)
DTSTART:20160318T080000Z
DTEND:20160318T090000Z
DTSTAMP:20260422T212931Z
UID:ICTP_smr2842/10
DESCRIPTION:Title: <a href="https://researchseminars.org/talk/ICTP_smr2842
 /10/">The Amplituhedron - Lecture 2</a>\nby N. Arkani-Hamed (IAS\, Princet
 on) as part of Spring School on Superstring Theory and Related Topics\n\nA
 bstract: TBA\n\nThe Amplituhedron - Lecture 2 Speaker: N. Arkani-Hamed (IA
 S\, Princeton) Spring School on Superstring Theory and Related Topics | (s
 mr 2842) 2016_03_18-09_00-smr2842\n
LOCATION:https://researchseminars.org/talk/ICTP_smr2842/10/
END:VEVENT
BEGIN:VEVENT
SUMMARY:V. Rychkov (ENS\, Paris & CERN)
DTSTART:20160311T080000Z
DTEND:20160311T090000Z
DTSTAMP:20260422T212931Z
UID:ICTP_smr2842/11
DESCRIPTION:Title: <a href="https://researchseminars.org/talk/ICTP_smr2842
 /11/">Conformal Bootstrap - Lecture 1</a>\nby V. Rychkov (ENS\, Paris & CE
 RN) as part of Spring School on Superstring Theory and Related Topics\n\nA
 bstract: TBA\n\nConformal Bootstrap - Lecture 1 Speaker: V. Rychkov (ENS\,
  Paris & CERN) Spring School on Superstring Theory and Related Topics | (s
 mr 2842) 2016_03_11-09_00-smr2842\n
LOCATION:https://researchseminars.org/talk/ICTP_smr2842/11/
END:VEVENT
BEGIN:VEVENT
SUMMARY:Z. Komargodski (Weizmann Institute)
DTSTART:20160314T133000Z
DTEND:20160314T143000Z
DTSTAMP:20260422T212931Z
UID:ICTP_smr2842/12
DESCRIPTION:Title: <a href="https://researchseminars.org/talk/ICTP_smr2842
 /12/">N=2 Superconformal Field Theories and the Space of Theories</a>\nby 
 Z. Komargodski (Weizmann Institute) as part of Spring School on Superstrin
 g Theory and Related Topics\n\nAbstract: TBA\n\nN=2 Superconformal Field T
 heories and the Space of Theories Speaker: Z. Komargodski (Weizmann Instit
 ute) Spring School on Superstring Theory and Related Topics | (smr 2842) 2
 016_03_14-14_30-smr2842\n
LOCATION:https://researchseminars.org/talk/ICTP_smr2842/12/
END:VEVENT
BEGIN:VEVENT
SUMMARY:J. Harvey (University of Chicago)
DTSTART:20160315T091500Z
DTEND:20160315T101500Z
DTSTAMP:20260422T212931Z
UID:ICTP_smr2842/13
DESCRIPTION:Title: <a href="https://researchseminars.org/talk/ICTP_smr2842
 /13/">Moonshine and String Theory - Lecture 1</a>\nby J. Harvey (Universit
 y of Chicago) as part of Spring School on Superstring Theory and Related T
 opics\n\nAbstract: TBA\n\nMoonshine and String Theory - Lecture 1 Speaker:
  J. Harvey (University of Chicago) Spring School on Superstring Theory and
  Related Topics | (smr 2842) 2016_03_15-10_15-smr2842\n
LOCATION:https://researchseminars.org/talk/ICTP_smr2842/13/
END:VEVENT
BEGIN:VEVENT
SUMMARY:M. Van (University of British Columbia)
DTSTART:20160312T091500Z
DTEND:20160312T101500Z
DTSTAMP:20260422T212931Z
UID:ICTP_smr2842/14
DESCRIPTION:Title: <a href="https://researchseminars.org/talk/ICTP_smr2842
 /14/">Gravity and Entanglement - Lecture 3</a>\nby M. Van (University of B
 ritish Columbia) as part of Spring School on Superstring Theory and Relate
 d Topics\n\nAbstract: TBA\n\nGravity and Entanglement - Lecture 3 Speaker:
  M. Van Raamsdonk (University of British Columbia) Spring School on Supers
 tring Theory and Related Topics | (smr 2842) 2016_03_12-10_15-smr2842\n
LOCATION:https://researchseminars.org/talk/ICTP_smr2842/14/
END:VEVENT
BEGIN:VEVENT
SUMMARY:M. Van (University of British Columbia)
DTSTART:20160311T133000Z
DTEND:20160311T143000Z
DTSTAMP:20260422T212931Z
UID:ICTP_smr2842/15
DESCRIPTION:Title: <a href="https://researchseminars.org/talk/ICTP_smr2842
 /15/">Gravity and Entanglement - Lecture 2</a>\nby M. Van (University of B
 ritish Columbia) as part of Spring School on Superstring Theory and Relate
 d Topics\n\nAbstract: TBA\n\nGravity and Entanglement - Lecture 2  Speaker
 : M. Van Raamsdonk (University of British Columbia) Spring School on Super
 string Theory and Related Topics | (smr 2842) 2016_03_11-14_30-smr2842\n
LOCATION:https://researchseminars.org/talk/ICTP_smr2842/15/
END:VEVENT
BEGIN:VEVENT
SUMMARY:Z. Komargodski (Weizmann Institute)
DTSTART:20160315T080000Z
DTEND:20160315T090000Z
DTSTAMP:20260422T212931Z
UID:ICTP_smr2842/16
DESCRIPTION:Title: <a href="https://researchseminars.org/talk/ICTP_smr2842
 /16/">The S-matrix Bootstrap program revived</a>\nby Z. Komargodski (Weizm
 ann Institute) as part of Spring School on Superstring Theory and Related 
 Topics\n\nAbstract: TBA\n\nThe S-matrix Bootstrap program revived Speaker:
  Z. Komargodski (Weizmann Institute) Spring School on Superstring Theory a
 nd Related Topics | (smr 2842) 2016_03_15-09_00-smr2842\n
LOCATION:https://researchseminars.org/talk/ICTP_smr2842/16/
END:VEVENT
BEGIN:VEVENT
SUMMARY:V. Rychkov (ENS\, Paris & CERN)
DTSTART:20160312T103000Z
DTEND:20160312T113000Z
DTSTAMP:20260422T212931Z
UID:ICTP_smr2842/17
DESCRIPTION:Title: <a href="https://researchseminars.org/talk/ICTP_smr2842
 /17/">Conformal Bootstrap - Lecture 4</a>\nby V. Rychkov (ENS\, Paris & CE
 RN) as part of Spring School on Superstring Theory and Related Topics\n\nA
 bstract: TBA\n\nConformal Bootstrap - Lecture 4 Speaker: V. Rychkov (ENS\,
  Paris & CERN) Spring School on Superstring Theory and Related Topics | (s
 mr 2842) 2016_03_12-11_30-smr2842\n
LOCATION:https://researchseminars.org/talk/ICTP_smr2842/17/
END:VEVENT
BEGIN:VEVENT
SUMMARY:S. Minwalla (TIFR\, Mumbai)
DTSTART:20160316T091500Z
DTEND:20160316T101500Z
DTSTAMP:20260422T212931Z
UID:ICTP_smr2842/18
DESCRIPTION:Title: <a href="https://researchseminars.org/talk/ICTP_smr2842
 /18/">Black Hole dynamics at Large D - Lecture 2</a>\nby S. Minwalla (TIFR
 \, Mumbai) as part of Spring School on Superstring Theory and Related Topi
 cs\n\nAbstract: TBA\n\nBlack Hole dynamics at Large D - Lecture 2 Speaker:
  S. Minwalla (TIFR\, Mumbai) Spring School on Superstring Theory and Relat
 ed Topics | (smr 2842) 2016_03_16-10_15-smr2842\n
LOCATION:https://researchseminars.org/talk/ICTP_smr2842/18/
END:VEVENT
BEGIN:VEVENT
SUMMARY:V. Rychkov (ENS\, Paris & CERN)
DTSTART:20160312T080000Z
DTEND:20160312T090000Z
DTSTAMP:20260422T212931Z
UID:ICTP_smr2842/19
DESCRIPTION:Title: <a href="https://researchseminars.org/talk/ICTP_smr2842
 /19/">Conformal Bootstrap - Lecture 3</a>\nby V. Rychkov (ENS\, Paris & CE
 RN) as part of Spring School on Superstring Theory and Related Topics\n\nA
 bstract: TBA\n\nConformal Bootstrap - Lecture 3 Speaker: V. Rychkov (ENS\,
  Paris & CERN) Spring School on Superstring Theory and Related Topics | (s
 mr 2842) 2016_03_12-09_00-smr2842\n
LOCATION:https://researchseminars.org/talk/ICTP_smr2842/19/
END:VEVENT
BEGIN:VEVENT
SUMMARY:V. Rychkov (ENS\, Paris & CERN)
DTSTART:20160311T103000Z
DTEND:20160311T113000Z
DTSTAMP:20260422T212931Z
UID:ICTP_smr2842/20
DESCRIPTION:Title: <a href="https://researchseminars.org/talk/ICTP_smr2842
 /20/">Conformal Bootstrap - Lecture 2</a>\nby V. Rychkov (ENS\, Paris & CE
 RN) as part of Spring School on Superstring Theory and Related Topics\n\nA
 bstract: TBA\n\nConformal Bootstrap - Lecture 2 Speaker: V. Rychkov (ENS\,
  Paris & CERN) Spring School on Superstring Theory and Related Topics | (s
 mr 2842) 2016_03_11-11_30-smr2842\n
LOCATION:https://researchseminars.org/talk/ICTP_smr2842/20/
END:VEVENT
BEGIN:VEVENT
SUMMARY:M. Van (University of British Columbia)
DTSTART:20160314T091500Z
DTEND:20160314T101500Z
DTSTAMP:20260422T212931Z
UID:ICTP_smr2842/21
DESCRIPTION:Title: <a href="https://researchseminars.org/talk/ICTP_smr2842
 /21/">Gravity and Entanglement - Lecture 4</a>\nby M. Van (University of B
 ritish Columbia) as part of Spring School on Superstring Theory and Relate
 d Topics\n\nAbstract: TBA\n\nGravity and Entanglement - Lecture 4 Speaker:
  M. Van Raamsdonk (University of British Columbia) Spring School on Supers
 tring Theory and Related Topics | (smr 2842) 2016_03_14-10_15-smr2842\n
LOCATION:https://researchseminars.org/talk/ICTP_smr2842/21/
END:VEVENT
BEGIN:VEVENT
SUMMARY:R. Gopakumar (ICTS-TIFR\, Bengaluru)
DTSTART:20160318T103000Z
DTEND:20160318T113000Z
DTSTAMP:20260422T212931Z
UID:ICTP_smr2842/22
DESCRIPTION:Title: <a href="https://researchseminars.org/talk/ICTP_smr2842
 /22/">The Mellin Representation of CFT Amplitudes - Lecture 3</a>\nby R. G
 opakumar (ICTS-TIFR\, Bengaluru) as part of Spring School on Superstring T
 heory and Related Topics\n\nAbstract: TBA\n\nThe Mellin Representation of 
 CFT Amplitudes - Lecture 3 Speaker: R. Gopakumar (ICTS-TIFR\, Bengaluru) S
 pring School on Superstring Theory and Related Topics | (smr 2842) 2016_03
 _18-11_30-smr2842\n
LOCATION:https://researchseminars.org/talk/ICTP_smr2842/22/
END:VEVENT
BEGIN:VEVENT
SUMMARY:R. Gopakumar (ICTS-TIFR\, Bengaluru)
DTSTART:20160317T103000Z
DTEND:20160317T113000Z
DTSTAMP:20260422T212931Z
UID:ICTP_smr2842/23
DESCRIPTION:Title: <a href="https://researchseminars.org/talk/ICTP_smr2842
 /23/">The Mellin Representation of CFT Amplitudes - Lecture 2</a>\nby R. G
 opakumar (ICTS-TIFR\, Bengaluru) as part of Spring School on Superstring T
 heory and Related Topics\n\nAbstract: TBA\n\nThe Mellin Representation of 
 CFT Amplitudes - Lecture 2 Speaker: R. Gopakumar (ICTS-TIFR\, Bengaluru) S
 pring School on Superstring Theory and Related Topics | (smr 2842) 2016_03
 _17-11_30-smr2842\n
LOCATION:https://researchseminars.org/talk/ICTP_smr2842/23/
END:VEVENT
BEGIN:VEVENT
SUMMARY:J. Harvey (University of Chicago)
DTSTART:20160316T080000Z
DTEND:20160316T090000Z
DTSTAMP:20260422T212931Z
UID:ICTP_smr2842/24
DESCRIPTION:Title: <a href="https://researchseminars.org/talk/ICTP_smr2842
 /24/">Moonshine and String Theory - Lecture 3</a>\nby J. Harvey (Universit
 y of Chicago) as part of Spring School on Superstring Theory and Related T
 opics\n\nAbstract: TBA\n\nMoonshine and String Theory - Lecture 3 Speaker:
  J. Harvey (University of Chicago) Spring School on Superstring Theory and
  Related Topics | (smr 2842) 2016_03_16-09_00-smr2842\n
LOCATION:https://researchseminars.org/talk/ICTP_smr2842/24/
END:VEVENT
BEGIN:VEVENT
SUMMARY:R. Gopakumar (ICTS-TIFR\, Bengaluru)
DTSTART:20160318T133000Z
DTEND:20160318T143000Z
DTSTAMP:20260422T212931Z
UID:ICTP_smr2842/25
DESCRIPTION:Title: <a href="https://researchseminars.org/talk/ICTP_smr2842
 /25/">The Mellin Representation of CFT Amplitudes - Lecture 4</a>\nby R. G
 opakumar (ICTS-TIFR\, Bengaluru) as part of Spring School on Superstring T
 heory and Related Topics\n\nAbstract: TBA\n\nThe Mellin Representation of 
 CFT Amplitudes - Lecture 4 Speaker: R. Gopakumar (ICTS-TIFR\, Bengaluru) S
 pring School on Superstring Theory and Related Topics | (smr 2842) 2016_03
 _18-14_30-smr2842\n
LOCATION:https://researchseminars.org/talk/ICTP_smr2842/25/
END:VEVENT
END:VCALENDAR
