BEGIN:VCALENDAR
VERSION:2.0
PRODID:researchseminars.org
CALSCALE:GREGORIAN
X-WR-CALNAME:researchseminars.org
BEGIN:VEVENT
SUMMARY:N.J. Berkovits (UNESP\, Sao Paulo)
DTSTART:20150330T070000Z
DTEND:20150330T080000Z
DTSTAMP:20260422T213017Z
UID:ICTP_smr2728/1
DESCRIPTION:Title: <a href="https://researchseminars.org/talk/ICTP_smr2728
 /1/">Twistors and the Pure Spinor Formalism - Lecture 1</a>\nby N.J. Berko
 vits (UNESP\, Sao Paulo) as part of Spring School on Superstring Theory an
 d Related Topics\n\nAbstract: TBA\n\nTwistors and the Pure Spinor Formalis
 m - Lecture 1 Speaker: N.J. Berkovits (UNESP\, Sao Paulo) Spring School on
  Superstring Theory and Related Topics | (smr 2728) 2015_03_30-09_00-smr27
 28\n
LOCATION:https://researchseminars.org/talk/ICTP_smr2728/1/
END:VEVENT
BEGIN:VEVENT
SUMMARY:Y. (University of Tokyo and IPMU)
DTSTART:20150327T080000Z
DTEND:20150327T090000Z
DTSTAMP:20260422T213017Z
UID:ICTP_smr2728/2
DESCRIPTION:Title: <a href="https://researchseminars.org/talk/ICTP_smr2728
 /2/">S-dualities in 4d N=2 supersymmetric theories - Lecture 1</a>\nby Y. 
 (University of Tokyo and IPMU) as part of Spring School on Superstring The
 ory and Related Topics\n\nAbstract: TBA\n\nS-dualities in 4d N=2 supersymm
 etric theories - Lecture 1 Speaker:  Y. Tachikawa (University of Tokyo and
  IPMU) Spring School on Superstring Theory and Related Topics | (smr 2728)
  2015_03_27-09_00-smr2728\n
LOCATION:https://researchseminars.org/talk/ICTP_smr2728/2/
END:VEVENT
BEGIN:VEVENT
SUMMARY:R. Gopakumar (HRI\, Allahabad)
DTSTART:20150325T091500Z
DTEND:20150325T101500Z
DTSTAMP:20260422T213017Z
UID:ICTP_smr2728/3
DESCRIPTION:Title: <a href="https://researchseminars.org/talk/ICTP_smr2728
 /3/">From Higher Spins to Strings - Lecture 1</a>\nby R. Gopakumar (HRI\, 
 Allahabad) as part of Spring School on Superstring Theory and Related Topi
 cs\n\nAbstract: TBA\n\nSpeaker: R. Gopakumar (HRI\, Allahabad) Spring Scho
 ol on Superstring Theory and Related Topics | (smr 2728) 2015_03_25-10_15-
 smr2728.\n
LOCATION:https://researchseminars.org/talk/ICTP_smr2728/3/
END:VEVENT
BEGIN:VEVENT
SUMMARY:M. Mariño (UNIGE\, Geneva)
DTSTART:20150326T091500Z
DTEND:20150326T101500Z
DTSTAMP:20260422T213017Z
UID:ICTP_smr2728/4
DESCRIPTION:Title: <a href="https://researchseminars.org/talk/ICTP_smr2728
 /4/">Non-perturbative effects in string theory and AdS/CFT - Lecture 1</a>
 \nby M. Mariño (UNIGE\, Geneva) as part of Spring School on Superstring T
 heory and Related Topics\n\nAbstract: TBA\n\nNon-perturbative effects in s
 tring theory and AdS/CFT - Lecture 1 Speaker: M. Mariño (UNIGE\, Geneva) 
 Spring School on Superstring Theory and Related Topics | (smr 2728) 2015_0
 3_26-10_15-smr2728\n
LOCATION:https://researchseminars.org/talk/ICTP_smr2728/4/
END:VEVENT
BEGIN:VEVENT
SUMMARY:F.A. Cachazo (Perimeter Institute)
DTSTART:20150331T070000Z
DTEND:20150331T080000Z
DTSTAMP:20260422T213017Z
UID:ICTP_smr2728/5
DESCRIPTION:Title: <a href="https://researchseminars.org/talk/ICTP_smr2728
 /5/">From Twistor Strings to Dirac-Born-Infeld - Lecture 1</a>\nby F.A. Ca
 chazo (Perimeter Institute) as part of Spring School on Superstring Theory
  and Related Topics\n\nAbstract: TBA\n\nFrom Twistor Strings to Dirac-Born
 -Infeld - Lecture 1 Speaker: F.A. Cachazo (Perimeter Institute) Spring Sch
 ool on Superstring Theory and Related Topics | (smr 2728) 2015_03_31-09_00
 -smr2728\n
LOCATION:https://researchseminars.org/talk/ICTP_smr2728/5/
END:VEVENT
BEGIN:VEVENT
SUMMARY:S. Caron-Huot (NBI\, Copenhagen)
DTSTART:20150325T103000Z
DTEND:20150325T113000Z
DTSTAMP:20260422T213017Z
UID:ICTP_smr2728/6
DESCRIPTION:Title: <a href="https://researchseminars.org/talk/ICTP_smr2728
 /6/">Scattering amplitudes in supersymmetric gauge theory - Lecture 1</a>\
 nby S. Caron-Huot (NBI\, Copenhagen) as part of Spring School on Superstri
 ng Theory and Related Topics\n\nAbstract: TBA\n\nScattering amplitudes in 
 supersymmetric gauge theory - Lecture 1 Speaker: S. Caron-Huot (NBI\, Cope
 nhagen) Spring School on Superstring Theory and Related Topics | (smr 2728
 ) 2015_03_25-11_30-smr2728\n
LOCATION:https://researchseminars.org/talk/ICTP_smr2728/6/
END:VEVENT
BEGIN:VEVENT
SUMMARY:Y. Tachikawa (University of Tokyo and IPMU)
DTSTART:20150328T080000Z
DTEND:20150328T090000Z
DTSTAMP:20260422T213017Z
UID:ICTP_smr2728/7
DESCRIPTION:Title: <a href="https://researchseminars.org/talk/ICTP_smr2728
 /7/">S-dualities in 4d N=2 supersymmetric theories - Lecture 2</a>\nby Y. 
 Tachikawa (University of Tokyo and IPMU) as part of Spring School on Super
 string Theory and Related Topics\n\nAbstract: TBA\n\nS-dualities in 4d N=2
  supersymmetric theories - Lecture 2 Speaker: Y. Tachikawa (University of 
 Tokyo and IPMU) Spring School on Superstring Theory and Related Topics | (
 smr 2728) 2015_03_28-09_00-smr2728\n
LOCATION:https://researchseminars.org/talk/ICTP_smr2728/7/
END:VEVENT
BEGIN:VEVENT
SUMMARY:N.J. Berkovits (UNESP\, Sao Paulo)
DTSTART:20150331T123000Z
DTEND:20150331T133000Z
DTSTAMP:20260422T213017Z
UID:ICTP_smr2728/8
DESCRIPTION:Title: <a href="https://researchseminars.org/talk/ICTP_smr2728
 /8/">Twistors and the Pure Spinor Formalism - Lecture 3</a>\nby N.J. Berko
 vits (UNESP\, Sao Paulo) as part of Spring School on Superstring Theory an
 d Related Topics\n\nAbstract: TBA\n\nFrom Twistor Strings to Dirac-Born-In
 feld - Lecture 3 Speaker: N.J. Berkovits (UNESP\, Sao Paulo) Spring School
  on Superstring Theory and Related Topics | (smr 2728) 2015_03_31-14_30-sm
 r2728\n
LOCATION:https://researchseminars.org/talk/ICTP_smr2728/8/
END:VEVENT
BEGIN:VEVENT
SUMMARY:M. Mariño (UNIGE\, Geneva)
DTSTART:20150326T133000Z
DTEND:20150326T143000Z
DTSTAMP:20260422T213017Z
UID:ICTP_smr2728/9
DESCRIPTION:Title: <a href="https://researchseminars.org/talk/ICTP_smr2728
 /9/">Non-perturbative effects in string theory and AdS/CFT - Lecture 2</a>
 \nby M. Mariño (UNIGE\, Geneva) as part of Spring School on Superstring T
 heory and Related Topics\n\nAbstract: TBA\n\nNon-perturbative effects in s
 tring theory and AdS/CFT - Lecture 2 Speaker: M. Mariño (UNIGE\, Geneva) 
 Spring School on Superstring Theory and Related Topics | (smr 2728) 2015_0
 3_26-14_30-smr2728\n
LOCATION:https://researchseminars.org/talk/ICTP_smr2728/9/
END:VEVENT
BEGIN:VEVENT
SUMMARY:Y. Tachikawa (University of Tokyo and IPMU)
DTSTART:20150330T081500Z
DTEND:20150330T091500Z
DTSTAMP:20260422T213017Z
UID:ICTP_smr2728/10
DESCRIPTION:Title: <a href="https://researchseminars.org/talk/ICTP_smr2728
 /10/">S-dualities in 4d N=2 supersymmetric theories - Lecture 3</a>\nby Y.
  Tachikawa (University of Tokyo and IPMU) as part of Spring School on Supe
 rstring Theory and Related Topics\n\nAbstract: TBA\n\nS-dualities in 4d N=
 2 supersymmetric theories - Lecture 3 Speaker: Y. Tachikawa (University of
  Tokyo and IPMU) Spring School on Superstring Theory and Related Topics | 
 (smr 2728) 2015_03_30-10_15-smr2728\n
LOCATION:https://researchseminars.org/talk/ICTP_smr2728/10/
END:VEVENT
BEGIN:VEVENT
SUMMARY:N.J. Berkovits (UNESP\, Sao Paulo)
DTSTART:20150401T081500Z
DTEND:20150401T091500Z
DTSTAMP:20260422T213017Z
UID:ICTP_smr2728/11
DESCRIPTION:Title: <a href="https://researchseminars.org/talk/ICTP_smr2728
 /11/">Twistors and the Pure Spinor Formalism - Lecture 4</a>\nby N.J. Berk
 ovits (UNESP\, Sao Paulo) as part of Spring School on Superstring Theory a
 nd Related Topics\n\nAbstract: TBA\n\nTwistors and the Pure Spinor Formali
 sm - Lecture 4 Speaker: N.J. Berkovits (UNESP\, Sao Paulo) Spring School o
 n Superstring Theory and Related Topics | (smr 2728) 2015_04_01-10_15-smr2
 728.\n
LOCATION:https://researchseminars.org/talk/ICTP_smr2728/11/
END:VEVENT
BEGIN:VEVENT
SUMMARY:Y. (University of Tokyo and IPMU)
DTSTART:20150331T081500Z
DTEND:20150331T091500Z
DTSTAMP:20260422T213017Z
UID:ICTP_smr2728/12
DESCRIPTION:Title: <a href="https://researchseminars.org/talk/ICTP_smr2728
 /12/">S-dualities in 4d N=2 supersymmetric theories - Lecture 4</a>\nby Y.
  (University of Tokyo and IPMU) as part of Spring School on Superstring Th
 eory and Related Topics\n\nAbstract: TBA\n\nS-dualities in 4d N=2 supersym
 metric theories - Lecture 4  Speaker:  Y. Tachikawa (University of Tokyo a
 nd IPMU) Spring School on Superstring Theory and Related Topics | (smr 272
 8) 2015_03_31-10_15-smr2728\n
LOCATION:https://researchseminars.org/talk/ICTP_smr2728/12/
END:VEVENT
BEGIN:VEVENT
SUMMARY:A. Sen (HRI\, Allahabad)
DTSTART:20150330T093000Z
DTEND:20150330T103000Z
DTSTAMP:20260422T213017Z
UID:ICTP_smr2728/13
DESCRIPTION:Title: <a href="https://researchseminars.org/talk/ICTP_smr2728
 /13/">Aspects of Superstring Perturbation Theory - Lecture 1</a>\nby A. Se
 n (HRI\, Allahabad) as part of Spring School on Superstring Theory and Rel
 ated Topics\n\nAbstract: TBA\n\nAspects of Superstring Perturbation Theory
  - Lecture 1 Speaker: A. Sen (HRI\, Allahabad) Spring School on Superstrin
 g Theory and Related Topics | (smr 2728) 2015_03_30-11_30-smr2728\n
LOCATION:https://researchseminars.org/talk/ICTP_smr2728/13/
END:VEVENT
BEGIN:VEVENT
SUMMARY:F.A. Cachazo (Perimeter Institute)
DTSTART:20150401T123000Z
DTEND:20150401T133000Z
DTSTAMP:20260422T213017Z
UID:ICTP_smr2728/14
DESCRIPTION:Title: <a href="https://researchseminars.org/talk/ICTP_smr2728
 /14/">From Twistor Strings to Dirac-Born-Infeld - Lecture 3</a>\nby F.A. C
 achazo (Perimeter Institute) as part of Spring School on Superstring Theor
 y and Related Topics\n\nAbstract: TBA\n\nFrom Twistor Strings to Dirac-Bor
 n-Infeld - Lecture 3 Speaker: F.A. Cachazo (Perimeter Institute) Spring Sc
 hool on Superstring Theory and Related Topics | (smr 2728) 2015_04_01-14_3
 0-smr2728\n
LOCATION:https://researchseminars.org/talk/ICTP_smr2728/14/
END:VEVENT
BEGIN:VEVENT
SUMMARY:N. Arkani-Hamed (via SKYPE)
DTSTART:20150328T103000Z
DTEND:20150328T113000Z
DTSTAMP:20260422T213017Z
UID:ICTP_smr2728/15
DESCRIPTION:Title: <a href="https://researchseminars.org/talk/ICTP_smr2728
 /15/">Collider Physics at LHC and Beyond (via SKYPE)</a>\nby N. Arkani-Ham
 ed (via SKYPE) as part of Spring School on Superstring Theory and Related 
 Topics\n\nAbstract: TBA\n\nCollider Physics at LHC and Beyond (via SKYPE) 
 Speaker: N. Arkani-Hamed (IAS\, Princeton) Spring School on Superstring Th
 eory and Related Topics | (smr 2728) 2015_03_28-11_30-smr2728\n
LOCATION:https://researchseminars.org/talk/ICTP_smr2728/15/
END:VEVENT
BEGIN:VEVENT
SUMMARY:F.A. Cachazo (Perimeter Institute)
DTSTART:20150401T070000Z
DTEND:20150401T080000Z
DTSTAMP:20260422T213017Z
UID:ICTP_smr2728/16
DESCRIPTION:Title: <a href="https://researchseminars.org/talk/ICTP_smr2728
 /16/">From Twistor Strings to Dirac-Born-Infeld - Lecture 2</a>\nby F.A. C
 achazo (Perimeter Institute) as part of Spring School on Superstring Theor
 y and Related Topics\n\nAbstract: TBA\n\nFrom Twistor Strings to Dirac-Bor
 n-Infeld - Lecture 2 Speaker: F.A. Cachazo (Perimeter Institute) Spring Sc
 hool on Superstring Theory and Related Topics | (smr 2728) 2015_04_01-09_0
 0-smr2728\n
LOCATION:https://researchseminars.org/talk/ICTP_smr2728/16/
END:VEVENT
BEGIN:VEVENT
SUMMARY:M. Mariño (UNIGE\, Geneva)
DTSTART:20150327T091500Z
DTEND:20150327T101500Z
DTSTAMP:20260422T213017Z
UID:ICTP_smr2728/17
DESCRIPTION:Title: <a href="https://researchseminars.org/talk/ICTP_smr2728
 /17/">Non-perturbative effects in string theory and AdS/CFT - Lecture 3</a
 >\nby M. Mariño (UNIGE\, Geneva) as part of Spring School on Superstring 
 Theory and Related Topics\n\nAbstract: TBA\n\nNon-perturbative effects in 
 string theory and AdS/CFT - Lecture 3 Speaker: M. Mariño (UNIGE\, Geneva)
  Spring School on Superstring Theory and Related Topics | (smr 2728) 2015_
 03_27-10_15-smr2728\n
LOCATION:https://researchseminars.org/talk/ICTP_smr2728/17/
END:VEVENT
BEGIN:VEVENT
SUMMARY:S. Caron-Huot (NBI\, Copenhagen)
DTSTART:20150326T103000Z
DTEND:20150326T113000Z
DTSTAMP:20260422T213017Z
UID:ICTP_smr2728/18
DESCRIPTION:Title: <a href="https://researchseminars.org/talk/ICTP_smr2728
 /18/">Scattering amplitudes in supersymmetric gauge theory - Lecture 2</a>
 \nby S. Caron-Huot (NBI\, Copenhagen) as part of Spring School on Superstr
 ing Theory and Related Topics\n\nAbstract: TBA\n\nScattering amplitudes in
  supersymmetric gauge theory - Lecture 2 Speaker: S. Caron-Huot (NBI\, Cop
 enhagen) Spring School on Superstring Theory and Related Topics | (smr 272
 8) 2015_03_26-11_30-smr2728\n
LOCATION:https://researchseminars.org/talk/ICTP_smr2728/18/
END:VEVENT
BEGIN:VEVENT
SUMMARY:S. Caron-Huot (NBI\, Copenhagen)
DTSTART:20150327T103000Z
DTEND:20150327T113000Z
DTSTAMP:20260422T213017Z
UID:ICTP_smr2728/19
DESCRIPTION:Title: <a href="https://researchseminars.org/talk/ICTP_smr2728
 /19/">Scattering amplitudes in supersymmetric gauge theory - Lecture 3</a>
 \nby S. Caron-Huot (NBI\, Copenhagen) as part of Spring School on Superstr
 ing Theory and Related Topics\n\nAbstract: TBA\n\nScattering amplitudes in
  supersymmetric gauge theory - Lecture 3 Speaker: S. Caron-Huot (NBI\, Cop
 enhagen) Spring School on Superstring Theory and Related Topics | (smr 272
 8) 2015_03_27-11_30-smr2728\n
LOCATION:https://researchseminars.org/talk/ICTP_smr2728/19/
END:VEVENT
BEGIN:VEVENT
SUMMARY:S. Caron-Huot (NBI\, Copenhagen)
DTSTART:20150328T091500Z
DTEND:20150328T101500Z
DTSTAMP:20260422T213017Z
UID:ICTP_smr2728/20
DESCRIPTION:Title: <a href="https://researchseminars.org/talk/ICTP_smr2728
 /20/">Scattering amplitudes in supersymmetric gauge theory - Lecture 4</a>
 \nby S. Caron-Huot (NBI\, Copenhagen) as part of Spring School on Superstr
 ing Theory and Related Topics\n\nAbstract: TBA\n\nScattering amplitudes in
  supersymmetric gauge theory - Lecture 4 Speaker: S. Caron-Huot (NBI\, Cop
 enhagen) Spring School on Superstring Theory and Related Topics | (smr 272
 8) 2015_03_28-10_15-smr2728\n
LOCATION:https://researchseminars.org/talk/ICTP_smr2728/20/
END:VEVENT
BEGIN:VEVENT
SUMMARY:M. Mariño (UNIGE\, Geneva)
DTSTART:20150327T133000Z
DTEND:20150327T143000Z
DTSTAMP:20260422T213017Z
UID:ICTP_smr2728/21
DESCRIPTION:Title: <a href="https://researchseminars.org/talk/ICTP_smr2728
 /21/">Non-perturbative effects in string theory and AdS/CFT - Lecture 4</a
 >\nby M. Mariño (UNIGE\, Geneva) as part of Spring School on Superstring 
 Theory and Related Topics\n\nAbstract: TBA\n\nNon-perturbative effects in 
 string theory and AdS/CFT - Lecture 4 Speaker: M. Mariño (UNIGE\, Geneva)
  Spring School on Superstring Theory and Related Topics | (smr 2728) 2015_
 03_27-14_30-smr2728\n
LOCATION:https://researchseminars.org/talk/ICTP_smr2728/21/
END:VEVENT
BEGIN:VEVENT
SUMMARY:A. Sen (HRI\, Allahabad)
DTSTART:20150331T093000Z
DTEND:20150331T103000Z
DTSTAMP:20260422T213017Z
UID:ICTP_smr2728/22
DESCRIPTION:Title: <a href="https://researchseminars.org/talk/ICTP_smr2728
 /22/">Aspects of Superstring Perturbation Theory - Lecture 2</a>\nby A. Se
 n (HRI\, Allahabad) as part of Spring School on Superstring Theory and Rel
 ated Topics\n\nAbstract: TBA\n\nAspects of Superstring Perturbation Theory
  - Lecture 2 Speaker: A. Sen (HRI\, Allahabad) Spring School on Superstrin
 g Theory and Related Topics | (smr 2728) 2015_03_31-11_30-smr2728\n
LOCATION:https://researchseminars.org/talk/ICTP_smr2728/22/
END:VEVENT
BEGIN:VEVENT
SUMMARY:F.A. Cachazo (Perimeter Institute)
DTSTART:20150402T070000Z
DTEND:20150402T080000Z
DTSTAMP:20260422T213017Z
UID:ICTP_smr2728/23
DESCRIPTION:Title: <a href="https://researchseminars.org/talk/ICTP_smr2728
 /23/">From Twistor Strings to Dirac-Born-Infeld - Lecture 4</a>\nby F.A. C
 achazo (Perimeter Institute) as part of Spring School on Superstring Theor
 y and Related Topics\n\nAbstract: TBA\n\nFrom Twistor Strings to Dirac-Bor
 n-Infeld - Lecture 4 Speaker: F.A. Cachazo (Perimeter Institute) Spring Sc
 hool on Superstring Theory and Related Topics | (smr 2728) 2015_04_02-09_0
 0-smr2728\n
LOCATION:https://researchseminars.org/talk/ICTP_smr2728/23/
END:VEVENT
END:VCALENDAR
