BEGIN:VCALENDAR
VERSION:2.0
PRODID:researchseminars.org
CALSCALE:GREGORIAN
X-WR-CALNAME:researchseminars.org
BEGIN:VEVENT
SUMMARY:Koji Shimizu (Koji Shimizu)
DTSTART:20220413T010000Z
DTEND:20220413T020000Z
DTSTAMP:20260422T225724Z
UID:HubHI/1
DESCRIPTION:Title: <a href="https://researchseminars.org/talk/HubHI/1/">In
 troduction to p-adic geometry</a>\nby Koji Shimizu (Koji Shimizu) as part 
 of Events Hub informal\n\n\nAbstract\nThis talk is a general introduction 
 to p-adic geometry and p-adic Hodge theory. We will discuss the Legendre f
 amily of elliptic curves and the Drinfeld half-plane to see some interesti
 ng features of the p-adic setup.\n
LOCATION:https://researchseminars.org/talk/HubHI/1/
END:VEVENT
END:VCALENDAR
