BEGIN:VCALENDAR
VERSION:2.0
PRODID:researchseminars.org
CALSCALE:GREGORIAN
X-WR-CALNAME:researchseminars.org
BEGIN:VEVENT
SUMMARY:Dr Ma Jun (Chairman and President of Hong Kong Green Finance Assoc
 iation and Co-Chair of G20 Sustainable Finance Study Group)
DTSTART:20220324T070000Z
DTEND:20220324T090000Z
DTSTAMP:20260422T225820Z
UID:GreenFinance/1
DESCRIPTION:Title: <a href="https://researchseminars.org/talk/GreenFinance
 /1/">Green Finance: China and International Initiatives</a>\nby Dr Ma Jun 
 (Chairman and President of Hong Kong Green Finance Association and Co-Chai
 r of G20 Sustainable Finance Study Group) as part of Green Finance: China 
 and International Initiatives\n\nAbstract: TBA\n
LOCATION:https://researchseminars.org/talk/GreenFinance/1/
END:VEVENT
END:VCALENDAR
