BEGIN:VCALENDAR
VERSION:2.0
PRODID:researchseminars.org
CALSCALE:GREGORIAN
X-WR-CALNAME:researchseminars.org
BEGIN:VEVENT
SUMMARY:Giordano Cotti (Universidade de Lisboa)
DTSTART:20210209T100000Z
DTEND:20210209T120000Z
DTSTAMP:20260422T214904Z
UID:Frobenius/1
DESCRIPTION:Title: <a href="https://researchseminars.org/talk/Frobenius/1/
 ">Frobenius manifolds\, irregular singularities\, and isomonodromy deforma
 tions I</a>\nby Giordano Cotti (Universidade de Lisboa) as part of Mini-co
 urse on Frobenius manifolds\, irregular singularities\, and isomonodromy d
 eformations\n\nAbstract: TBA\n
LOCATION:https://researchseminars.org/talk/Frobenius/1/
END:VEVENT
BEGIN:VEVENT
SUMMARY:Giordano Cotti (Universidade de Lisboa)
DTSTART:20210211T100000Z
DTEND:20210211T120000Z
DTSTAMP:20260422T214904Z
UID:Frobenius/2
DESCRIPTION:Title: <a href="https://researchseminars.org/talk/Frobenius/2/
 ">Frobenius manifolds\, irregular singularities\, and isomonodromy deforma
 tions II</a>\nby Giordano Cotti (Universidade de Lisboa) as part of Mini-c
 ourse on Frobenius manifolds\, irregular singularities\, and isomonodromy 
 deformations\n\nAbstract: TBA\n
LOCATION:https://researchseminars.org/talk/Frobenius/2/
END:VEVENT
BEGIN:VEVENT
SUMMARY:Giordano Cotti (Universidade de Lisboa)
DTSTART:20210216T100000Z
DTEND:20210216T120000Z
DTSTAMP:20260422T214904Z
UID:Frobenius/3
DESCRIPTION:Title: <a href="https://researchseminars.org/talk/Frobenius/3/
 ">Frobenius manifolds\, irregular singularities\, and isomonodromy deforma
 tions III</a>\nby Giordano Cotti (Universidade de Lisboa) as part of Mini-
 course on Frobenius manifolds\, irregular singularities\, and isomonodromy
  deformations\n\nAbstract: TBA\n
LOCATION:https://researchseminars.org/talk/Frobenius/3/
END:VEVENT
BEGIN:VEVENT
SUMMARY:Giordano Cotti (Universidade de Lisboa)
DTSTART:20210218T100000Z
DTEND:20210218T120000Z
DTSTAMP:20260422T214904Z
UID:Frobenius/4
DESCRIPTION:Title: <a href="https://researchseminars.org/talk/Frobenius/4/
 ">Frobenius manifolds\, irregular singularities\, and isomonodromy deforma
 tions IV</a>\nby Giordano Cotti (Universidade de Lisboa) as part of Mini-c
 ourse on Frobenius manifolds\, irregular singularities\, and isomonodromy 
 deformations\n\nAbstract: TBA\n
LOCATION:https://researchseminars.org/talk/Frobenius/4/
END:VEVENT
BEGIN:VEVENT
SUMMARY:Giordano Cotti (Universidade de Lisboa)
DTSTART:20210219T100000Z
DTEND:20210219T120000Z
DTSTAMP:20260422T214904Z
UID:Frobenius/5
DESCRIPTION:Title: <a href="https://researchseminars.org/talk/Frobenius/5/
 ">Frobenius manifolds\, irregular singularities\, and isomonodromy deforma
 tions V</a>\nby Giordano Cotti (Universidade de Lisboa) as part of Mini-co
 urse on Frobenius manifolds\, irregular singularities\, and isomonodromy d
 eformations\n\nAbstract: TBA\n
LOCATION:https://researchseminars.org/talk/Frobenius/5/
END:VEVENT
END:VCALENDAR
