BEGIN:VCALENDAR
VERSION:2.0
PRODID:researchseminars.org
CALSCALE:GREGORIAN
X-WR-CALNAME:researchseminars.org
BEGIN:VEVENT
SUMMARY:Osamu Iyama (Tokyo\, Japan)
DTSTART:20230106T100500Z
DTEND:20230106T101500Z
DTSTAMP:20260422T214742Z
UID:FlashTalks2023/1
DESCRIPTION:by Osamu Iyama (Tokyo\, Japan) as part of Flash Talks in Repre
 sentation Theory at NTNU III\n\nAbstract: TBA\n
LOCATION:https://researchseminars.org/talk/FlashTalks2023/1/
END:VEVENT
BEGIN:VEVENT
SUMMARY:Mandy Cheung (Kavli IPMU\, Japan)
DTSTART:20230106T102000Z
DTEND:20230106T103000Z
DTSTAMP:20260422T214742Z
UID:FlashTalks2023/2
DESCRIPTION:Title: <a href="https://researchseminars.org/talk/FlashTalks20
 23/2/">Cluster structures for the 𝐴∞ singularity</a>\nby Mandy Cheung
  (Kavli IPMU\, Japan) as part of Flash Talks in Representation Theory at N
 TNU III\n\nAbstract: TBA\n
LOCATION:https://researchseminars.org/talk/FlashTalks2023/2/
END:VEVENT
BEGIN:VEVENT
SUMMARY:Xiao-Wu Chen (USTC\, China)
DTSTART:20230106T103500Z
DTEND:20230106T104500Z
DTSTAMP:20260422T214742Z
UID:FlashTalks2023/3
DESCRIPTION:Title: <a href="https://researchseminars.org/talk/FlashTalks20
 23/3/">The injective dimension of the Jacobson radical</a>\nby Xiao-Wu Che
 n (USTC\, China) as part of Flash Talks in Representation Theory at NTNU I
 II\n\nAbstract: TBA\n
LOCATION:https://researchseminars.org/talk/FlashTalks2023/3/
END:VEVENT
BEGIN:VEVENT
SUMMARY:Charley Cummings (Aarhus\, Denmark)
DTSTART:20230106T105000Z
DTEND:20230106T110000Z
DTSTAMP:20260422T214742Z
UID:FlashTalks2023/4
DESCRIPTION:Title: <a href="https://researchseminars.org/talk/FlashTalks20
 23/4/">Left-right symmetry of finite finitistic dimension</a>\nby Charley 
 Cummings (Aarhus\, Denmark) as part of Flash Talks in Representation Theor
 y at NTNU III\n\nAbstract: TBA\n
LOCATION:https://researchseminars.org/talk/FlashTalks2023/4/
END:VEVENT
BEGIN:VEVENT
SUMMARY:Petter A. Bergh (NTNU\, Norway)
DTSTART:20230106T113000Z
DTEND:20230106T114000Z
DTSTAMP:20260422T214742Z
UID:FlashTalks2023/5
DESCRIPTION:Title: <a href="https://researchseminars.org/talk/FlashTalks20
 23/5/">Separable equivalences\, finitely generated cohomology and finite t
 ensor categories</a>\nby Petter A. Bergh (NTNU\, Norway) as part of Flash 
 Talks in Representation Theory at NTNU III\n\nAbstract: TBA\n
LOCATION:https://researchseminars.org/talk/FlashTalks2023/5/
END:VEVENT
BEGIN:VEVENT
SUMMARY:Lorna Gregory (East Anglia\, UK)
DTSTART:20230106T114500Z
DTEND:20230106T115500Z
DTSTAMP:20260422T214742Z
UID:FlashTalks2023/6
DESCRIPTION:Title: <a href="https://researchseminars.org/talk/FlashTalks20
 23/6/">Decidability and Representation Type</a>\nby Lorna Gregory (East An
 glia\, UK) as part of Flash Talks in Representation Theory at NTNU III\n\n
 Abstract: TBA\n
LOCATION:https://researchseminars.org/talk/FlashTalks2023/6/
END:VEVENT
BEGIN:VEVENT
SUMMARY:Julian Külshammer (Uppsala\, Sweden)
DTSTART:20230106T120000Z
DTEND:20230106T121000Z
DTSTAMP:20260422T214742Z
UID:FlashTalks2023/7
DESCRIPTION:Title: <a href="https://researchseminars.org/talk/FlashTalks20
 23/7/">The monomorphism category and representations in the stable categor
 y</a>\nby Julian Külshammer (Uppsala\, Sweden) as part of Flash Talks in 
 Representation Theory at NTNU III\n\nAbstract: TBA\n
LOCATION:https://researchseminars.org/talk/FlashTalks2023/7/
END:VEVENT
BEGIN:VEVENT
SUMMARY:Peter Jørgensen (Aarhus\, Denmark)
DTSTART:20230106T121500Z
DTEND:20230106T122500Z
DTSTAMP:20260422T214742Z
UID:FlashTalks2023/8
DESCRIPTION:Title: <a href="https://researchseminars.org/talk/FlashTalks20
 23/8/">The Q-shaped derived category</a>\nby Peter Jørgensen (Aarhus\, De
 nmark) as part of Flash Talks in Representation Theory at NTNU III\n\nAbst
 ract: TBA\n
LOCATION:https://researchseminars.org/talk/FlashTalks2023/8/
END:VEVENT
BEGIN:VEVENT
SUMMARY:Bethany Marsh (Leeds\, UK)
DTSTART:20230106T133000Z
DTEND:20230106T134000Z
DTSTAMP:20260422T214742Z
UID:FlashTalks2023/9
DESCRIPTION:Title: <a href="https://researchseminars.org/talk/FlashTalks20
 23/9/">Properties of tau-exceptional sequences</a>\nby Bethany Marsh (Leed
 s\, UK) as part of Flash Talks in Representation Theory at NTNU III\n\nAbs
 tract: TBA\n
LOCATION:https://researchseminars.org/talk/FlashTalks2023/9/
END:VEVENT
BEGIN:VEVENT
SUMMARY:Eric Hanson (Sherbrooke\, Canada)
DTSTART:20230106T134500Z
DTEND:20230106T135500Z
DTSTAMP:20260422T214742Z
UID:FlashTalks2023/10
DESCRIPTION:Title: <a href="https://researchseminars.org/talk/FlashTalks20
 23/10/">Poset topology of wide subcategories</a>\nby Eric Hanson (Sherbroo
 ke\, Canada) as part of Flash Talks in Representation Theory at NTNU III\n
 \nAbstract: TBA\n
LOCATION:https://researchseminars.org/talk/FlashTalks2023/10/
END:VEVENT
BEGIN:VEVENT
SUMMARY:Pierre-Guy Plamondon (Versailles\, France)
DTSTART:20230106T140000Z
DTEND:20230106T141000Z
DTSTAMP:20260422T214742Z
UID:FlashTalks2023/11
DESCRIPTION:Title: <a href="https://researchseminars.org/talk/FlashTalks20
 23/11/">On the category of projective presentations</a>\nby Pierre-Guy Pla
 mondon (Versailles\, France) as part of Flash Talks in Representation Theo
 ry at NTNU III\n\nAbstract: TBA\n
LOCATION:https://researchseminars.org/talk/FlashTalks2023/11/
END:VEVENT
BEGIN:VEVENT
SUMMARY:Francesca Fedele (Leeds\, UK)
DTSTART:20230106T141500Z
DTEND:20230106T142500Z
DTSTAMP:20260422T214742Z
UID:FlashTalks2023/12
DESCRIPTION:Title: <a href="https://researchseminars.org/talk/FlashTalks20
 23/12/">Representation theory of super cluster algebras</a>\nby Francesca 
 Fedele (Leeds\, UK) as part of Flash Talks in Representation Theory at NTN
 U III\n\nAbstract: TBA\n
LOCATION:https://researchseminars.org/talk/FlashTalks2023/12/
END:VEVENT
BEGIN:VEVENT
SUMMARY:Drew Duffield (Durham\, UK)
DTSTART:20230106T150000Z
DTEND:20230106T151000Z
DTSTAMP:20260422T214742Z
UID:FlashTalks2023/13
DESCRIPTION:Title: <a href="https://researchseminars.org/talk/FlashTalks20
 23/13/">Categorifying Mutations of Non-Integer-Weighted Quivers and Exchan
 ge Matrices</a>\nby Drew Duffield (Durham\, UK) as part of Flash Talks in 
 Representation Theory at NTNU III\n\nAbstract: TBA\n
LOCATION:https://researchseminars.org/talk/FlashTalks2023/13/
END:VEVENT
BEGIN:VEVENT
SUMMARY:Véronique Bazier-Matte (Laval\, Canada)
DTSTART:20230106T151500Z
DTEND:20230106T152500Z
DTSTAMP:20260422T214742Z
UID:FlashTalks2023/14
DESCRIPTION:Title: <a href="https://researchseminars.org/talk/FlashTalks20
 23/14/">Categorification of non-orientable surfaces</a>\nby Véronique Baz
 ier-Matte (Laval\, Canada) as part of Flash Talks in Representation Theory
  at NTNU III\n\nAbstract: TBA\n
LOCATION:https://researchseminars.org/talk/FlashTalks2023/14/
END:VEVENT
BEGIN:VEVENT
SUMMARY:Van Nguyen (USNA\, USA)
DTSTART:20230106T153000Z
DTEND:20230106T154000Z
DTSTAMP:20260422T214742Z
UID:FlashTalks2023/15
DESCRIPTION:Title: <a href="https://researchseminars.org/talk/FlashTalks20
 23/15/">On deformations of quantum groups</a>\nby Van Nguyen (USNA\, USA) 
 as part of Flash Talks in Representation Theory at NTNU III\n\nAbstract: T
 BA\n
LOCATION:https://researchseminars.org/talk/FlashTalks2023/15/
END:VEVENT
BEGIN:VEVENT
SUMMARY:Maria Julia Redondo (Bahía Blanca\, Argentina)
DTSTART:20230106T154500Z
DTEND:20230106T155500Z
DTSTAMP:20260422T214742Z
UID:FlashTalks2023/16
DESCRIPTION:Title: <a href="https://researchseminars.org/talk/FlashTalks20
 23/16/">Infinitesimal deformations</a>\nby Maria Julia Redondo (Bahía Bla
 nca\, Argentina) as part of Flash Talks in Representation Theory at NTNU I
 II\n\nAbstract: TBA\n
LOCATION:https://researchseminars.org/talk/FlashTalks2023/16/
END:VEVENT
END:VCALENDAR
