BEGIN:VCALENDAR
VERSION:2.0
PRODID:researchseminars.org
CALSCALE:GREGORIAN
X-WR-CALNAME:researchseminars.org
BEGIN:VEVENT
SUMMARY:Ki-seok Kim (POSTECH)
DTSTART:20211108T003000Z
DTEND:20211108T011000Z
DTSTAMP:20260422T212603Z
UID:FTP2021/1
DESCRIPTION:Title: <a href="https://researchseminars.org/talk/FTP2021/1/">
 Introduction of UV QFT information to IR emergent dual gravity away from q
 uantum criticality</a>\nby Ki-seok Kim (POSTECH) as part of Frontiers in T
 heoretical Physics 2021\n\nAbstract: TBA\n
LOCATION:https://researchseminars.org/talk/FTP2021/1/
END:VEVENT
BEGIN:VEVENT
SUMMARY:Junggi Yoon (APCTP)
DTSTART:20211108T012000Z
DTEND:20211108T022000Z
DTSTAMP:20260422T212603Z
UID:FTP2021/2
DESCRIPTION:by Junggi Yoon (APCTP) as part of Frontiers in Theoretical Phy
 sics 2021\n\nAbstract: TBA\n
LOCATION:https://researchseminars.org/talk/FTP2021/2/
END:VEVENT
BEGIN:VEVENT
SUMMARY:Suvrat Raju (ICTS)
DTSTART:20211108T100000Z
DTEND:20211108T104000Z
DTSTAMP:20260422T212603Z
UID:FTP2021/3
DESCRIPTION:by Suvrat Raju (ICTS) as part of Frontiers in Theoretical Phys
 ics 2021\n\nAbstract: TBA\n
LOCATION:https://researchseminars.org/talk/FTP2021/3/
END:VEVENT
BEGIN:VEVENT
SUMMARY:Monica Jinwoo Kang (Caltech/KAIST)
DTSTART:20211108T105000Z
DTEND:20211108T113000Z
DTSTAMP:20260422T212603Z
UID:FTP2021/4
DESCRIPTION:by Monica Jinwoo Kang (Caltech/KAIST) as part of Frontiers in 
 Theoretical Physics 2021\n\nAbstract: TBA\n
LOCATION:https://researchseminars.org/talk/FTP2021/4/
END:VEVENT
BEGIN:VEVENT
SUMMARY:Eun-Gook Moon (KAIST)
DTSTART:20211109T003000Z
DTEND:20211109T011000Z
DTSTAMP:20260422T212603Z
UID:FTP2021/5
DESCRIPTION:Title: <a href="https://researchseminars.org/talk/FTP2021/5/">
 Construction of Entangled Many-body States via the Higgs Mechanism</a>\nby
  Eun-Gook Moon (KAIST) as part of Frontiers in Theoretical Physics 2021\n\
 nAbstract: TBA\n
LOCATION:https://researchseminars.org/talk/FTP2021/5/
END:VEVENT
BEGIN:VEVENT
SUMMARY:Jung Hoon Han (SKKU)
DTSTART:20211109T012000Z
DTEND:20211109T020000Z
DTSTAMP:20260422T212603Z
UID:FTP2021/6
DESCRIPTION:Title: <a href="https://researchseminars.org/talk/FTP2021/6/">
 Exactly solvable spin model from Higgsing of rank-2 U(1) gauge theory</a>\
 nby Jung Hoon Han (SKKU) as part of Frontiers in Theoretical Physics 2021\
 n\nAbstract: TBA\n
LOCATION:https://researchseminars.org/talk/FTP2021/6/
END:VEVENT
BEGIN:VEVENT
SUMMARY:Bohm Jung Yang (SNU)
DTSTART:20211109T100000Z
DTEND:20211109T104000Z
DTSTAMP:20260422T212603Z
UID:FTP2021/7
DESCRIPTION:Title: <a href="https://researchseminars.org/talk/FTP2021/7/">
 Topology of acoustic phonons</a>\nby Bohm Jung Yang (SNU) as part of Front
 iers in Theoretical Physics 2021\n\nAbstract: TBA\n
LOCATION:https://researchseminars.org/talk/FTP2021/7/
END:VEVENT
BEGIN:VEVENT
SUMMARY:Kun Woo Kim (Chung-Ang University)
DTSTART:20211109T105000Z
DTEND:20211109T113000Z
DTSTAMP:20260422T212603Z
UID:FTP2021/8
DESCRIPTION:Title: <a href="https://researchseminars.org/talk/FTP2021/8/">
 Anderson transitions in quantum walks</a>\nby Kun Woo Kim (Chung-Ang Unive
 rsity) as part of Frontiers in Theoretical Physics 2021\n\nAbstract: TBA\n
LOCATION:https://researchseminars.org/talk/FTP2021/8/
END:VEVENT
BEGIN:VEVENT
SUMMARY:Yuji Hirono (APCTP)
DTSTART:20211110T003000Z
DTEND:20211110T011000Z
DTSTAMP:20260422T212603Z
UID:FTP2021/9
DESCRIPTION:by Yuji Hirono (APCTP) as part of Frontiers in Theoretical Phy
 sics 2021\n\nAbstract: TBA\n
LOCATION:https://researchseminars.org/talk/FTP2021/9/
END:VEVENT
BEGIN:VEVENT
SUMMARY:Rak-Kyeong Seong (UNIST)
DTSTART:20211110T012000Z
DTEND:20211110T020000Z
DTSTAMP:20260422T212603Z
UID:FTP2021/10
DESCRIPTION:by Rak-Kyeong Seong (UNIST) as part of Frontiers in Theoretica
 l Physics 2021\n\nAbstract: TBA\n
LOCATION:https://researchseminars.org/talk/FTP2021/10/
END:VEVENT
BEGIN:VEVENT
SUMMARY:Kyungsun Lee (GIST)
DTSTART:20211110T070000Z
DTEND:20211110T073000Z
DTSTAMP:20260422T212603Z
UID:FTP2021/11
DESCRIPTION:Title: <a href="https://researchseminars.org/talk/FTP2021/11/"
 >TTbar-deformed Fermionic Theories Revisited</a>\nby Kyungsun Lee (GIST) a
 s part of Frontiers in Theoretical Physics 2021\n\nAbstract: TBA\n
LOCATION:https://researchseminars.org/talk/FTP2021/11/
END:VEVENT
BEGIN:VEVENT
SUMMARY:Sungjoon Kim (POSTECH)
DTSTART:20211110T073000Z
DTEND:20211110T080000Z
DTSTAMP:20260422T212603Z
UID:FTP2021/12
DESCRIPTION:by Sungjoon Kim (POSTECH) as part of Frontiers in Theoretical 
 Physics 2021\n\nAbstract: TBA\n
LOCATION:https://researchseminars.org/talk/FTP2021/12/
END:VEVENT
BEGIN:VEVENT
SUMMARY:Wonjun Lee (POSTECH)
DTSTART:20211110T080000Z
DTEND:20211110T083000Z
DTSTAMP:20260422T212603Z
UID:FTP2021/13
DESCRIPTION:Title: <a href="https://researchseminars.org/talk/FTP2021/13/"
 >Classifying Topological phases via Classical Shadow</a>\nby Wonjun Lee (P
 OSTECH) as part of Frontiers in Theoretical Physics 2021\n\nAbstract: TBA\
 n
LOCATION:https://researchseminars.org/talk/FTP2021/13/
END:VEVENT
BEGIN:VEVENT
SUMMARY:Minsung Kim (POSTECH)
DTSTART:20211110T083000Z
DTEND:20211110T090000Z
DTSTAMP:20260422T212603Z
UID:FTP2021/14
DESCRIPTION:Title: <a href="https://researchseminars.org/talk/FTP2021/14/"
 >Blowup approach in 5d/6d field theories</a>\nby Minsung Kim (POSTECH) as 
 part of Frontiers in Theoretical Physics 2021\n\nAbstract: TBA\n
LOCATION:https://researchseminars.org/talk/FTP2021/14/
END:VEVENT
BEGIN:VEVENT
SUMMARY:Ryo Hanai (APCTP)
DTSTART:20211111T100000Z
DTEND:20211111T104000Z
DTSTAMP:20260422T212603Z
UID:FTP2021/15
DESCRIPTION:by Ryo Hanai (APCTP) as part of Frontiers in Theoretical Physi
 cs 2021\n\nAbstract: TBA\n
LOCATION:https://researchseminars.org/talk/FTP2021/15/
END:VEVENT
BEGIN:VEVENT
SUMMARY:Euihun Joung (Kyunghee University)
DTSTART:20211111T105000Z
DTEND:20211111T113000Z
DTSTAMP:20260422T212603Z
UID:FTP2021/16
DESCRIPTION:by Euihun Joung (Kyunghee University) as part of Frontiers in 
 Theoretical Physics 2021\n\nAbstract: TBA\n
LOCATION:https://researchseminars.org/talk/FTP2021/16/
END:VEVENT
BEGIN:VEVENT
SUMMARY:Kanghoon Lee (APCTP)
DTSTART:20211112T003000Z
DTEND:20211112T011000Z
DTSTAMP:20260422T212603Z
UID:FTP2021/17
DESCRIPTION:by Kanghoon Lee (APCTP) as part of Frontiers in Theoretical Ph
 ysics 2021\n\nAbstract: TBA\n
LOCATION:https://researchseminars.org/talk/FTP2021/17/
END:VEVENT
BEGIN:VEVENT
SUMMARY:Byungmin Kang (KIAS)
DTSTART:20211112T012000Z
DTEND:20211112T022000Z
DTSTAMP:20260422T212603Z
UID:FTP2021/18
DESCRIPTION:Title: <a href="https://researchseminars.org/talk/FTP2021/18/"
 >What makes quantum quantum</a>\nby Byungmin Kang (KIAS) as part of Fronti
 ers in Theoretical Physics 2021\n\nAbstract: TBA\n
LOCATION:https://researchseminars.org/talk/FTP2021/18/
END:VEVENT
END:VCALENDAR
