BEGIN:VCALENDAR
VERSION:2.0
PRODID:researchseminars.org
CALSCALE:GREGORIAN
X-WR-CALNAME:researchseminars.org
BEGIN:VEVENT
SUMMARY:Claudio Pisani
DTSTART:20240522T140000Z
DTEND:20240522T150000Z
DTSTAMP:20260422T225930Z
UID:CaTheoryZulip/1
DESCRIPTION:Title: <a href="https://researchseminars.org/talk/CaTheoryZuli
 p/1/">Unbiased symmetric multicategories</a>\nby Claudio Pisani as part of
  Zulip Category Theory Seminar\n\nAbstract: TBA\n
LOCATION:https://researchseminars.org/talk/CaTheoryZulip/1/
END:VEVENT
BEGIN:VEVENT
SUMMARY:Jean-Simon Pacaud Lemay
DTSTART:20240529T140000Z
DTEND:20240529T150000Z
DTSTAMP:20260422T225930Z
UID:CaTheoryZulip/2
DESCRIPTION:Title: <a href="https://researchseminars.org/talk/CaTheoryZuli
 p/2/">A tour around the world of differential categories</a>\nby Jean-Simo
 n Pacaud Lemay as part of Zulip Category Theory Seminar\n\nAbstract: TBA\n
LOCATION:https://researchseminars.org/talk/CaTheoryZulip/2/
END:VEVENT
BEGIN:VEVENT
SUMMARY:Jean-Baptiste Vienney
DTSTART:20240605T140000Z
DTEND:20240605T150000Z
DTSTAMP:20260422T225930Z
UID:CaTheoryZulip/3
DESCRIPTION:Title: <a href="https://researchseminars.org/talk/CaTheoryZuli
 p/3/">Extracting an lN-graded differential modality from a differential mo
 dality</a>\nby Jean-Baptiste Vienney as part of Zulip Category Theory Semi
 nar\n\nAbstract: TBA\n
LOCATION:https://researchseminars.org/talk/CaTheoryZulip/3/
END:VEVENT
BEGIN:VEVENT
SUMMARY:Ryan Wisnesky
DTSTART:20240612T140000Z
DTEND:20240612T150000Z
DTSTAMP:20260422T225930Z
UID:CaTheoryZulip/4
DESCRIPTION:Title: <a href="https://researchseminars.org/talk/CaTheoryZuli
 p/4/">Categorical Databases</a>\nby Ryan Wisnesky as part of Zulip Categor
 y Theory Seminar\n\nAbstract: TBA\n
LOCATION:https://researchseminars.org/talk/CaTheoryZulip/4/
END:VEVENT
BEGIN:VEVENT
SUMMARY:Urs Schreiber
DTSTART:20240619T130000Z
DTEND:20240619T140000Z
DTSTAMP:20260422T225930Z
UID:CaTheoryZulip/5
DESCRIPTION:Title: <a href="https://researchseminars.org/talk/CaTheoryZuli
 p/5/">Higher Topos Theory in Physics</a>\nby Urs Schreiber as part of Zuli
 p Category Theory Seminar\n\nAbstract: TBA\n
LOCATION:https://researchseminars.org/talk/CaTheoryZulip/5/
END:VEVENT
BEGIN:VEVENT
SUMMARY:Emilio Minichiello
DTSTART:20240626T140000Z
DTEND:20240626T150000Z
DTSTAMP:20260422T225930Z
UID:CaTheoryZulip/6
DESCRIPTION:Title: <a href="https://researchseminars.org/talk/CaTheoryZuli
 p/6/">Introduction to Diffeological Spaces</a>\nby Emilio Minichiello as p
 art of Zulip Category Theory Seminar\n\nAbstract: TBA\n
LOCATION:https://researchseminars.org/talk/CaTheoryZulip/6/
END:VEVENT
BEGIN:VEVENT
SUMMARY:Paolo Perrone
DTSTART:20240703T140000Z
DTEND:20240703T150000Z
DTSTAMP:20260422T225930Z
UID:CaTheoryZulip/7
DESCRIPTION:Title: <a href="https://researchseminars.org/talk/CaTheoryZuli
 p/7/">Markov categories</a>\nby Paolo Perrone as part of Zulip Category Th
 eory Seminar\n\nAbstract: TBA\n
LOCATION:https://researchseminars.org/talk/CaTheoryZulip/7/
END:VEVENT
BEGIN:VEVENT
SUMMARY:Benedikt Peterseim
DTSTART:20240717T140000Z
DTEND:20240717T150000Z
DTSTAMP:20260422T225930Z
UID:CaTheoryZulip/8
DESCRIPTION:Title: <a href="https://researchseminars.org/talk/CaTheoryZuli
 p/8/">Higher-Order Probability: Probability Monads on Cartesian Closed Cat
 egories</a>\nby Benedikt Peterseim as part of Zulip Category Theory Semina
 r\n\nAbstract: TBA\n
LOCATION:https://researchseminars.org/talk/CaTheoryZulip/8/
END:VEVENT
BEGIN:VEVENT
SUMMARY:Fosco Loregian
DTSTART:20240724T140000Z
DTEND:20240724T150000Z
DTSTAMP:20260422T225930Z
UID:CaTheoryZulip/9
DESCRIPTION:Title: <a href="https://researchseminars.org/talk/CaTheoryZuli
 p/9/">2-(commutative algebra)</a>\nby Fosco Loregian as part of Zulip Cate
 gory Theory Seminar\n\nAbstract: TBA\n
LOCATION:https://researchseminars.org/talk/CaTheoryZulip/9/
END:VEVENT
BEGIN:VEVENT
SUMMARY:(cancelled\; DMR)
DTSTART:20240801T010000Z
DTEND:20240801T020000Z
DTSTAMP:20260422T225930Z
UID:CaTheoryZulip/10
DESCRIPTION:Title: <a href="https://researchseminars.org/talk/CaTheoryZuli
 p/10/">cancelled</a>\nby (cancelled\; DMR) as part of Zulip Category Theor
 y Seminar\n\nAbstract: TBA\n
LOCATION:https://researchseminars.org/talk/CaTheoryZulip/10/
END:VEVENT
BEGIN:VEVENT
SUMMARY:Ralph Sarkis
DTSTART:20240814T140000Z
DTEND:20240814T150000Z
DTSTAMP:20260422T225930Z
UID:CaTheoryZulip/11
DESCRIPTION:Title: <a href="https://researchseminars.org/talk/CaTheoryZuli
 p/11/">Lifting Algebraic Reasoning to Generalized Metric Spaces</a>\nby Ra
 lph Sarkis as part of Zulip Category Theory Seminar\n\nAbstract: TBA\n
LOCATION:https://researchseminars.org/talk/CaTheoryZulip/11/
END:VEVENT
BEGIN:VEVENT
SUMMARY:Sori Lee
DTSTART:20240807T140000Z
DTEND:20240807T150000Z
DTSTAMP:20260422T225930Z
UID:CaTheoryZulip/12
DESCRIPTION:Title: <a href="https://researchseminars.org/talk/CaTheoryZuli
 p/12/">Strict bilimits</a>\nby Sori Lee as part of Zulip Category Theory S
 eminar\n\nAbstract: TBA\n
LOCATION:https://researchseminars.org/talk/CaTheoryZulip/12/
END:VEVENT
END:VCALENDAR
