BEGIN:VCALENDAR
VERSION:2.0
PRODID:researchseminars.org
CALSCALE:GREGORIAN
X-WR-CALNAME:researchseminars.org
BEGIN:VEVENT
SUMMARY:Blake Keeler (McGill University)
DTSTART:20220408T183000Z
DTEND:20220408T193000Z
DTSTAMP:20260422T225659Z
UID:CRM_Analysis/1
DESCRIPTION:Title: <a href="https://researchseminars.org/talk/CRM_Analysis
 /1/">The Two-Point Weyl Law on Manifolds without Conjugate Points</a>\nby 
 Blake Keeler (McGill University) as part of CRM/Montreal/Quebec Analysis S
 eminar\n\nAbstract: TBA\n
LOCATION:https://researchseminars.org/talk/CRM_Analysis/1/
END:VEVENT
BEGIN:VEVENT
SUMMARY:Álvaro Romaniega (ICMAT)
DTSTART:20220520T183000Z
DTEND:20220520T193000Z
DTSTAMP:20260422T225659Z
UID:CRM_Analysis/3
DESCRIPTION:by Álvaro Romaniega (ICMAT) as part of CRM/Montreal/Quebec An
 alysis Seminar\n\nAbstract: TBA\n
LOCATION:https://researchseminars.org/talk/CRM_Analysis/3/
END:VEVENT
BEGIN:VEVENT
SUMMARY:Norm Levenberg (Indiana University)
DTSTART:20220422T183000Z
DTEND:20220422T193000Z
DTSTAMP:20260422T225659Z
UID:CRM_Analysis/4
DESCRIPTION:Title: <a href="https://researchseminars.org/talk/CRM_Analysis
 /4/">Zeros of Random Polynomial Mappings in Several Complex Variables</a>\
 nby Norm Levenberg (Indiana University) as part of CRM/Montreal/Quebec Ana
 lysis Seminar\n\n\nAbstract\nWe discuss some results on random polynomials
  with an eye towards obtaining universality results under the most general
  assumptions on the random coefficients. In particular\, we generalize and
  strengthen some previous results on asymptotic distribution of normalized
  zero measures and currents associated to random polynomials and random po
 lynomial mappings in several complex variables. The talk is based on joint
  work with Turgay Bayraktar and Tom Bloom.\n
LOCATION:https://researchseminars.org/talk/CRM_Analysis/4/
END:VEVENT
END:VCALENDAR
