BEGIN:VCALENDAR
VERSION:2.0
PRODID:researchseminars.org
CALSCALE:GREGORIAN
X-WR-CALNAME:researchseminars.org
BEGIN:VEVENT
SUMMARY:Ian Frigaard (University of British Columbia)
DTSTART:20210607T153000Z
DTEND:20210607T154500Z
DTSTAMP:20260422T185127Z
UID:CMO-21w5208/1
DESCRIPTION:Title: <a href="https://researchseminars.org/talk/CMO-21w5208/
 1/">Opening Day 1</a>\nby Ian Frigaard (University of British Columbia) as
  part of CMO workshop: XX International Workshop on Numerical Methods for 
 Non-Newtonian Flows\n\nAbstract: TBA\n
LOCATION:https://researchseminars.org/talk/CMO-21w5208/1/
END:VEVENT
BEGIN:VEVENT
SUMMARY:Rekha Rao (Sandia National Labs)
DTSTART:20210607T154500Z
DTEND:20210607T161000Z
DTSTAMP:20260422T185127Z
UID:CMO-21w5208/2
DESCRIPTION:Title: <a href="https://researchseminars.org/talk/CMO-21w5208/
 2/">Computational models and experimental studies of mold filling in thin 
 channels with yield stress fluids</a>\nby Rekha Rao (Sandia National Labs)
  as part of CMO workshop: XX International Workshop on Numerical Methods f
 or Non-Newtonian Flows\n\nAbstract: TBA\n
LOCATION:https://researchseminars.org/talk/CMO-21w5208/2/
END:VEVENT
BEGIN:VEVENT
SUMMARY:Seyed Mohammad Taghavi (Laval University)
DTSTART:20210607T161000Z
DTEND:20210607T163500Z
DTSTAMP:20260422T185127Z
UID:CMO-21w5208/3
DESCRIPTION:Title: <a href="https://researchseminars.org/talk/CMO-21w5208/
 3/">Dynamics of the buoyant injection of a viscoplastic fluid in a confine
 d geometry</a>\nby Seyed Mohammad Taghavi (Laval University) as part of CM
 O workshop: XX International Workshop on Numerical Methods for Non-Newtoni
 an Flows\n\nAbstract: TBA\n
LOCATION:https://researchseminars.org/talk/CMO-21w5208/3/
END:VEVENT
BEGIN:VEVENT
SUMMARY:J. Esteban López-Aguilar (UNAM)
DTSTART:20210607T163500Z
DTEND:20210607T170000Z
DTSTAMP:20260422T185127Z
UID:CMO-21w5208/4
DESCRIPTION:Title: <a href="https://researchseminars.org/talk/CMO-21w5208/
 4/">Viscoplastic flow in a pipe of the complex cross-section with stick-sl
 ip at the wall by accelerated augmented Lagrangian method</a>\nby J. Esteb
 an López-Aguilar (UNAM) as part of CMO workshop: XX International Worksho
 p on Numerical Methods for Non-Newtonian Flows\n\nAbstract: TBA\n
LOCATION:https://researchseminars.org/talk/CMO-21w5208/4/
END:VEVENT
BEGIN:VEVENT
SUMMARY:Pierre Saramito (CNRS/University of Grenoble)
DTSTART:20210607T170000Z
DTEND:20210607T172500Z
DTSTAMP:20260422T185127Z
UID:CMO-21w5208/5
DESCRIPTION:Title: <a href="https://researchseminars.org/talk/CMO-21w5208/
 5/">A new brittle-elastoviscoplastic fluid based on the Drucker-Prager pla
 sticity</a>\nby Pierre Saramito (CNRS/University of Grenoble) as part of C
 MO workshop: XX International Workshop on Numerical Methods for Non-Newton
 ian Flows\n\nAbstract: TBA\n
LOCATION:https://researchseminars.org/talk/CMO-21w5208/5/
END:VEVENT
BEGIN:VEVENT
SUMMARY:J. Esteban López-Aguilar (UNAM)
DTSTART:20210607T172500Z
DTEND:20210607T175000Z
DTSTAMP:20260422T185127Z
UID:CMO-21w5208/6
DESCRIPTION:Title: <a href="https://researchseminars.org/talk/CMO-21w5208/
 6/">Displacement flows in eccentric horizontal annuli</a>\nby J. Esteban L
 ópez-Aguilar (UNAM) as part of CMO workshop: XX International Workshop on
  Numerical Methods for Non-Newtonian Flows\n\nAbstract: TBA\n
LOCATION:https://researchseminars.org/talk/CMO-21w5208/6/
END:VEVENT
BEGIN:VEVENT
SUMMARY:Emad Chaparian (University of British Columbia)
DTSTART:20210607T175000Z
DTEND:20210607T181500Z
DTSTAMP:20260422T185127Z
UID:CMO-21w5208/7
DESCRIPTION:Title: <a href="https://researchseminars.org/talk/CMO-21w5208/
 7/">Yield-stress fluids in porous media: effect of complex rheological beh
 aviours and recent advances</a>\nby Emad Chaparian (University of British 
 Columbia) as part of CMO workshop: XX International Workshop on Numerical 
 Methods for Non-Newtonian Flows\n\nAbstract: TBA\n
LOCATION:https://researchseminars.org/talk/CMO-21w5208/7/
END:VEVENT
BEGIN:VEVENT
SUMMARY:Martien Hulsen (Eindhoven University of Technology)
DTSTART:20210607T184000Z
DTEND:20210607T190500Z
DTSTAMP:20260422T185127Z
UID:CMO-21w5208/8
DESCRIPTION:Title: <a href="https://researchseminars.org/talk/CMO-21w5208/
 8/">Comparing the numerical stability of four positive (semi-)definite ref
 ormulations for viscoelastic constitutive models</a>\nby Martien Hulsen (E
 indhoven University of Technology) as part of CMO workshop: XX Internation
 al Workshop on Numerical Methods for Non-Newtonian Flows\n\nAbstract: TBA\
 n
LOCATION:https://researchseminars.org/talk/CMO-21w5208/8/
END:VEVENT
BEGIN:VEVENT
SUMMARY:J. Esteban López-Aguilar (UNAM)
DTSTART:20210607T190500Z
DTEND:20210607T193000Z
DTSTAMP:20260422T185127Z
UID:CMO-21w5208/9
DESCRIPTION:Title: <a href="https://researchseminars.org/talk/CMO-21w5208/
 9/">Flow past sphere simulations of wormlike micellar solutions</a>\nby J.
  Esteban López-Aguilar (UNAM) as part of CMO workshop: XX International W
 orkshop on Numerical Methods for Non-Newtonian Flows\n\nAbstract: TBA\n
LOCATION:https://researchseminars.org/talk/CMO-21w5208/9/
END:VEVENT
BEGIN:VEVENT
SUMMARY:J. Esteban López-Aguilar (UNAM)
DTSTART:20210607T193000Z
DTEND:20210607T195500Z
DTSTAMP:20260422T185127Z
UID:CMO-21w5208/10
DESCRIPTION:Title: <a href="https://researchseminars.org/talk/CMO-21w5208/
 10/">Calculation of the structure factor in complex fluids</a>\nby J. Este
 ban López-Aguilar (UNAM) as part of CMO workshop: XX International Worksh
 op on Numerical Methods for Non-Newtonian Flows\n\nAbstract: TBA\n
LOCATION:https://researchseminars.org/talk/CMO-21w5208/10/
END:VEVENT
BEGIN:VEVENT
SUMMARY:Tim Phillips (Cardiff University)
DTSTART:20210607T195500Z
DTEND:20210607T202000Z
DTSTAMP:20260422T185127Z
UID:CMO-21w5208/11
DESCRIPTION:Title: <a href="https://researchseminars.org/talk/CMO-21w5208/
 11/">Large amplitude oscillatory shear flow simulation of complex fluids u
 sing micro-macro approach with transient network dynamics</a>\nby Tim Phil
 lips (Cardiff University) as part of CMO workshop: XX International Worksh
 op on Numerical Methods for Non-Newtonian Flows\n\nAbstract: TBA\n
LOCATION:https://researchseminars.org/talk/CMO-21w5208/11/
END:VEVENT
BEGIN:VEVENT
SUMMARY:Lucas E. Quintero F (University of Delaware)
DTSTART:20210607T202000Z
DTEND:20210607T204500Z
DTSTAMP:20260422T185127Z
UID:CMO-21w5208/12
DESCRIPTION:Title: <a href="https://researchseminars.org/talk/CMO-21w5208/
 12/">Computation of Transient networks of FENE dumbbells</a>\nby Lucas E. 
 Quintero F (University of Delaware) as part of CMO workshop: XX Internatio
 nal Workshop on Numerical Methods for Non-Newtonian Flows\n\nAbstract: TBA
 \n
LOCATION:https://researchseminars.org/talk/CMO-21w5208/12/
END:VEVENT
BEGIN:VEVENT
SUMMARY:J. Esteban López-Aguilar (UNAM)
DTSTART:20210607T204500Z
DTEND:20210607T211000Z
DTSTAMP:20260422T185127Z
UID:CMO-21w5208/13
DESCRIPTION:Title: <a href="https://researchseminars.org/talk/CMO-21w5208/
 13/">Shear-banded flows and elastic instabilities of wormlike micellar sol
 utions in microfluidic devices</a>\nby J. Esteban López-Aguilar (UNAM) as
  part of CMO workshop: XX International Workshop on Numerical Methods for 
 Non-Newtonian Flows\n\nAbstract: TBA\n
LOCATION:https://researchseminars.org/talk/CMO-21w5208/13/
END:VEVENT
BEGIN:VEVENT
SUMMARY:Michael Graham (University of Wisconsin-Madison)
DTSTART:20210608T153000Z
DTEND:20210608T154500Z
DTSTAMP:20260422T185127Z
UID:CMO-21w5208/14
DESCRIPTION:Title: <a href="https://researchseminars.org/talk/CMO-21w5208/
 14/">Opening - Day 2</a>\nby Michael Graham (University of Wisconsin-Madis
 on) as part of CMO workshop: XX International Workshop on Numerical Method
 s for Non-Newtonian Flows\n\nAbstract: TBA\n
LOCATION:https://researchseminars.org/talk/CMO-21w5208/14/
END:VEVENT
BEGIN:VEVENT
SUMMARY:Cassio Oishi (Sao Paulo State University)
DTSTART:20210608T154500Z
DTEND:20210608T161000Z
DTSTAMP:20260422T185127Z
UID:CMO-21w5208/15
DESCRIPTION:Title: <a href="https://researchseminars.org/talk/CMO-21w5208/
 15/">Computational simulations of viscoelastic droplet collisions</a>\nby 
 Cassio Oishi (Sao Paulo State University) as part of CMO workshop: XX Inte
 rnational Workshop on Numerical Methods for Non-Newtonian Flows\n\nAbstrac
 t: TBA\n
LOCATION:https://researchseminars.org/talk/CMO-21w5208/15/
END:VEVENT
BEGIN:VEVENT
SUMMARY:Sooran Noroozi (Université Laval)
DTSTART:20210608T161000Z
DTEND:20210608T163500Z
DTSTAMP:20260422T185127Z
UID:CMO-21w5208/16
DESCRIPTION:Title: <a href="https://researchseminars.org/talk/CMO-21w5208/
 16/">On the study of viscoelastic nanofiber formation through the centrifu
 gal spinning method</a>\nby Sooran Noroozi (Université Laval) as part of 
 CMO workshop: XX International Workshop on Numerical Methods for Non-Newto
 nian Flows\n\nAbstract: TBA\n
LOCATION:https://researchseminars.org/talk/CMO-21w5208/16/
END:VEVENT
BEGIN:VEVENT
SUMMARY:Arezoo Ardekani (Purdue University)
DTSTART:20210608T163500Z
DTEND:20210608T170000Z
DTSTAMP:20260422T185127Z
UID:CMO-21w5208/17
DESCRIPTION:Title: <a href="https://researchseminars.org/talk/CMO-21w5208/
 17/">Numerical simulation of viscoelastic fluids through porous media: flo
 w instability and particle transport</a>\nby Arezoo Ardekani (Purdue Unive
 rsity) as part of CMO workshop: XX International Workshop on Numerical Met
 hods for Non-Newtonian Flows\n\nAbstract: TBA\n
LOCATION:https://researchseminars.org/talk/CMO-21w5208/17/
END:VEVENT
BEGIN:VEVENT
SUMMARY:Eric Shaqfeh (Stanford)
DTSTART:20210608T170000Z
DTEND:20210608T172500Z
DTSTAMP:20260422T185127Z
UID:CMO-21w5208/18
DESCRIPTION:Title: <a href="https://researchseminars.org/talk/CMO-21w5208/
 18/">The effect of swirl on swimming in elastic liquids</a>\nby Eric Shaqf
 eh (Stanford) as part of CMO workshop: XX International Workshop on Numeri
 cal Methods for Non-Newtonian Flows\n\nAbstract: TBA\n
LOCATION:https://researchseminars.org/talk/CMO-21w5208/18/
END:VEVENT
BEGIN:VEVENT
SUMMARY:J. Esteban López-Aguilar (UNAM)
DTSTART:20210608T172500Z
DTEND:20210608T175000Z
DTSTAMP:20260422T185127Z
UID:CMO-21w5208/19
DESCRIPTION:Title: <a href="https://researchseminars.org/talk/CMO-21w5208/
 19/">Computational Interfacial rheology</a>\nby J. Esteban López-Aguilar 
 (UNAM) as part of CMO workshop: XX International Workshop on Numerical Met
 hods for Non-Newtonian Flows\n\nAbstract: TBA\n
LOCATION:https://researchseminars.org/talk/CMO-21w5208/19/
END:VEVENT
BEGIN:VEVENT
SUMMARY:Nick Jaensson (Eindhoven University of Technology)
DTSTART:20210608T175000Z
DTEND:20210608T181500Z
DTSTAMP:20260422T185127Z
UID:CMO-21w5208/20
DESCRIPTION:Title: <a href="https://researchseminars.org/talk/CMO-21w5208/
 20/">Drag on a spherical particle at the air-liquid interface: Interplay b
 etween compressibility\, Marangoni flow and surface viscosities</a>\nby Ni
 ck Jaensson (Eindhoven University of Technology) as part of CMO workshop: 
 XX International Workshop on Numerical Methods for Non-Newtonian Flows\n\n
 Abstract: TBA\n
LOCATION:https://researchseminars.org/talk/CMO-21w5208/20/
END:VEVENT
BEGIN:VEVENT
SUMMARY:Fernando Tavares de Pinho (Universidade do Porto)
DTSTART:20210608T184000Z
DTEND:20210608T190500Z
DTSTAMP:20260422T185127Z
UID:CMO-21w5208/21
DESCRIPTION:Title: <a href="https://researchseminars.org/talk/CMO-21w5208/
 21/">LES models for wall-free turbulent flows of viscoelastic FENE-P fluid
 s</a>\nby Fernando Tavares de Pinho (Universidade do Porto) as part of CMO
  workshop: XX International Workshop on Numerical Methods for Non-Newtonia
 n Flows\n\nAbstract: TBA\n
LOCATION:https://researchseminars.org/talk/CMO-21w5208/21/
END:VEVENT
BEGIN:VEVENT
SUMMARY:Sujit Datta (Princeton University)
DTSTART:20210608T190500Z
DTEND:20210608T193000Z
DTSTAMP:20260422T185127Z
UID:CMO-21w5208/22
DESCRIPTION:Title: <a href="https://researchseminars.org/talk/CMO-21w5208/
 22/">Elastic turbulence in porous media</a>\nby Sujit Datta (Princeton Uni
 versity) as part of CMO workshop: XX International Workshop on Numerical M
 ethods for Non-Newtonian Flows\n\nAbstract: TBA\n
LOCATION:https://researchseminars.org/talk/CMO-21w5208/22/
END:VEVENT
BEGIN:VEVENT
SUMMARY:Li Xi (McMaster University)
DTSTART:20210608T193000Z
DTEND:20210608T195500Z
DTSTAMP:20260422T185127Z
UID:CMO-21w5208/23
DESCRIPTION:Title: <a href="https://researchseminars.org/talk/CMO-21w5208/
 23/">Non-asymptotic elastoinertial turbulence for asymptotic drag reductio
 n</a>\nby Li Xi (McMaster University) as part of CMO workshop: XX Internat
 ional Workshop on Numerical Methods for Non-Newtonian Flows\n\nAbstract: T
 BA\n
LOCATION:https://researchseminars.org/talk/CMO-21w5208/23/
END:VEVENT
BEGIN:VEVENT
SUMMARY:Michael Graham (University of Wisconsin-Madison)
DTSTART:20210608T195500Z
DTEND:20210608T202000Z
DTSTAMP:20260422T185127Z
UID:CMO-21w5208/24
DESCRIPTION:Title: <a href="https://researchseminars.org/talk/CMO-21w5208/
 24/">Tollmien-Schlichting route to elastoinertial turbulence</a>\nby Micha
 el Graham (University of Wisconsin-Madison) as part of CMO workshop: XX In
 ternational Workshop on Numerical Methods for Non-Newtonian Flows\n\nAbstr
 act: TBA\n
LOCATION:https://researchseminars.org/talk/CMO-21w5208/24/
END:VEVENT
BEGIN:VEVENT
SUMMARY:Mônica Naccache (Pontifícia Universidade Católica do Rio de Jan
 eiro)
DTSTART:20210608T202000Z
DTEND:20210608T204500Z
DTSTAMP:20260422T185127Z
UID:CMO-21w5208/25
DESCRIPTION:Title: <a href="https://researchseminars.org/talk/CMO-21w5208/
 25/">Hydrodynamic instabilities in flow displacement through irregular ann
 ular ducts</a>\nby Mônica Naccache (Pontifícia Universidade Católica do
  Rio de Janeiro) as part of CMO workshop: XX International Workshop on Num
 erical Methods for Non-Newtonian Flows\n\nAbstract: TBA\n
LOCATION:https://researchseminars.org/talk/CMO-21w5208/25/
END:VEVENT
BEGIN:VEVENT
SUMMARY:Michael Graham (University of Wisconsin-Madison)
DTSTART:20210608T204500Z
DTEND:20210608T211000Z
DTSTAMP:20260422T185127Z
UID:CMO-21w5208/26
DESCRIPTION:Title: <a href="https://researchseminars.org/talk/CMO-21w5208/
 26/">Special Event</a>\nby Michael Graham (University of Wisconsin-Madison
 ) as part of CMO workshop: XX International Workshop on Numerical Methods 
 for Non-Newtonian Flows\n\nAbstract: TBA\n
LOCATION:https://researchseminars.org/talk/CMO-21w5208/26/
END:VEVENT
BEGIN:VEVENT
SUMMARY:Ian Frigaard (University of British Columbia)
DTSTART:20210609T153000Z
DTEND:20210609T154500Z
DTSTAMP:20260422T185127Z
UID:CMO-21w5208/27
DESCRIPTION:Title: <a href="https://researchseminars.org/talk/CMO-21w5208/
 27/">Opening - Day 3</a>\nby Ian Frigaard (University of British Columbia)
  as part of CMO workshop: XX International Workshop on Numerical Methods f
 or Non-Newtonian Flows\n\nAbstract: TBA\n
LOCATION:https://researchseminars.org/talk/CMO-21w5208/27/
END:VEVENT
BEGIN:VEVENT
SUMMARY:Romain Mari (Univ. Grenoble Alpes & CNRS\, LIPHy)
DTSTART:20210609T154500Z
DTEND:20210609T161000Z
DTSTAMP:20260422T185127Z
UID:CMO-21w5208/28
DESCRIPTION:Title: <a href="https://researchseminars.org/talk/CMO-21w5208/
 28/">Nonlocality in the transient rheology of non-Brownian suspensions</a>
 \nby Romain Mari (Univ. Grenoble Alpes & CNRS\, LIPHy) as part of CMO work
 shop: XX International Workshop on Numerical Methods for Non-Newtonian Flo
 ws\n\nAbstract: TBA\n
LOCATION:https://researchseminars.org/talk/CMO-21w5208/28/
END:VEVENT
BEGIN:VEVENT
SUMMARY:Arturo Bjørklund Winters (Technische University Berlin)
DTSTART:20210609T161000Z
DTEND:20210609T163500Z
DTSTAMP:20260422T185127Z
UID:CMO-21w5208/29
DESCRIPTION:Title: <a href="https://researchseminars.org/talk/CMO-21w5208/
 29/">A numerical approach to the alignment tensor in flow of fiber suspens
 ions</a>\nby Arturo Bjørklund Winters (Technische University Berlin) as p
 art of CMO workshop: XX International Workshop on Numerical Methods for No
 n-Newtonian Flows\n\nAbstract: TBA\n
LOCATION:https://researchseminars.org/talk/CMO-21w5208/29/
END:VEVENT
BEGIN:VEVENT
SUMMARY:J. Esteban López-Aguilar (UNAM)
DTSTART:20210609T163500Z
DTEND:20210609T170000Z
DTSTAMP:20260422T185127Z
UID:CMO-21w5208/30
DESCRIPTION:Title: <a href="https://researchseminars.org/talk/CMO-21w5208/
 30/">Unifying disparate non-Newtonian regimes in suspensions: One model to
  unify them all</a>\nby J. Esteban López-Aguilar (UNAM) as part of CMO wo
 rkshop: XX International Workshop on Numerical Methods for Non-Newtonian F
 lows\n\nAbstract: TBA\n
LOCATION:https://researchseminars.org/talk/CMO-21w5208/30/
END:VEVENT
BEGIN:VEVENT
SUMMARY:Becca Thomases (University of California\, Davis)
DTSTART:20210609T170000Z
DTEND:20210609T181500Z
DTSTAMP:20260422T185127Z
UID:CMO-21w5208/31
DESCRIPTION:Title: <a href="https://researchseminars.org/talk/CMO-21w5208/
 31/">JNNFM Complex Fluids Seminar - Quantifying fluid transitions for diff
 erent strokes with applications to micro-organisms swimming in viscoelasti
 c fluids</a>\nby Becca Thomases (University of California\, Davis) as part
  of CMO workshop: XX International Workshop on Numerical Methods for Non-N
 ewtonian Flows\n\nAbstract: TBA\n
LOCATION:https://researchseminars.org/talk/CMO-21w5208/31/
END:VEVENT
BEGIN:VEVENT
SUMMARY:Kirti Chandra Sahu (Indian Institute of Technology Hyderabad)
DTSTART:20210609T184000Z
DTEND:20210609T190500Z
DTSTAMP:20260422T185127Z
UID:CMO-21w5208/32
DESCRIPTION:Title: <a href="https://researchseminars.org/talk/CMO-21w5208/
 32/">A numerical study of pressure-driven two-layer channel flow involving
  a fluid with time-dependent viscosity</a>\nby Kirti Chandra Sahu (Indian 
 Institute of Technology Hyderabad) as part of CMO workshop: XX Internation
 al Workshop on Numerical Methods for Non-Newtonian Flows\n\nAbstract: TBA\
 n
LOCATION:https://researchseminars.org/talk/CMO-21w5208/32/
END:VEVENT
BEGIN:VEVENT
SUMMARY:J. Esteban López-Aguilar (UNAM)
DTSTART:20210609T190500Z
DTEND:20210609T193000Z
DTSTAMP:20260422T185127Z
UID:CMO-21w5208/33
DESCRIPTION:Title: <a href="https://researchseminars.org/talk/CMO-21w5208/
 33/">A coupling method for solving multiphase flow problems</a>\nby J. Est
 eban López-Aguilar (UNAM) as part of CMO workshop: XX International Works
 hop on Numerical Methods for Non-Newtonian Flows\n\nAbstract: TBA\n
LOCATION:https://researchseminars.org/talk/CMO-21w5208/33/
END:VEVENT
BEGIN:VEVENT
SUMMARY:Pengtao Yue (Virginia Polytechnic Institute and State University)
DTSTART:20210609T193000Z
DTEND:20210609T195500Z
DTSTAMP:20260422T185127Z
UID:CMO-21w5208/34
DESCRIPTION:Title: <a href="https://researchseminars.org/talk/CMO-21w5208/
 34/">Modeling and simulation of hydrogel interfacial dynamics</a>\nby Peng
 tao Yue (Virginia Polytechnic Institute and State University) as part of C
 MO workshop: XX International Workshop on Numerical Methods for Non-Newton
 ian Flows\n\nAbstract: TBA\n
LOCATION:https://researchseminars.org/talk/CMO-21w5208/34/
END:VEVENT
BEGIN:VEVENT
SUMMARY:J. Esteban López-Aguilar (UNAM)
DTSTART:20210609T195500Z
DTEND:20210609T202000Z
DTSTAMP:20260422T185127Z
UID:CMO-21w5208/35
DESCRIPTION:Title: <a href="https://researchseminars.org/talk/CMO-21w5208/
 35/">Rinsing simulations of milk concentrates in spiral-wound membrane mod
 ules using OpenFOAM</a>\nby J. Esteban López-Aguilar (UNAM) as part of CM
 O workshop: XX International Workshop on Numerical Methods for Non-Newtoni
 an Flows\n\nAbstract: TBA\n
LOCATION:https://researchseminars.org/talk/CMO-21w5208/35/
END:VEVENT
BEGIN:VEVENT
SUMMARY:Kostis Zografos (University of Strathclyde UK)
DTSTART:20210609T202000Z
DTEND:20210609T204500Z
DTSTAMP:20260422T185127Z
UID:CMO-21w5208/36
DESCRIPTION:Title: <a href="https://researchseminars.org/talk/CMO-21w5208/
 36/">Numerical simulations using the closed from Adaptive Length Scake (AL
 S-C) model</a>\nby Kostis Zografos (University of Strathclyde UK) as part 
 of CMO workshop: XX International Workshop on Numerical Methods for Non-Ne
 wtonian Flows\n\nAbstract: TBA\n
LOCATION:https://researchseminars.org/talk/CMO-21w5208/36/
END:VEVENT
BEGIN:VEVENT
SUMMARY:Patrick Farrell (University of Oxford)
DTSTART:20210609T204500Z
DTEND:20210609T211000Z
DTSTAMP:20260422T185127Z
UID:CMO-21w5208/37
DESCRIPTION:Title: <a href="https://researchseminars.org/talk/CMO-21w5208/
 37/">Augmented Lagrangian preconditioners for anisothermal\, implicitly-co
 nstituted flow</a>\nby Patrick Farrell (University of Oxford) as part of C
 MO workshop: XX International Workshop on Numerical Methods for Non-Newton
 ian Flows\n\nAbstract: TBA\n
LOCATION:https://researchseminars.org/talk/CMO-21w5208/37/
END:VEVENT
BEGIN:VEVENT
SUMMARY:Michael Graham (University of Wisconsin-Madison)
DTSTART:20210609T211000Z
DTEND:20210609T220000Z
DTSTAMP:20260422T185127Z
UID:CMO-21w5208/38
DESCRIPTION:Title: <a href="https://researchseminars.org/talk/CMO-21w5208/
 38/">Discussions\, wrap up and closing</a>\nby Michael Graham (University 
 of Wisconsin-Madison) as part of CMO workshop: XX International Workshop o
 n Numerical Methods for Non-Newtonian Flows\n\nAbstract: TBA\n
LOCATION:https://researchseminars.org/talk/CMO-21w5208/38/
END:VEVENT
END:VCALENDAR
