BEGIN:VCALENDAR
VERSION:2.0
PRODID:researchseminars.org
CALSCALE:GREGORIAN
X-WR-CALNAME:researchseminars.org
BEGIN:VEVENT
SUMMARY:Guido Montúfar (UCLA)
DTSTART:20200622T170000Z
DTEND:20200622T173000Z
DTSTAMP:20260422T212603Z
UID:AS2020/1
DESCRIPTION:Title: <a href="https://researchseminars.org/talk/AS2020/1/">M
 inimum optimal transport distance estimation on a variety</a>\nby Guido Mo
 ntúfar (UCLA) as part of Algebraic Statistics 2020\n\nAbstract: TBA\n
LOCATION:https://researchseminars.org/talk/AS2020/1/
END:VEVENT
BEGIN:VEVENT
SUMMARY:Isabelle Shankar (UC Berkeley)
DTSTART:20200622T173000Z
DTEND:20200622T180000Z
DTSTAMP:20260422T212603Z
UID:AS2020/2
DESCRIPTION:Title: <a href="https://researchseminars.org/talk/AS2020/2/">S
 ymmetry adapted Gram apectrahedra</a>\nby Isabelle Shankar (UC Berkeley) a
 s part of Algebraic Statistics 2020\n\nAbstract: TBA\n
LOCATION:https://researchseminars.org/talk/AS2020/2/
END:VEVENT
BEGIN:VEVENT
SUMMARY:Carlos Améndola (TU Munich)
DTSTART:20200622T180000Z
DTEND:20200622T183000Z
DTSTAMP:20260422T212603Z
UID:AS2020/3
DESCRIPTION:Title: <a href="https://researchseminars.org/talk/AS2020/3/">C
 onditional independence in max-linear Bayesian networks</a>\nby Carlos Am
 éndola (TU Munich) as part of Algebraic Statistics 2020\n\nAbstract: TBA\
 n
LOCATION:https://researchseminars.org/talk/AS2020/3/
END:VEVENT
BEGIN:VEVENT
SUMMARY:Colby Long (Wooster College)
DTSTART:20200622T183000Z
DTEND:20200622T190000Z
DTSTAMP:20260422T212603Z
UID:AS2020/4
DESCRIPTION:Title: <a href="https://researchseminars.org/talk/AS2020/4/">H
 ypothesis testing with rank conditions in phylogenetics</a>\nby Colby Long
  (Wooster College) as part of Algebraic Statistics 2020\n\nAbstract: TBA\n
LOCATION:https://researchseminars.org/talk/AS2020/4/
END:VEVENT
BEGIN:VEVENT
SUMMARY:Liam Solus (ETH)
DTSTART:20200623T170000Z
DTEND:20200623T173000Z
DTSTAMP:20260422T212603Z
UID:AS2020/5
DESCRIPTION:Title: <a href="https://researchseminars.org/talk/AS2020/5/">I
 nterventional varieties</a>\nby Liam Solus (ETH) as part of Algebraic Stat
 istics 2020\n\nAbstract: TBA\n
LOCATION:https://researchseminars.org/talk/AS2020/5/
END:VEVENT
BEGIN:VEVENT
SUMMARY:Seth Gerberding (University of South Dakota)
DTSTART:20200623T173000Z
DTEND:20200623T180000Z
DTSTAMP:20260422T212603Z
UID:AS2020/6
DESCRIPTION:Title: <a href="https://researchseminars.org/talk/AS2020/6/">I
 dentifiability of linear compartmental models: the effect of moving inputs
 \, outputs\, and leaks</a>\nby Seth Gerberding (University of South Dakota
 ) as part of Algebraic Statistics 2020\n\nAbstract: TBA\n
LOCATION:https://researchseminars.org/talk/AS2020/6/
END:VEVENT
BEGIN:VEVENT
SUMMARY:Hector Baños (Georgia Tech)
DTSTART:20200623T180000Z
DTEND:20200623T183000Z
DTSTAMP:20260422T212603Z
UID:AS2020/7
DESCRIPTION:Title: <a href="https://researchseminars.org/talk/AS2020/7/">I
 dentifiability of species networks using the log-det distance</a>\nby Hect
 or Baños (Georgia Tech) as part of Algebraic Statistics 2020\n\nAbstract:
  TBA\n
LOCATION:https://researchseminars.org/talk/AS2020/7/
END:VEVENT
BEGIN:VEVENT
SUMMARY:Jane Coons (North Carolina State)
DTSTART:20200623T183000Z
DTEND:20200623T190000Z
DTSTAMP:20260422T212603Z
UID:AS2020/8
DESCRIPTION:Title: <a href="https://researchseminars.org/talk/AS2020/8/">Q
 uasi-independence models with rational maximum likelihood estimate</a>\nby
  Jane Coons (North Carolina State) as part of Algebraic Statistics 2020\n\
 nAbstract: TBA\n
LOCATION:https://researchseminars.org/talk/AS2020/8/
END:VEVENT
BEGIN:VEVENT
SUMMARY:Ruriko Yoshida (Naval Postgraduate School)
DTSTART:20200624T170000Z
DTEND:20200624T173000Z
DTSTAMP:20260422T212603Z
UID:AS2020/9
DESCRIPTION:Title: <a href="https://researchseminars.org/talk/AS2020/9/">T
 ropical support vector machines</a>\nby Ruriko Yoshida (Naval Postgraduate
  School) as part of Algebraic Statistics 2020\n\nAbstract: TBA\n
LOCATION:https://researchseminars.org/talk/AS2020/9/
END:VEVENT
BEGIN:VEVENT
SUMMARY:Alexandros Grosdos (Osnabrück University)
DTSTART:20200624T173000Z
DTEND:20200624T180000Z
DTSTAMP:20260422T212603Z
UID:AS2020/10
DESCRIPTION:Title: <a href="https://researchseminars.org/talk/AS2020/10/">
 Exact solutions in log-concave maximum likelihood estimation</a>\nby Alexa
 ndros Grosdos (Osnabrück University) as part of Algebraic Statistics 2020
 \n\nAbstract: TBA\n
LOCATION:https://researchseminars.org/talk/AS2020/10/
END:VEVENT
BEGIN:VEVENT
SUMMARY:Pratik Misra (North Carolina State)
DTSTART:20200624T180000Z
DTEND:20200624T183000Z
DTSTAMP:20260422T212603Z
UID:AS2020/11
DESCRIPTION:Title: <a href="https://researchseminars.org/talk/AS2020/11/">
 Gaussian graphical models with toric vanishing ideals</a>\nby Pratik Misra
  (North Carolina State) as part of Algebraic Statistics 2020\n\nAbstract: 
 TBA\n
LOCATION:https://researchseminars.org/talk/AS2020/11/
END:VEVENT
BEGIN:VEVENT
SUMMARY:Daniel Bernstein (MIT)
DTSTART:20200624T183000Z
DTEND:20200624T190000Z
DTSTAMP:20260422T212603Z
UID:AS2020/12
DESCRIPTION:Title: <a href="https://researchseminars.org/talk/AS2020/12/">
 Rigidity of symmetry-forced frameworks</a>\nby Daniel Bernstein (MIT) as p
 art of Algebraic Statistics 2020\n\nAbstract: TBA\n
LOCATION:https://researchseminars.org/talk/AS2020/12/
END:VEVENT
BEGIN:VEVENT
SUMMARY:Marta Casanellas (Universitat Politècnica de Catalunya)
DTSTART:20200625T170000Z
DTEND:20200625T173000Z
DTSTAMP:20260422T212603Z
UID:AS2020/13
DESCRIPTION:Title: <a href="https://researchseminars.org/talk/AS2020/13/">
 The embedding problem for Markov matrices</a>\nby Marta Casanellas (Univer
 sitat Politècnica de Catalunya) as part of Algebraic Statistics 2020\n\nA
 bstract: TBA\n
LOCATION:https://researchseminars.org/talk/AS2020/13/
END:VEVENT
BEGIN:VEVENT
SUMMARY:Naoki Hayashi (Tokyo Institute of Tech / NTT DATA Mathematical Sys
 tems Inc.)
DTSTART:20200625T173000Z
DTEND:20200625T180000Z
DTSTAMP:20260422T212603Z
UID:AS2020/14
DESCRIPTION:Title: <a href="https://researchseminars.org/talk/AS2020/14/">
 Bayesian generalization error and real log canonical threshold in non-nega
 tive matrix factorization and latent Dirichlet allocation</a>\nby Naoki Ha
 yashi (Tokyo Institute of Tech / NTT DATA Mathematical Systems Inc.) as pa
 rt of Algebraic Statistics 2020\n\nAbstract: TBA\n
LOCATION:https://researchseminars.org/talk/AS2020/14/
END:VEVENT
BEGIN:VEVENT
SUMMARY:Frank Röttger (MPI MiS Leipzig)
DTSTART:20200625T180000Z
DTEND:20200625T183000Z
DTSTAMP:20260422T212603Z
UID:AS2020/15
DESCRIPTION:Title: <a href="https://researchseminars.org/talk/AS2020/15/">
 A central limit theorem for the two-sided descent statistic on Coxeter gro
 ups</a>\nby Frank Röttger (MPI MiS Leipzig) as part of Algebraic Statisti
 cs 2020\n\nAbstract: TBA\n
LOCATION:https://researchseminars.org/talk/AS2020/15/
END:VEVENT
BEGIN:VEVENT
SUMMARY:Muhammad Ardiyansyah (Aalto University)
DTSTART:20200625T183000Z
DTEND:20200625T190000Z
DTSTAMP:20260422T212603Z
UID:AS2020/16
DESCRIPTION:Title: <a href="https://researchseminars.org/talk/AS2020/16/">
 Model embeddability for symmetric group-based models</a>\nby Muhammad Ardi
 yansyah (Aalto University) as part of Algebraic Statistics 2020\n\nAbstrac
 t: TBA\n
LOCATION:https://researchseminars.org/talk/AS2020/16/
END:VEVENT
BEGIN:VEVENT
SUMMARY:Donald Richards (Penn State)
DTSTART:20200626T170000Z
DTEND:20200626T173000Z
DTSTAMP:20260422T212603Z
UID:AS2020/17
DESCRIPTION:Title: <a href="https://researchseminars.org/talk/AS2020/17/">
 Sums and powers of totally positive functions</a>\nby Donald Richards (Pen
 n State) as part of Algebraic Statistics 2020\n\nAbstract: TBA\n
LOCATION:https://researchseminars.org/talk/AS2020/17/
END:VEVENT
BEGIN:VEVENT
SUMMARY:Toru Imai (Kyoto University)
DTSTART:20200626T173000Z
DTEND:20200626T180000Z
DTSTAMP:20260422T212603Z
UID:AS2020/18
DESCRIPTION:Title: <a href="https://researchseminars.org/talk/AS2020/18/">
 Estimating real log canonical thresholds</a>\nby Toru Imai (Kyoto Universi
 ty) as part of Algebraic Statistics 2020\n\nAbstract: TBA\n
LOCATION:https://researchseminars.org/talk/AS2020/18/
END:VEVENT
BEGIN:VEVENT
SUMMARY:Ben Hollering (North Carolina State)
DTSTART:20200626T180000Z
DTEND:20200626T183000Z
DTSTAMP:20260422T212603Z
UID:AS2020/19
DESCRIPTION:Title: <a href="https://researchseminars.org/talk/AS2020/19/">
 Identifiability in phylogenetics using algebraic matroids</a>\nby Ben Holl
 ering (North Carolina State) as part of Algebraic Statistics 2020\n\nAbstr
 act: TBA\n
LOCATION:https://researchseminars.org/talk/AS2020/19/
END:VEVENT
BEGIN:VEVENT
SUMMARY:Elina Robeva (University of British Columbia)
DTSTART:20200626T183000Z
DTEND:20200626T190000Z
DTSTAMP:20260422T212603Z
UID:AS2020/20
DESCRIPTION:Title: <a href="https://researchseminars.org/talk/AS2020/20/">
 Superresolution imaging and total positivity</a>\nby Elina Robeva (Univers
 ity of British Columbia) as part of Algebraic Statistics 2020\n\nAbstract:
  TBA\n
LOCATION:https://researchseminars.org/talk/AS2020/20/
END:VEVENT
END:VCALENDAR
